BEGIN:VCALENDAR
VERSION:2.0
PRODID:-//Unitarian Society of Hartford - ECPv6.15.18//NONSGML v1.0//EN
CALSCALE:GREGORIAN
METHOD:PUBLISH
X-WR-CALNAME:Unitarian Society of Hartford
X-ORIGINAL-URL:https://hartforduu.org
X-WR-CALDESC:Events for Unitarian Society of Hartford
REFRESH-INTERVAL;VALUE=DURATION:PT1H
X-Robots-Tag:noindex
X-PUBLISHED-TTL:PT1H
BEGIN:VTIMEZONE
TZID:America/New_York
BEGIN:DAYLIGHT
TZOFFSETFROM:-0500
TZOFFSETTO:-0400
TZNAME:EDT
DTSTART:20240310T070000
END:DAYLIGHT
BEGIN:STANDARD
TZOFFSETFROM:-0400
TZOFFSETTO:-0500
TZNAME:EST
DTSTART:20241103T060000
END:STANDARD
BEGIN:DAYLIGHT
TZOFFSETFROM:-0500
TZOFFSETTO:-0400
TZNAME:EDT
DTSTART:20250309T070000
END:DAYLIGHT
BEGIN:STANDARD
TZOFFSETFROM:-0400
TZOFFSETTO:-0500
TZNAME:EST
DTSTART:20251102T060000
END:STANDARD
BEGIN:DAYLIGHT
TZOFFSETFROM:-0500
TZOFFSETTO:-0400
TZNAME:EDT
DTSTART:20260308T070000
END:DAYLIGHT
BEGIN:STANDARD
TZOFFSETFROM:-0400
TZOFFSETTO:-0500
TZNAME:EST
DTSTART:20261101T060000
END:STANDARD
END:VTIMEZONE
BEGIN:VEVENT
DTSTART;TZID=America/New_York:20250727T180000
DTEND;TZID=America/New_York:20250727T190000
DTSTAMP:20260420T192702
CREATED:20240703T180456Z
LAST-MODIFIED:20250325T145519Z
UID:10018250-1753639200-1753642800@hartforduu.org
SUMMARY:Recovery Dharma Group- Meditation Sanctuary
DESCRIPTION:
URL:https://hartforduu.org/event/recovery-dharma-group-meditation-sanctuary/2025-07-27/
END:VEVENT
BEGIN:VEVENT
DTSTART;TZID=America/New_York:20250726T120000
DTEND;TZID=America/New_York:20250726T160000
DTSTAMP:20260420T192702
CREATED:20250512T150100Z
LAST-MODIFIED:20250703T175525Z
UID:10021754-1753531200-1753545600@hartforduu.org
SUMMARY:Wedding - Sanctuary
DESCRIPTION:
URL:https://hartforduu.org/event/wedding-time-tba/
END:VEVENT
BEGIN:VEVENT
DTSTART;TZID=America/New_York:20250725T130000
DTEND;TZID=America/New_York:20250725T150000
DTSTAMP:20260420T192702
CREATED:20250601T193615Z
LAST-MODIFIED:20250601T193615Z
UID:10021929-1753448400-1753455600@hartforduu.org
SUMMARY:Genealogy Group - Library
DESCRIPTION:Are you interested in genealogy? You are welcome to join us wherever you are in your search\, expert or a beginner or anywhere in between. Bring a laptop or a tablet if you want to open the websites\, or just come to watch\, listen\, and help out. A notebook and a few names\, dates\, and locations is a great way to begin. Each month we will explore a different way to use free technology to learn more about your family history. Meet in the USH Library. \nContact Larry Lunden or Laura Cipriano for more information.
URL:https://hartforduu.org/event/genealogy-group-2/2025-07-25/
LOCATION:Libary/David’s Den
END:VEVENT
BEGIN:VEVENT
DTSTART;TZID=America/New_York:20250725T130000
DTEND;TZID=America/New_York:20250725T150000
DTSTAMP:20260420T192702
CREATED:20250430T104330Z
LAST-MODIFIED:20250625T144631Z
UID:10021498-1753448400-1753455600@hartforduu.org
SUMMARY:Hands & Hearts Group - Murray
DESCRIPTION:Welcome all Creative Spirits and Crafters to the new\, weekly group ‘Hands & Hearts’ on Friday afternoons from 3-5pm in Murray. Many of us already know the kind of meditative solace and cadent creativity that working with your hands can offer. This group is an opportunity to talk\, share\, relate\, and relax as we work on our projects together. Bring your knitting\, crochet work\, sewing\, quilting\, hooking\, (any kind of handwork you enjoy)\, as well as your news\, your thoughts\, your worries\, and whatever’s on your mind. There will always be available supplies in our ‘fiber library’ if you’d like to start a new project\, or try something new. If you are not a crafter but would love the camaraderie and the chance to meet new friends\, you are very welcome. \n  \nFor more information\, please contact Deana
URL:https://hartforduu.org/event/hands-hearts-group-murray-2/2025-07-25/
END:VEVENT
BEGIN:VEVENT
DTSTART;TZID=America/New_York:20250723T190000
DTEND;TZID=America/New_York:20250723T203000
DTSTAMP:20260420T192702
CREATED:20250522T201143Z
LAST-MODIFIED:20250612T142316Z
UID:10021920-1753297200-1753302600@hartforduu.org
SUMMARY:David Pontrelli Creative Writing Workshop - Fellowship Hall
DESCRIPTION:
URL:https://hartforduu.org/event/david-pontrelli-creative-writing-workshop-chapel-rental/2025-07-23/
END:VEVENT
BEGIN:VEVENT
DTSTART;TZID=America/New_York:20250722T190000
DTEND;TZID=America/New_York:20250722T210000
DTSTAMP:20260420T192702
CREATED:20250721T172556Z
LAST-MODIFIED:20250721T172556Z
UID:10022273-1753210800-1753218000@hartforduu.org
SUMMARY:HGMC Mtg - Library
DESCRIPTION:
URL:https://hartforduu.org/event/hgmc-mtg-library/
END:VEVENT
BEGIN:VEVENT
DTSTART;TZID=America/New_York:20250722T140000
DTEND;TZID=America/New_York:20250722T170000
DTSTAMP:20260420T192702
CREATED:20250422T215005Z
LAST-MODIFIED:20250422T215005Z
UID:10021445-1753192800-1753203600@hartforduu.org
SUMMARY:Magdalene Circle
DESCRIPTION:This group meets the second Saturday of the month from 2 to 5 p.m. and explores the Divine Feminine principle with particular attention to the historical\, archetypal\, and spiritual Mary Magdalene. We look at ancient and modern material as well as practices we can integrate into our daily lives to expand Love of ourselves and each other. If you are interested in participating in this group please contact Lisa Burch before attendance for orientation. A free-will donation is requested\, to be directed to USH.
URL:https://hartforduu.org/event/magdalene-circle/
END:VEVENT
BEGIN:VEVENT
DTSTART;TZID=America/New_York:20250721T190000
DTEND;TZID=America/New_York:20250721T203000
DTSTAMP:20260420T192702
CREATED:20250616T171348Z
LAST-MODIFIED:20250713T153643Z
UID:10022037-1753124400-1753129800@hartforduu.org
SUMMARY:David Pontrelli Creative Writing Workshop – Fellowship Hall
DESCRIPTION:
URL:https://hartforduu.org/event/david-pontrelli-creative-writing-workshop-fellowship-hall/2025-07-21/
END:VEVENT
BEGIN:VEVENT
DTSTART;TZID=America/New_York:20250720T180000
DTEND;TZID=America/New_York:20250720T190000
DTSTAMP:20260420T192702
CREATED:20240703T180456Z
LAST-MODIFIED:20250325T145519Z
UID:10018249-1753034400-1753038000@hartforduu.org
SUMMARY:Recovery Dharma Group- Meditation Sanctuary
DESCRIPTION:
URL:https://hartforduu.org/event/recovery-dharma-group-meditation-sanctuary/2025-07-20/
END:VEVENT
END:VCALENDAR