BEGIN:VCALENDAR
VERSION:2.0
PRODID:-//Unitarian Society of Hartford - ECPv6.15.18//NONSGML v1.0//EN
CALSCALE:GREGORIAN
METHOD:PUBLISH
X-WR-CALNAME:Unitarian Society of Hartford
X-ORIGINAL-URL:https://hartforduu.org
X-WR-CALDESC:Events for Unitarian Society of Hartford
REFRESH-INTERVAL;VALUE=DURATION:PT1H
X-Robots-Tag:noindex
X-PUBLISHED-TTL:PT1H
BEGIN:VTIMEZONE
TZID:America/New_York
BEGIN:DAYLIGHT
TZOFFSETFROM:-0500
TZOFFSETTO:-0400
TZNAME:EDT
DTSTART:20260308T070000
END:DAYLIGHT
BEGIN:STANDARD
TZOFFSETFROM:-0400
TZOFFSETTO:-0500
TZNAME:EST
DTSTART:20261101T060000
END:STANDARD
BEGIN:DAYLIGHT
TZOFFSETFROM:-0500
TZOFFSETTO:-0400
TZNAME:EDT
DTSTART:20270314T070000
END:DAYLIGHT
BEGIN:STANDARD
TZOFFSETFROM:-0400
TZOFFSETTO:-0500
TZNAME:EST
DTSTART:20271107T060000
END:STANDARD
BEGIN:DAYLIGHT
TZOFFSETFROM:-0500
TZOFFSETTO:-0400
TZNAME:EDT
DTSTART:20280312T070000
END:DAYLIGHT
BEGIN:STANDARD
TZOFFSETFROM:-0400
TZOFFSETTO:-0500
TZNAME:EST
DTSTART:20281105T060000
END:STANDARD
END:VTIMEZONE
BEGIN:VEVENT
DTSTART;TZID=America/New_York:20270725T103000
DTEND;TZID=America/New_York:20270725T123000
DTSTAMP:20260423T033202
CREATED:20251111T200608Z
LAST-MODIFIED:20251111T200608Z
UID:10024716-1816511400-1816518600@hartforduu.org
SUMMARY:Sunday Worship & Fellowship Time
DESCRIPTION:Services are livestreamed every Sunday on Zoom and Facebook \nZoom info: Meeting ID: 931 0388 7934 \nVirtual Coffee Hour to follow \n* Note: Zoom Coffee Hour ends at noon \nPast Services
URL:https://hartforduu.org/event/sunday-worship-fellowship-time/2027-07-25/
END:VEVENT
BEGIN:VEVENT
DTSTART;TZID=America/New_York:20270725T140000
DTEND;TZID=America/New_York:20270725T180000
DTSTAMP:20260423T033202
CREATED:20250902T165912Z
LAST-MODIFIED:20260421T190948Z
UID:10023420-1816524000-1816538400@hartforduu.org
SUMMARY:Sathya Sai Center - Fellowship Hall (Rental)
DESCRIPTION:
URL:https://hartforduu.org/event/sathya-sai-center-fellowship-hall-rental/2027-07-25/
END:VEVENT
BEGIN:VEVENT
DTSTART;TZID=America/New_York:20270725T150000
DTEND;TZID=America/New_York:20270725T180000
DTSTAMP:20260423T033202
CREATED:20251111T193650Z
LAST-MODIFIED:20260421T191024Z
UID:10024453-1816527600-1816538400@hartforduu.org
SUMMARY:Daniel’s House of Prayer – Chapel/Library (Rental)
DESCRIPTION:
URL:https://hartforduu.org/event/daniels-house-of-prayer-chapel-library-rental/2027-07-25/
END:VEVENT
BEGIN:VEVENT
DTSTART;TZID=America/New_York:20270725T180000
DTEND;TZID=America/New_York:20270725T190000
DTSTAMP:20260423T033202
CREATED:20240703T180456Z
LAST-MODIFIED:20250325T145519Z
UID:10018354-1816538400-1816542000@hartforduu.org
SUMMARY:Recovery Dharma Group- Meditation Sanctuary
DESCRIPTION:
URL:https://hartforduu.org/event/recovery-dharma-group-meditation-sanctuary/2027-07-25/
END:VEVENT
BEGIN:VEVENT
DTSTART;TZID=America/New_York:20270726T183000
DTEND;TZID=America/New_York:20270726T203000
DTSTAMP:20260423T033202
CREATED:20250814T223901Z
LAST-MODIFIED:20250814T224339Z
UID:10022958-1816626600-1816633800@hartforduu.org
SUMMARY:Board Meeting - Library
DESCRIPTION:USH Board Meeting\nFourth Monday of each month\, 6:30 – 8:30 p.m. (If a holiday\, the meeting will be held on the following Tuesday)\nIn-person in the Library and on Zoom\nBoard meetings are public and all are welcome to attend. \nJoin Zoom Meeting \nhttps://us02web.zoom.us/j/81272126940 \nMeeting ID: 812 721 26940
URL:https://hartforduu.org/event/board-meeting-library-3/2027-07-26/
LOCATION:David’s Den/Library
END:VEVENT
BEGIN:VEVENT
DTSTART;TZID=America/New_York:20270729T090000
DTEND;TZID=America/New_York:20270729T220000
DTSTAMP:20260423T033202
CREATED:20251028T194028Z
LAST-MODIFIED:20251028T194028Z
UID:10024119-1816851600-1816898400@hartforduu.org
SUMMARY:Mtg - Socinus
DESCRIPTION:
URL:https://hartforduu.org/event/mtg-socinus/2027-07-29/
END:VEVENT
BEGIN:VEVENT
DTSTART;TZID=America/New_York:20270730T130000
DTEND;TZID=America/New_York:20270730T150000
DTSTAMP:20260423T033202
CREATED:20250820T160223Z
LAST-MODIFIED:20260203T062159Z
UID:10025175-1816952400-1816959600@hartforduu.org
SUMMARY:Hands & Hearts Group - ON HOLD
DESCRIPTION:Welcome all Creative Spirits and Crafters to the new\, weekly group ‘Hands & Hearts’ on Friday afternoons from 3-5pm in Murray. Many of us already know the kind of meditative solace and cadent creativity that working with your hands can offer. This group is an opportunity to talk\, share\, relate\, and relax as we work on our projects together. Bring your knitting\, crochet work\, sewing\, quilting\, hooking\, (any kind of handwork you enjoy)\, as well as your news\, your thoughts\, your worries\, and whatever’s on your mind. There will always be available supplies in our ‘fiber library’ if you’d like to start a new project\, or try something new. If you are not a crafter but would love the camaraderie and the chance to meet new friends\, you are very welcome. \n  \nFor more information\, please contact Deana
URL:https://hartforduu.org/event/hands-hearts-group-murray-2-5/2027-07-30/
END:VEVENT
BEGIN:VEVENT
DTSTART;TZID=America/New_York:20270801T103000
DTEND;TZID=America/New_York:20270801T123000
DTSTAMP:20260423T033202
CREATED:20251111T200608Z
LAST-MODIFIED:20251111T200608Z
UID:10024717-1817116200-1817123400@hartforduu.org
SUMMARY:Sunday Worship & Fellowship Time
DESCRIPTION:Services are livestreamed every Sunday on Zoom and Facebook \nZoom info: Meeting ID: 931 0388 7934 \nVirtual Coffee Hour to follow \n* Note: Zoom Coffee Hour ends at noon \nPast Services
URL:https://hartforduu.org/event/sunday-worship-fellowship-time/2027-08-01/
END:VEVENT
BEGIN:VEVENT
DTSTART;TZID=America/New_York:20270801T140000
DTEND;TZID=America/New_York:20270801T180000
DTSTAMP:20260423T033202
CREATED:20250902T165912Z
LAST-MODIFIED:20260421T190948Z
UID:10023421-1817128800-1817143200@hartforduu.org
SUMMARY:Sathya Sai Center - Fellowship Hall (Rental)
DESCRIPTION:
URL:https://hartforduu.org/event/sathya-sai-center-fellowship-hall-rental/2027-08-01/
END:VEVENT
BEGIN:VEVENT
DTSTART;TZID=America/New_York:20270801T150000
DTEND;TZID=America/New_York:20270801T180000
DTSTAMP:20260423T033202
CREATED:20251111T193650Z
LAST-MODIFIED:20260421T191024Z
UID:10024454-1817132400-1817143200@hartforduu.org
SUMMARY:Daniel’s House of Prayer – Chapel/Library (Rental)
DESCRIPTION:
URL:https://hartforduu.org/event/daniels-house-of-prayer-chapel-library-rental/2027-08-01/
END:VEVENT
BEGIN:VEVENT
DTSTART;TZID=America/New_York:20270801T180000
DTEND;TZID=America/New_York:20270801T190000
DTSTAMP:20260423T033202
CREATED:20240703T180456Z
LAST-MODIFIED:20250325T145519Z
UID:10018355-1817143200-1817146800@hartforduu.org
SUMMARY:Recovery Dharma Group- Meditation Sanctuary
DESCRIPTION:
URL:https://hartforduu.org/event/recovery-dharma-group-meditation-sanctuary/2027-08-01/
END:VEVENT
BEGIN:VEVENT
DTSTART;TZID=America/New_York:20270802T120000
DTEND;TZID=America/New_York:20270802T130000
DTSTAMP:20260423T033202
CREATED:20260217T160918Z
LAST-MODIFIED:20260225T040009Z
UID:10026007-1817208000-1817211600@hartforduu.org
SUMMARY:Rental Sub Council Meeting - Library
DESCRIPTION:
URL:https://hartforduu.org/event/rental-sub-council-meeting-library/2027-08-02/
END:VEVENT
BEGIN:VEVENT
DTSTART;TZID=America/New_York:20270805T090000
DTEND;TZID=America/New_York:20270805T220000
DTSTAMP:20260423T033202
CREATED:20251028T194028Z
LAST-MODIFIED:20251028T194028Z
UID:10024120-1817456400-1817503200@hartforduu.org
SUMMARY:Mtg - Socinus
DESCRIPTION:
URL:https://hartforduu.org/event/mtg-socinus/2027-08-05/
END:VEVENT
BEGIN:VEVENT
DTSTART;TZID=America/New_York:20270805T190000
DTEND;TZID=America/New_York:20270805T203000
DTSTAMP:20260423T033202
CREATED:20250212T090113Z
LAST-MODIFIED:20250325T234024Z
UID:10019218-1817492400-1817497800@hartforduu.org
SUMMARY:Men's Group - David's Den
DESCRIPTION:The men’s group wants to open up the group to new members. We meet on the first Thursday of the month. Please contact Jim Landis at \njimlandis@aol.com for more information. All are welcome!
URL:https://hartforduu.org/event/mens-group-davids-den/2027-08-05/
END:VEVENT
BEGIN:VEVENT
DTSTART;TZID=America/New_York:20270806T130000
DTEND;TZID=America/New_York:20270806T150000
DTSTAMP:20260423T033202
CREATED:20250820T160223Z
LAST-MODIFIED:20260203T062159Z
UID:10025176-1817557200-1817564400@hartforduu.org
SUMMARY:Hands & Hearts Group - ON HOLD
DESCRIPTION:Welcome all Creative Spirits and Crafters to the new\, weekly group ‘Hands & Hearts’ on Friday afternoons from 3-5pm in Murray. Many of us already know the kind of meditative solace and cadent creativity that working with your hands can offer. This group is an opportunity to talk\, share\, relate\, and relax as we work on our projects together. Bring your knitting\, crochet work\, sewing\, quilting\, hooking\, (any kind of handwork you enjoy)\, as well as your news\, your thoughts\, your worries\, and whatever’s on your mind. There will always be available supplies in our ‘fiber library’ if you’d like to start a new project\, or try something new. If you are not a crafter but would love the camaraderie and the chance to meet new friends\, you are very welcome. \n  \nFor more information\, please contact Deana
URL:https://hartforduu.org/event/hands-hearts-group-murray-2-5/2027-08-06/
END:VEVENT
BEGIN:VEVENT
DTSTART;TZID=America/New_York:20270807T100000
DTEND;TZID=America/New_York:20270807T120000
DTSTAMP:20260423T033202
CREATED:20241112T030219Z
LAST-MODIFIED:20251125T162405Z
UID:10020044-1817632800-1817640000@hartforduu.org
SUMMARY:Helping Parents Heal - Library/David's Den
DESCRIPTION:Helping Parents Heal — Hartford is an affiliate chapter of Helping Parents Heal (https://www.helpingparentsheal.org)\, a non-profit organization dedicated to assisting parents whose children have passed. Our support group allows for an open discussion of spiritual experiences and afterlife evidence in a non-dogmatic way. We welcome everyone regardless of their religious or non-religious backgrounds. \nHelping Parents Heal recognizes several factors that contribute to the healing process: caring support from others\, interaction with people who have also experienced the loss of a child\, service to others\, personal transformation\, and discovering a reason for hope. This hope comes from acknowledging our spiritual/energetic natures and understanding that our loved ones continue on in another realm after physical death. \nParents\, grandparents\, and siblings of a child who has passed at any age are welcome to join us. Our group meets on the first Saturday of each month from 10:00 a.m. – noon. Please contact Pamela Hamad if you would like more information at hphhartford@gmail.com or (941) 544-1083.
URL:https://hartforduu.org/event/helping-parents-heal/2027-08-07/
END:VEVENT
BEGIN:VEVENT
DTSTART;TZID=America/New_York:20270807T103000
DTEND;TZID=America/New_York:20270807T120000
DTSTAMP:20260423T033202
CREATED:20231219T202559Z
LAST-MODIFIED:20250818T191400Z
UID:10021869-1817634600-1817640000@hartforduu.org
SUMMARY:Disability Support Group - Zoom
DESCRIPTION:This group meets online on the first Saturday of each month at 10:30 a.m. The zoom link is sent a few days prior to the meeting. In this group\, participants discuss the challenges of physical disability (chronic illness\, chronic pain\, impaired senses\, impaired mobility) and emotional pain (loss\, mental illness)\, and the stresses of caretaking a loved one. What is said in the group stays in the group. To confirm scheduling\, please Email Susan Hope or call 860 463 6407
URL:https://hartforduu.org/event/disability-support-group/2027-08-07/
END:VEVENT
BEGIN:VEVENT
DTSTART;TZID=America/New_York:20270808T103000
DTEND;TZID=America/New_York:20270808T123000
DTSTAMP:20260423T033202
CREATED:20251111T200608Z
LAST-MODIFIED:20251111T200608Z
UID:10024718-1817721000-1817728200@hartforduu.org
SUMMARY:Sunday Worship & Fellowship Time
DESCRIPTION:Services are livestreamed every Sunday on Zoom and Facebook \nZoom info: Meeting ID: 931 0388 7934 \nVirtual Coffee Hour to follow \n* Note: Zoom Coffee Hour ends at noon \nPast Services
URL:https://hartforduu.org/event/sunday-worship-fellowship-time/2027-08-08/
END:VEVENT
BEGIN:VEVENT
DTSTART;TZID=America/New_York:20270808T140000
DTEND;TZID=America/New_York:20270808T180000
DTSTAMP:20260423T033202
CREATED:20250902T165912Z
LAST-MODIFIED:20260421T190948Z
UID:10023422-1817733600-1817748000@hartforduu.org
SUMMARY:Sathya Sai Center - Fellowship Hall (Rental)
DESCRIPTION:
URL:https://hartforduu.org/event/sathya-sai-center-fellowship-hall-rental/2027-08-08/
END:VEVENT
BEGIN:VEVENT
DTSTART;TZID=America/New_York:20270808T150000
DTEND;TZID=America/New_York:20270808T180000
DTSTAMP:20260423T033202
CREATED:20251111T193650Z
LAST-MODIFIED:20260421T191024Z
UID:10024455-1817737200-1817748000@hartforduu.org
SUMMARY:Daniel’s House of Prayer – Chapel/Library (Rental)
DESCRIPTION:
URL:https://hartforduu.org/event/daniels-house-of-prayer-chapel-library-rental/2027-08-08/
END:VEVENT
BEGIN:VEVENT
DTSTART;TZID=America/New_York:20270808T180000
DTEND;TZID=America/New_York:20270808T190000
DTSTAMP:20260423T033202
CREATED:20240703T180456Z
LAST-MODIFIED:20250325T145519Z
UID:10018356-1817748000-1817751600@hartforduu.org
SUMMARY:Recovery Dharma Group- Meditation Sanctuary
DESCRIPTION:
URL:https://hartforduu.org/event/recovery-dharma-group-meditation-sanctuary/2027-08-08/
END:VEVENT
BEGIN:VEVENT
DTSTART;TZID=America/New_York:20270812T090000
DTEND;TZID=America/New_York:20270812T220000
DTSTAMP:20260423T033202
CREATED:20251028T194028Z
LAST-MODIFIED:20251028T194028Z
UID:10024121-1818061200-1818108000@hartforduu.org
SUMMARY:Mtg - Socinus
DESCRIPTION:
URL:https://hartforduu.org/event/mtg-socinus/2027-08-12/
END:VEVENT
BEGIN:VEVENT
DTSTART;TZID=America/New_York:20270813T130000
DTEND;TZID=America/New_York:20270813T150000
DTSTAMP:20260423T033202
CREATED:20250820T160223Z
LAST-MODIFIED:20260203T062159Z
UID:10025177-1818162000-1818169200@hartforduu.org
SUMMARY:Hands & Hearts Group - ON HOLD
DESCRIPTION:Welcome all Creative Spirits and Crafters to the new\, weekly group ‘Hands & Hearts’ on Friday afternoons from 3-5pm in Murray. Many of us already know the kind of meditative solace and cadent creativity that working with your hands can offer. This group is an opportunity to talk\, share\, relate\, and relax as we work on our projects together. Bring your knitting\, crochet work\, sewing\, quilting\, hooking\, (any kind of handwork you enjoy)\, as well as your news\, your thoughts\, your worries\, and whatever’s on your mind. There will always be available supplies in our ‘fiber library’ if you’d like to start a new project\, or try something new. If you are not a crafter but would love the camaraderie and the chance to meet new friends\, you are very welcome. \n  \nFor more information\, please contact Deana
URL:https://hartforduu.org/event/hands-hearts-group-murray-2-5/2027-08-13/
END:VEVENT
BEGIN:VEVENT
DTSTART;TZID=America/New_York:20270814T100000
DTEND;TZID=America/New_York:20270814T113000
DTSTAMP:20260423T033202
CREATED:20260112T032323Z
LAST-MODIFIED:20260112T032323Z
UID:10025618-1818237600-1818243000@hartforduu.org
SUMMARY:SpiritChat- Meditation Sanctuary
DESCRIPTION:SpiritChat is offered at USH on the second and fourth Saturdays of the month from 10:00am to 11:30am and typically begin with twenty minutes of silent meditation. Nicholas then gives a brief reflection\, often accompanied by a handout. Meetings conclude with a question-and-answer period. Those curious to know more may contact Nicholas at: info@nicholasbartoli.com.
URL:https://hartforduu.org/event/spiritchat-meditation-sanctuary/2027-08-14/
END:VEVENT
BEGIN:VEVENT
DTSTART;TZID=America/New_York:20270814T140000
DTEND;TZID=America/New_York:20270814T170000
DTSTAMP:20260423T033202
CREATED:20251111T223351Z
LAST-MODIFIED:20251111T223351Z
UID:10024910-1818252000-1818262800@hartforduu.org
SUMMARY:Magdalene Circle - Meditation Sanctuary
DESCRIPTION:Magdalene Circles on the 2nd Saturdays of the month\, 2-5 p.m. \nAre you interested in expanding your intuition? Tuning into your inner voice? Exploring the Divine Feminine aspects of yourself? Learning sound meditation as a relaxation practice? We invite you to try us out. \nParticipatory sound\, with small drums\, Tibetan bowls\, rattles and voice\, is incorporated in the practice. Beginners are welcome. Extra instruments are available to borrow. As an ongoing group since 2008 you are encouraged to contact Lisa Burch for orientation prior to your first meeting with the group.
URL:https://hartforduu.org/event/magdalene-circle-meditation-sanctuary/2027-08-14/
END:VEVENT
BEGIN:VEVENT
DTSTART;TZID=America/New_York:20270815T100000
DTEND;TZID=America/New_York:20270815T120000
DTSTAMP:20260423T033202
CREATED:20250804T230834Z
LAST-MODIFIED:20260215T211914Z
UID:10022754-1818324000-1818331200@hartforduu.org
SUMMARY:Youth Soup Sunday
DESCRIPTION:
URL:https://hartforduu.org/event/youth-soup-sunday/2027-08-15/
END:VEVENT
BEGIN:VEVENT
DTSTART;TZID=America/New_York:20270815T103000
DTEND;TZID=America/New_York:20270815T123000
DTSTAMP:20260423T033202
CREATED:20251111T200608Z
LAST-MODIFIED:20251111T200608Z
UID:10024719-1818325800-1818333000@hartforduu.org
SUMMARY:Sunday Worship & Fellowship Time
DESCRIPTION:Services are livestreamed every Sunday on Zoom and Facebook \nZoom info: Meeting ID: 931 0388 7934 \nVirtual Coffee Hour to follow \n* Note: Zoom Coffee Hour ends at noon \nPast Services
URL:https://hartforduu.org/event/sunday-worship-fellowship-time/2027-08-15/
END:VEVENT
BEGIN:VEVENT
DTSTART;TZID=America/New_York:20270815T140000
DTEND;TZID=America/New_York:20270815T180000
DTSTAMP:20260423T033202
CREATED:20250902T165912Z
LAST-MODIFIED:20260421T190948Z
UID:10023423-1818338400-1818352800@hartforduu.org
SUMMARY:Sathya Sai Center - Fellowship Hall (Rental)
DESCRIPTION:
URL:https://hartforduu.org/event/sathya-sai-center-fellowship-hall-rental/2027-08-15/
END:VEVENT
BEGIN:VEVENT
DTSTART;TZID=America/New_York:20270815T150000
DTEND;TZID=America/New_York:20270815T180000
DTSTAMP:20260423T033202
CREATED:20251111T193650Z
LAST-MODIFIED:20260421T191024Z
UID:10024456-1818342000-1818352800@hartforduu.org
SUMMARY:Daniel’s House of Prayer – Chapel/Library (Rental)
DESCRIPTION:
URL:https://hartforduu.org/event/daniels-house-of-prayer-chapel-library-rental/2027-08-15/
END:VEVENT
BEGIN:VEVENT
DTSTART;TZID=America/New_York:20270815T180000
DTEND;TZID=America/New_York:20270815T190000
DTSTAMP:20260423T033202
CREATED:20240703T180456Z
LAST-MODIFIED:20250325T145519Z
UID:10018357-1818352800-1818356400@hartforduu.org
SUMMARY:Recovery Dharma Group- Meditation Sanctuary
DESCRIPTION:
URL:https://hartforduu.org/event/recovery-dharma-group-meditation-sanctuary/2027-08-15/
END:VEVENT
END:VCALENDAR