BEGIN:VCALENDAR
VERSION:2.0
PRODID:-//Unitarian Society of Hartford - ECPv6.15.18//NONSGML v1.0//EN
CALSCALE:GREGORIAN
METHOD:PUBLISH
X-ORIGINAL-URL:https://hartforduu.org
X-WR-CALDESC:Events for Unitarian Society of Hartford
REFRESH-INTERVAL;VALUE=DURATION:PT1H
X-Robots-Tag:noindex
X-PUBLISHED-TTL:PT1H
BEGIN:VTIMEZONE
TZID:America/New_York
BEGIN:DAYLIGHT
TZOFFSETFROM:-0500
TZOFFSETTO:-0400
TZNAME:EDT
DTSTART:20260308T070000
END:DAYLIGHT
BEGIN:STANDARD
TZOFFSETFROM:-0400
TZOFFSETTO:-0500
TZNAME:EST
DTSTART:20261101T060000
END:STANDARD
BEGIN:DAYLIGHT
TZOFFSETFROM:-0500
TZOFFSETTO:-0400
TZNAME:EDT
DTSTART:20270314T070000
END:DAYLIGHT
BEGIN:STANDARD
TZOFFSETFROM:-0400
TZOFFSETTO:-0500
TZNAME:EST
DTSTART:20271107T060000
END:STANDARD
BEGIN:DAYLIGHT
TZOFFSETFROM:-0500
TZOFFSETTO:-0400
TZNAME:EDT
DTSTART:20280312T070000
END:DAYLIGHT
BEGIN:STANDARD
TZOFFSETFROM:-0400
TZOFFSETTO:-0500
TZNAME:EST
DTSTART:20281105T060000
END:STANDARD
END:VTIMEZONE
BEGIN:VEVENT
DTSTART;TZID=America/New_York:20270711T140000
DTEND;TZID=America/New_York:20270711T180000
DTSTAMP:20260422T232949
CREATED:20250902T165912Z
LAST-MODIFIED:20260421T190948Z
UID:10023418-1815314400-1815328800@hartforduu.org
SUMMARY:Sathya Sai Center - Fellowship Hall (Rental)
DESCRIPTION:
URL:https://hartforduu.org/event/sathya-sai-center-fellowship-hall-rental/2027-07-11/
END:VEVENT
BEGIN:VEVENT
DTSTART;TZID=America/New_York:20270711T150000
DTEND;TZID=America/New_York:20270711T180000
DTSTAMP:20260422T232949
CREATED:20251111T193650Z
LAST-MODIFIED:20260421T191024Z
UID:10024451-1815318000-1815328800@hartforduu.org
SUMMARY:Daniel’s House of Prayer – Chapel/Library (Rental)
DESCRIPTION:
URL:https://hartforduu.org/event/daniels-house-of-prayer-chapel-library-rental/2027-07-11/
END:VEVENT
BEGIN:VEVENT
DTSTART;TZID=America/New_York:20270711T180000
DTEND;TZID=America/New_York:20270711T190000
DTSTAMP:20260422T232949
CREATED:20240703T180456Z
LAST-MODIFIED:20250325T145519Z
UID:10018352-1815328800-1815332400@hartforduu.org
SUMMARY:Recovery Dharma Group- Meditation Sanctuary
DESCRIPTION:
URL:https://hartforduu.org/event/recovery-dharma-group-meditation-sanctuary/2027-07-11/
END:VEVENT
BEGIN:VEVENT
DTSTART;TZID=America/New_York:20270715T090000
DTEND;TZID=America/New_York:20270715T220000
DTSTAMP:20260422T232949
CREATED:20251028T194028Z
LAST-MODIFIED:20251028T194028Z
UID:10024117-1815642000-1815688800@hartforduu.org
SUMMARY:Mtg - Socinus
DESCRIPTION:
URL:https://hartforduu.org/event/mtg-socinus/2027-07-15/
END:VEVENT
BEGIN:VEVENT
DTSTART;TZID=America/New_York:20270716T130000
DTEND;TZID=America/New_York:20270716T150000
DTSTAMP:20260422T232949
CREATED:20250820T160223Z
LAST-MODIFIED:20260203T062159Z
UID:10025173-1815742800-1815750000@hartforduu.org
SUMMARY:Hands & Hearts Group - ON HOLD
DESCRIPTION:Welcome all Creative Spirits and Crafters to the new\, weekly group ‘Hands & Hearts’ on Friday afternoons from 3-5pm in Murray. Many of us already know the kind of meditative solace and cadent creativity that working with your hands can offer. This group is an opportunity to talk\, share\, relate\, and relax as we work on our projects together. Bring your knitting\, crochet work\, sewing\, quilting\, hooking\, (any kind of handwork you enjoy)\, as well as your news\, your thoughts\, your worries\, and whatever’s on your mind. There will always be available supplies in our ‘fiber library’ if you’d like to start a new project\, or try something new. If you are not a crafter but would love the camaraderie and the chance to meet new friends\, you are very welcome. \n  \nFor more information\, please contact Deana
URL:https://hartforduu.org/event/hands-hearts-group-murray-2-5/2027-07-16/
END:VEVENT
BEGIN:VEVENT
DTSTART;TZID=America/New_York:20270716T190000
DTEND;TZID=America/New_York:20270716T220000
DTSTAMP:20260422T232949
CREATED:20250318T215711Z
LAST-MODIFIED:20250725T144221Z
UID:10021217-1815764400-1815775200@hartforduu.org
SUMMARY:Meeting House Presents
DESCRIPTION:Doors open at 6:30 for the 7:00 show. \nSet-up 5:00 p.m. \nAdditional information: https://hartforduu.org/meeting-house-presents/
URL:https://hartforduu.org/event/meeting-house-presents/2027-07-16/
END:VEVENT
BEGIN:VEVENT
DTSTART;TZID=America/New_York:20270717T090000
DTEND;TZID=America/New_York:20270717T130000
DTSTAMP:20260422T232949
CREATED:20250201T042757Z
LAST-MODIFIED:20250825T233559Z
UID:10020174-1815814800-1815829200@hartforduu.org
SUMMARY:Reiki Share - Meditation Sanctuary
DESCRIPTION:REIKI SHARE – This is a monthly gathering on the third Saturday morning\, 9:30 am-12:30 pm. Ready to Refresh\, Reconnect and Rejuvenate your Reiki?  This Reiki Share is a great opportunity to support Reiki practitioners at all levels.  Whether you are just starting out\, you haven’t practiced in awhile\, or you are more experienced you are most welcome.  This Share is open to the USH community as long as you have some level of Reiki training. It is dedicated to refreshing and reconnecting you with your Reiki energy and enjoying self and group healings. We open and close with discussion and sound meditation\, then we take turns on massage tables giving and receiving this Japanese style energy healing practice in small groups. Advanced registration is requested so we have sufficient tables available. Questions may be directed by phone or text to Lisa Burch\, 860-985-9719\, or email:  spiritmattersct@outlook.com. A donation is requested\, suggested $15/20.
URL:https://hartforduu.org/event/reiki-share-meditation-sanctuary-2/2027-07-17/
END:VEVENT
BEGIN:VEVENT
DTSTART;TZID=America/New_York:20270717T140000
DTEND;TZID=America/New_York:20270717T170000
DTSTAMP:20260422T232949
CREATED:20240710T020049Z
LAST-MODIFIED:20250626T171905Z
UID:10021392-1815832800-1815843600@hartforduu.org
SUMMARY:Sing Along - Meditation Sanctuary
DESCRIPTION:Meeting House Sing-Along – Third Saturdays\nContact: Fred Louis FlLouis@yahoo.com or Ed Savage 860-966-8155 (cell) EdSavage03@yahoo.com\nJoin us at the next Meeting House Sing-Along. Fred Louis and Ed Savage are offering an opportunity to CT Singing families\, singers\, song-writers\, and audience members to join in song on the third Saturday of each month from 2 to 5 PM. We will have song-sheets and some loaner copies of Rise Up Singing available. Bring your own ‘Rise Up Singing’ if you have one\, as we have used it a lot in other months. We will also use the NEW “Rise Again” sequel – 1200 more songs to sample.\nVAX protocol: OK to sing\, socially spaced\, if you are vaccinated AND boosted; even so\, if anyone is uncomfortable about singing unmasked\, we should ALL wear masks. Please feel free to express your caution about COVID contagion by contacting Fred and Ed (see above).\nIf you have NOT completed your COVID vaccination cycle\, we ask that you skip the Sing-Alongs for now\, to protect you from US.
URL:https://hartforduu.org/event/sing-along-meditation-sanctuary/2027-07-17/
END:VEVENT
BEGIN:VEVENT
DTSTART;TZID=America/New_York:20270718T100000
DTEND;TZID=America/New_York:20270718T120000
DTSTAMP:20260422T232949
CREATED:20250804T230834Z
LAST-MODIFIED:20260215T211914Z
UID:10022753-1815904800-1815912000@hartforduu.org
SUMMARY:Youth Soup Sunday
DESCRIPTION:
URL:https://hartforduu.org/event/youth-soup-sunday/2027-07-18/
END:VEVENT
BEGIN:VEVENT
DTSTART;TZID=America/New_York:20270718T103000
DTEND;TZID=America/New_York:20270718T123000
DTSTAMP:20260422T232949
CREATED:20251111T200608Z
LAST-MODIFIED:20251111T200608Z
UID:10024715-1815906600-1815913800@hartforduu.org
SUMMARY:Sunday Worship & Fellowship Time
DESCRIPTION:Services are livestreamed every Sunday on Zoom and Facebook \nZoom info: Meeting ID: 931 0388 7934 \nVirtual Coffee Hour to follow \n* Note: Zoom Coffee Hour ends at noon \nPast Services
URL:https://hartforduu.org/event/sunday-worship-fellowship-time/2027-07-18/
END:VEVENT
BEGIN:VEVENT
DTSTART;TZID=America/New_York:20270718T140000
DTEND;TZID=America/New_York:20270718T180000
DTSTAMP:20260422T232949
CREATED:20250902T165912Z
LAST-MODIFIED:20260421T190948Z
UID:10023419-1815919200-1815933600@hartforduu.org
SUMMARY:Sathya Sai Center - Fellowship Hall (Rental)
DESCRIPTION:
URL:https://hartforduu.org/event/sathya-sai-center-fellowship-hall-rental/2027-07-18/
END:VEVENT
BEGIN:VEVENT
DTSTART;TZID=America/New_York:20270718T150000
DTEND;TZID=America/New_York:20270718T180000
DTSTAMP:20260422T232949
CREATED:20251111T193650Z
LAST-MODIFIED:20260421T191024Z
UID:10024452-1815922800-1815933600@hartforduu.org
SUMMARY:Daniel’s House of Prayer – Chapel/Library (Rental)
DESCRIPTION:
URL:https://hartforduu.org/event/daniels-house-of-prayer-chapel-library-rental/2027-07-18/
END:VEVENT
BEGIN:VEVENT
DTSTART;TZID=America/New_York:20270718T180000
DTEND;TZID=America/New_York:20270718T190000
DTSTAMP:20260422T232949
CREATED:20240703T180456Z
LAST-MODIFIED:20250325T145519Z
UID:10018353-1815933600-1815937200@hartforduu.org
SUMMARY:Recovery Dharma Group- Meditation Sanctuary
DESCRIPTION:
URL:https://hartforduu.org/event/recovery-dharma-group-meditation-sanctuary/2027-07-18/
END:VEVENT
BEGIN:VEVENT
DTSTART;TZID=America/New_York:20270722T090000
DTEND;TZID=America/New_York:20270722T220000
DTSTAMP:20260422T232949
CREATED:20251028T194028Z
LAST-MODIFIED:20251028T194028Z
UID:10024118-1816246800-1816293600@hartforduu.org
SUMMARY:Mtg - Socinus
DESCRIPTION:
URL:https://hartforduu.org/event/mtg-socinus/2027-07-22/
END:VEVENT
BEGIN:VEVENT
DTSTART;TZID=America/New_York:20270723T130000
DTEND;TZID=America/New_York:20270723T150000
DTSTAMP:20260422T232949
CREATED:20250819T172955Z
LAST-MODIFIED:20250907T042436Z
UID:10021953-1816347600-1816354800@hartforduu.org
SUMMARY:ON HOLD\, No Mtgs - Genealogy Group
DESCRIPTION:Meetings are currently on hold. If you are interested in learning more\, contact Laura Cipriano \n  \nAre you interested in genealogy? You are welcome to join us wherever you are in your search\, expert or a beginner or anywhere in between. Bring a laptop or a tablet if you want to open the websites\, or just come to watch\, listen\, and help out. A notebook and a few names\, dates\, and locations is a great way to begin. Each month we will explore a different way to use free technology to learn more about your family history. Meet in the USH Library. \nContact Larry Lunden or Laura Cipriano for more information.
URL:https://hartforduu.org/event/genealogy-group-2-2/2027-07-23/
LOCATION:Libary/David’s Den
END:VEVENT
BEGIN:VEVENT
DTSTART;TZID=America/New_York:20270723T130000
DTEND;TZID=America/New_York:20270723T150000
DTSTAMP:20260422T232949
CREATED:20250820T160223Z
LAST-MODIFIED:20260203T062159Z
UID:10025174-1816347600-1816354800@hartforduu.org
SUMMARY:Hands & Hearts Group - ON HOLD
DESCRIPTION:Welcome all Creative Spirits and Crafters to the new\, weekly group ‘Hands & Hearts’ on Friday afternoons from 3-5pm in Murray. Many of us already know the kind of meditative solace and cadent creativity that working with your hands can offer. This group is an opportunity to talk\, share\, relate\, and relax as we work on our projects together. Bring your knitting\, crochet work\, sewing\, quilting\, hooking\, (any kind of handwork you enjoy)\, as well as your news\, your thoughts\, your worries\, and whatever’s on your mind. There will always be available supplies in our ‘fiber library’ if you’d like to start a new project\, or try something new. If you are not a crafter but would love the camaraderie and the chance to meet new friends\, you are very welcome. \n  \nFor more information\, please contact Deana
URL:https://hartforduu.org/event/hands-hearts-group-murray-2-5/2027-07-23/
END:VEVENT
BEGIN:VEVENT
DTSTART;TZID=America/New_York:20270724T100000
DTEND;TZID=America/New_York:20270724T113000
DTSTAMP:20260422T232949
CREATED:20260112T031726Z
LAST-MODIFIED:20260209T032059Z
UID:10025558-1816423200-1816428600@hartforduu.org
SUMMARY:SpiritChat - Meditation Sanctuary
DESCRIPTION:SpiritChat is offered at USH on the second and fourth Saturdays of the month from 10:00am to 11:30am and typically begin with twenty minutes of silent meditation. Nicholas then gives a brief reflection\, often accompanied by a handout. Meetings conclude with a question-and-answer period. Those curious to know more may contact Nicholas at: info@nicholasbartoli.com.
URL:https://hartforduu.org/event/spiritchat-meditation-sanctuary-2/2027-07-24/
END:VEVENT
BEGIN:VEVENT
DTSTART;TZID=America/New_York:20270725T103000
DTEND;TZID=America/New_York:20270725T123000
DTSTAMP:20260422T232949
CREATED:20251111T200608Z
LAST-MODIFIED:20251111T200608Z
UID:10024716-1816511400-1816518600@hartforduu.org
SUMMARY:Sunday Worship & Fellowship Time
DESCRIPTION:Services are livestreamed every Sunday on Zoom and Facebook \nZoom info: Meeting ID: 931 0388 7934 \nVirtual Coffee Hour to follow \n* Note: Zoom Coffee Hour ends at noon \nPast Services
URL:https://hartforduu.org/event/sunday-worship-fellowship-time/2027-07-25/
END:VEVENT
BEGIN:VEVENT
DTSTART;TZID=America/New_York:20270725T140000
DTEND;TZID=America/New_York:20270725T180000
DTSTAMP:20260422T232949
CREATED:20250902T165912Z
LAST-MODIFIED:20260421T190948Z
UID:10023420-1816524000-1816538400@hartforduu.org
SUMMARY:Sathya Sai Center - Fellowship Hall (Rental)
DESCRIPTION:
URL:https://hartforduu.org/event/sathya-sai-center-fellowship-hall-rental/2027-07-25/
END:VEVENT
BEGIN:VEVENT
DTSTART;TZID=America/New_York:20270725T150000
DTEND;TZID=America/New_York:20270725T180000
DTSTAMP:20260422T232949
CREATED:20251111T193650Z
LAST-MODIFIED:20260421T191024Z
UID:10024453-1816527600-1816538400@hartforduu.org
SUMMARY:Daniel’s House of Prayer – Chapel/Library (Rental)
DESCRIPTION:
URL:https://hartforduu.org/event/daniels-house-of-prayer-chapel-library-rental/2027-07-25/
END:VEVENT
BEGIN:VEVENT
DTSTART;TZID=America/New_York:20270725T180000
DTEND;TZID=America/New_York:20270725T190000
DTSTAMP:20260422T232949
CREATED:20240703T180456Z
LAST-MODIFIED:20250325T145519Z
UID:10018354-1816538400-1816542000@hartforduu.org
SUMMARY:Recovery Dharma Group- Meditation Sanctuary
DESCRIPTION:
URL:https://hartforduu.org/event/recovery-dharma-group-meditation-sanctuary/2027-07-25/
END:VEVENT
BEGIN:VEVENT
DTSTART;TZID=America/New_York:20270726T183000
DTEND;TZID=America/New_York:20270726T203000
DTSTAMP:20260422T232949
CREATED:20250814T223901Z
LAST-MODIFIED:20250814T224339Z
UID:10022958-1816626600-1816633800@hartforduu.org
SUMMARY:Board Meeting - Library
DESCRIPTION:USH Board Meeting\nFourth Monday of each month\, 6:30 – 8:30 p.m. (If a holiday\, the meeting will be held on the following Tuesday)\nIn-person in the Library and on Zoom\nBoard meetings are public and all are welcome to attend. \nJoin Zoom Meeting \nhttps://us02web.zoom.us/j/81272126940 \nMeeting ID: 812 721 26940
URL:https://hartforduu.org/event/board-meeting-library-3/2027-07-26/
LOCATION:David’s Den/Library
END:VEVENT
BEGIN:VEVENT
DTSTART;TZID=America/New_York:20270729T090000
DTEND;TZID=America/New_York:20270729T220000
DTSTAMP:20260422T232949
CREATED:20251028T194028Z
LAST-MODIFIED:20251028T194028Z
UID:10024119-1816851600-1816898400@hartforduu.org
SUMMARY:Mtg - Socinus
DESCRIPTION:
URL:https://hartforduu.org/event/mtg-socinus/2027-07-29/
END:VEVENT
BEGIN:VEVENT
DTSTART;TZID=America/New_York:20270730T130000
DTEND;TZID=America/New_York:20270730T150000
DTSTAMP:20260422T232949
CREATED:20250820T160223Z
LAST-MODIFIED:20260203T062159Z
UID:10025175-1816952400-1816959600@hartforduu.org
SUMMARY:Hands & Hearts Group - ON HOLD
DESCRIPTION:Welcome all Creative Spirits and Crafters to the new\, weekly group ‘Hands & Hearts’ on Friday afternoons from 3-5pm in Murray. Many of us already know the kind of meditative solace and cadent creativity that working with your hands can offer. This group is an opportunity to talk\, share\, relate\, and relax as we work on our projects together. Bring your knitting\, crochet work\, sewing\, quilting\, hooking\, (any kind of handwork you enjoy)\, as well as your news\, your thoughts\, your worries\, and whatever’s on your mind. There will always be available supplies in our ‘fiber library’ if you’d like to start a new project\, or try something new. If you are not a crafter but would love the camaraderie and the chance to meet new friends\, you are very welcome. \n  \nFor more information\, please contact Deana
URL:https://hartforduu.org/event/hands-hearts-group-murray-2-5/2027-07-30/
END:VEVENT
BEGIN:VEVENT
DTSTART;TZID=America/New_York:20270801T103000
DTEND;TZID=America/New_York:20270801T123000
DTSTAMP:20260422T232949
CREATED:20251111T200608Z
LAST-MODIFIED:20251111T200608Z
UID:10024717-1817116200-1817123400@hartforduu.org
SUMMARY:Sunday Worship & Fellowship Time
DESCRIPTION:Services are livestreamed every Sunday on Zoom and Facebook \nZoom info: Meeting ID: 931 0388 7934 \nVirtual Coffee Hour to follow \n* Note: Zoom Coffee Hour ends at noon \nPast Services
URL:https://hartforduu.org/event/sunday-worship-fellowship-time/2027-08-01/
END:VEVENT
BEGIN:VEVENT
DTSTART;TZID=America/New_York:20270801T140000
DTEND;TZID=America/New_York:20270801T180000
DTSTAMP:20260422T232949
CREATED:20250902T165912Z
LAST-MODIFIED:20260421T190948Z
UID:10023421-1817128800-1817143200@hartforduu.org
SUMMARY:Sathya Sai Center - Fellowship Hall (Rental)
DESCRIPTION:
URL:https://hartforduu.org/event/sathya-sai-center-fellowship-hall-rental/2027-08-01/
END:VEVENT
BEGIN:VEVENT
DTSTART;TZID=America/New_York:20270801T150000
DTEND;TZID=America/New_York:20270801T180000
DTSTAMP:20260422T232949
CREATED:20251111T193650Z
LAST-MODIFIED:20260421T191024Z
UID:10024454-1817132400-1817143200@hartforduu.org
SUMMARY:Daniel’s House of Prayer – Chapel/Library (Rental)
DESCRIPTION:
URL:https://hartforduu.org/event/daniels-house-of-prayer-chapel-library-rental/2027-08-01/
END:VEVENT
BEGIN:VEVENT
DTSTART;TZID=America/New_York:20270801T180000
DTEND;TZID=America/New_York:20270801T190000
DTSTAMP:20260422T232949
CREATED:20240703T180456Z
LAST-MODIFIED:20250325T145519Z
UID:10018355-1817143200-1817146800@hartforduu.org
SUMMARY:Recovery Dharma Group- Meditation Sanctuary
DESCRIPTION:
URL:https://hartforduu.org/event/recovery-dharma-group-meditation-sanctuary/2027-08-01/
END:VEVENT
BEGIN:VEVENT
DTSTART;TZID=America/New_York:20270802T120000
DTEND;TZID=America/New_York:20270802T130000
DTSTAMP:20260422T232949
CREATED:20260217T160918Z
LAST-MODIFIED:20260225T040009Z
UID:10026007-1817208000-1817211600@hartforduu.org
SUMMARY:Rental Sub Council Meeting - Library
DESCRIPTION:
URL:https://hartforduu.org/event/rental-sub-council-meeting-library/2027-08-02/
END:VEVENT
BEGIN:VEVENT
DTSTART;TZID=America/New_York:20270805T090000
DTEND;TZID=America/New_York:20270805T220000
DTSTAMP:20260422T232949
CREATED:20251028T194028Z
LAST-MODIFIED:20251028T194028Z
UID:10024120-1817456400-1817503200@hartforduu.org
SUMMARY:Mtg - Socinus
DESCRIPTION:
URL:https://hartforduu.org/event/mtg-socinus/2027-08-05/
END:VEVENT
END:VCALENDAR