BEGIN:VCALENDAR
VERSION:2.0
PRODID:-//Unitarian Society of Hartford - ECPv6.15.18//NONSGML v1.0//EN
CALSCALE:GREGORIAN
METHOD:PUBLISH
X-WR-CALNAME:Unitarian Society of Hartford
X-ORIGINAL-URL:https://hartforduu.org
X-WR-CALDESC:Events for Unitarian Society of Hartford
REFRESH-INTERVAL;VALUE=DURATION:PT1H
X-Robots-Tag:noindex
X-PUBLISHED-TTL:PT1H
BEGIN:VTIMEZONE
TZID:America/New_York
BEGIN:DAYLIGHT
TZOFFSETFROM:-0500
TZOFFSETTO:-0400
TZNAME:EDT
DTSTART:20240310T070000
END:DAYLIGHT
BEGIN:STANDARD
TZOFFSETFROM:-0400
TZOFFSETTO:-0500
TZNAME:EST
DTSTART:20241103T060000
END:STANDARD
BEGIN:DAYLIGHT
TZOFFSETFROM:-0500
TZOFFSETTO:-0400
TZNAME:EDT
DTSTART:20250309T070000
END:DAYLIGHT
BEGIN:STANDARD
TZOFFSETFROM:-0400
TZOFFSETTO:-0500
TZNAME:EST
DTSTART:20251102T060000
END:STANDARD
BEGIN:DAYLIGHT
TZOFFSETFROM:-0500
TZOFFSETTO:-0400
TZNAME:EDT
DTSTART:20260308T070000
END:DAYLIGHT
BEGIN:STANDARD
TZOFFSETFROM:-0400
TZOFFSETTO:-0500
TZNAME:EST
DTSTART:20261101T060000
END:STANDARD
END:VTIMEZONE
BEGIN:VEVENT
DTSTART;TZID=America/New_York:20251005T180000
DTEND;TZID=America/New_York:20251005T190000
DTSTAMP:20260420T180409
CREATED:20240703T180456Z
LAST-MODIFIED:20250325T145519Z
UID:10018260-1759687200-1759690800@hartforduu.org
SUMMARY:Recovery Dharma Group- Meditation Sanctuary
DESCRIPTION:
URL:https://hartforduu.org/event/recovery-dharma-group-meditation-sanctuary/2025-10-05/
END:VEVENT
BEGIN:VEVENT
DTSTART;TZID=America/New_York:20251006T100000
DTEND;TZID=America/New_York:20251006T110000
DTSTAMP:20260420T180409
CREATED:20250804T230148Z
LAST-MODIFIED:20260203T060141Z
UID:10022434-1759744800-1759748400@hartforduu.org
SUMMARY:Gentle Yoga - Meditation Sanctuary
DESCRIPTION:Gentle Yoga\, Monday Mornings at 10 \nGentle Yoga meets weekly on Monday mornings\, in the Meditation rooms. Led by experienced yoga practitioner and teacher LU Giammatteo\, these hour-long sessions incorporate gentle stretching and strengthening positions and movements in a supportive\, encouraging environment. Stand or sit\, according to your preference and ability… all levels are welcome. \nIf you’d like to learn more before showing up\, email LU with your questions. \nParticipants are asked to donate $5 per session (proceeds to USH) if their situation allows.
URL:https://hartforduu.org/event/gentle-yoga-meditation-sanctuary-2/2025-10-06/
END:VEVENT
BEGIN:VEVENT
DTSTART;TZID=America/New_York:20251006T183000
DTEND;TZID=America/New_York:20251006T200000
DTSTAMP:20260420T180409
CREATED:20250916T231525Z
LAST-MODIFIED:20250916T231525Z
UID:10023673-1759775400-1759780800@hartforduu.org
SUMMARY:"Stories of Our Lives" Adult Religious Education Course - ZOOM
DESCRIPTION:Adult RE Offering from Rev. Bob:\n“The Stories of our Lives” \nThis Adult Religious Exploration course looks at the stories that impact our lives – sacred stories\, meaningful stories\, challenging stories. Class participants will be invited to read\, on their own time\, some of the world’s great texts (this class is not graded and offers no credits and no shaming\, so homework really is totally optional!). Stories we will explore together may include any of the following: \n\nStories of our beginnings: Genesis\, sacred stories from various traditions\nStories of morality: the Bhagavad Gita\, John Rawls\, Lord of the Rings & Harry Potter\nStories of our universe: relativistic physics\, chaos theory\nStories of the emergent self: The Color Purple\, Joseph Campbell\, Precious\, Hamlet\nStories of Love: Pride and Prejudice\, Upanishads\nStories of Mystery and Relationship: The Gospels\, Cloud of Unknowing\nNational Stories: A People’s History\, These Truths\n\nClearly\, there will be a lot of (entirely optional!) reading. But the classes themselves will not be merely a book review – principally\, we will use the texts as a lens at which to look at the sacred story of our own lives. What does it mean to be human? What are the possibilities of a human life? How do we make sense of it all? \nThis is not a lecture series. I hope to employ a variety of pedagogical methods\, to get folks to talk to one another and engage on a deep level. \nThe class meets on Monday evenings twice a month\, October through May. \nThe FIRST MONDAY of each month is ZOOM ONLY. 6:30 – 8 pm. \nThe THIRD MONDAY of each month is IN PERSON AT USH. 6:30 – 8:00 pm \nPlease note these are two DIFFERENT sessions\, on the same topic. The Zoom session is more introductory and conversational. In the second session\, we explore the topic in greater depth\, using different modes of participation. These sessions are not hybrid – meaning if you want to attend only in person or only on Zoom\, unfortunately you won’t be able to attend both sessions. But there’s no problem with only attending once a month. \nThe course is free\, but registration is required to help me communicate with the class better. Once you register\, you’ll receive a syllabus and a schedule with locations and Zoom links. \nWhen I was wondering what to offer in Adult RE this year\, I though about what I would most like to take\, as a participant. This is what I came up with\, and I’m trying it out for the first time. So needless to say\, I’m very excited about it! Any questions \, please feel free to ask me anything. Thanks! \nGratefully yours\, \nRev. Bob
URL:https://hartforduu.org/event/stories-of-our-lives-adult-religious-education-course-zoom/2025-10-06/
END:VEVENT
BEGIN:VEVENT
DTSTART;TZID=America/New_York:20251006T190000
DTEND;TZID=America/New_York:20251006T213000
DTSTAMP:20260420T180409
CREATED:20250713T152626Z
LAST-MODIFIED:20250904T153212Z
UID:10022136-1759777200-1759786200@hartforduu.org
SUMMARY:Hartford Gay Men's Chorus (HGMC) Rehearsal - Chapel and Fellowship Hall
DESCRIPTION:
URL:https://hartforduu.org/event/hgmc-rehearsal-small-chapel-and-fellowship-hall-2/2025-10-06/
END:VEVENT
BEGIN:VEVENT
DTSTART;TZID=America/New_York:20251007T183000
DTEND;TZID=America/New_York:20251007T210000
DTSTAMP:20260420T180409
CREATED:20251004T223107Z
LAST-MODIFIED:20251004T223107Z
UID:10023920-1759861800-1759870800@hartforduu.org
SUMMARY:On That Note Rehearsal - Fellowship Hall/Chapel
DESCRIPTION:
URL:https://hartforduu.org/event/on-that-note-rehearsal-fellowship-hall-chapel/
END:VEVENT
BEGIN:VEVENT
DTSTART;TZID=America/New_York:20251008T100000
DTEND;TZID=America/New_York:20251008T120000
DTSTAMP:20260420T180409
CREATED:20250803T004459Z
LAST-MODIFIED:20250917T194633Z
UID:10022358-1759917600-1759924800@hartforduu.org
SUMMARY:The Joy of Writing - Fellowship Hall
DESCRIPTION:
URL:https://hartforduu.org/event/ush-writing-workshop-fellowship-hall/2025-10-08/
END:VEVENT
BEGIN:VEVENT
DTSTART;TZID=America/New_York:20251008T100000
DTEND;TZID=America/New_York:20251008T130000
DTSTAMP:20260420T180409
CREATED:20251007T144007Z
LAST-MODIFIED:20251007T144007Z
UID:10023027-1759917600-1759928400@hartforduu.org
SUMMARY:Hands & Hearts Group - Murray
DESCRIPTION:Welcome all Creative Spirits and Crafters to the new\, weekly group ‘Hands & Hearts’ on Friday afternoons from 3-5pm in Murray. Many of us already know the kind of meditative solace and cadent creativity that working with your hands can offer. This group is an opportunity to talk\, share\, relate\, and relax as we work on our projects together. Bring your knitting\, crochet work\, sewing\, quilting\, hooking\, (any kind of handwork you enjoy)\, as well as your news\, your thoughts\, your worries\, and whatever’s on your mind. There will always be available supplies in our ‘fiber library’ if you’d like to start a new project\, or try something new. If you are not a crafter but would love the camaraderie and the chance to meet new friends\, you are very welcome. \n  \nFor more information\, please contact Deana
URL:https://hartforduu.org/event/hands-hearts-group-murray-2-5-2/
END:VEVENT
BEGIN:VEVENT
DTSTART;TZID=America/New_York:20251008T170000
DTEND;TZID=America/New_York:20251008T183000
DTSTAMP:20260420T180409
CREATED:20250916T144122Z
LAST-MODIFIED:20251007T175222Z
UID:10023936-1759942800-1759948200@hartforduu.org
SUMMARY:Helping Parents Heal Book Club - Library
DESCRIPTION:
URL:https://hartforduu.org/event/helping-parents-heal-book-club-library/2025-10-08/
END:VEVENT
BEGIN:VEVENT
DTSTART;TZID=America/New_York:20251009T143000
DTEND;TZID=America/New_York:20251009T160000
DTSTAMP:20260420T180409
CREATED:20250714T201245Z
LAST-MODIFIED:20250805T033805Z
UID:10022262-1760020200-1760025600@hartforduu.org
SUMMARY:USH Book Club - Zoom
DESCRIPTION:The USH Book Club meets from 2:30 – 4 PM on the 2nd Thursday of each month\, September through June\, on Zoom.  If you would like to participate in a discussion of the book and related issues\, please contact Ginny Allen at fiddlenurse1@gmail.com.  An email with the Zoom link will be sent to you several days before the meeting. \n  \nThe goals of the USH Book Club are:  \n\nto foster communication and community\, as do our other small church groups\, and\nto read fiction and non-fiction that represents a variety of styles\, eras and genres.\n\nFormat: \nWe begin with a period of check-in.  Each meeting has a designated leader who guides the discussion\, initially giving each participant an opportunity to share his/her thoughts on the book.  This is then followed by a full group discussion.  We end each meeting with members sharing the titles of books\, movies or TV shows that they would like to recommend to others. \n  \nBook selections for 2025-2026 \n  \nSeptember 11\, 2025: Fox by Joyce Carol Oates \nOctober 9\, 2025: The Bridge of San Luis Rey by Thornton Wilder \nNovember 13\, 2025:  We are Water  by Wally Lamb \nDecember 11\, 2025:  Heart Lamp by Banu \nJanuary 8\, 2026: Abundance by Ezra Klein and Derek Thompson \nFebruary 12\, 2026: The Emperor of Gladness by Ocean Vuong \nMarch 12\, 2026: James by Percival Everett \nApril 9\, 2026: The Education of Ebenezer Wells by Louise Harmon \nMay 14\, 2026: The Love Elixir of Augusta Stern by Linda Cohen Loigman \nJune 11\, 2026: How to Read a Book by Monica Wood
URL:https://hartforduu.org/event/ush-book-club-zoom/2025-10-09/
END:VEVENT
BEGIN:VEVENT
DTSTART;TZID=America/New_York:20251009T180000
DTEND;TZID=America/New_York:20251009T193000
DTSTAMP:20260420T180409
CREATED:20251007T160509Z
LAST-MODIFIED:20251007T160509Z
UID:10022838-1760032800-1760038200@hartforduu.org
SUMMARY:Worship Associates Mtg. - Murray
DESCRIPTION:
URL:https://hartforduu.org/event/worship-associates-mtg-library-5-3/
END:VEVENT
BEGIN:VEVENT
DTSTART;TZID=America/New_York:20251010T153000
DTEND;TZID=America/New_York:20251010T170000
DTSTAMP:20260420T180409
CREATED:20250805T030737Z
LAST-MODIFIED:20260112T031204Z
UID:10022811-1760110200-1760115600@hartforduu.org
SUMMARY:Set Up - Pizza and a Movie - Fellowship Hall
DESCRIPTION:
URL:https://hartforduu.org/event/set-up-pizza-and-a-movie-fellowship-hall/2025-10-10/
END:VEVENT
BEGIN:VEVENT
DTSTART;TZID=America/New_York:20251010T170000
DTEND;TZID=America/New_York:20251010T210000
DTSTAMP:20260420T180409
CREATED:20250803T001743Z
LAST-MODIFIED:20260112T031302Z
UID:10022793-1760115600-1760130000@hartforduu.org
SUMMARY:Pizza and a Movie Night - Fellowship Hall
DESCRIPTION:
URL:https://hartforduu.org/event/pizza-and-a-movie-night-fellowship-hall-2/2025-10-10/
END:VEVENT
BEGIN:VEVENT
DTSTART;TZID=America/New_York:20251011T080000
DTEND;TZID=America/New_York:20251011T190000
DTSTAMP:20260420T180409
CREATED:20250913T123551Z
LAST-MODIFIED:20250913T123551Z
UID:10023603-1760169600-1760209200@hartforduu.org
SUMMARY:Sathya Sai Center Silent Retreat - Fellowship Hall
DESCRIPTION:
URL:https://hartforduu.org/event/sathya-sai-center-silent-retreat-fellowship-hall/
END:VEVENT
BEGIN:VEVENT
DTSTART;TZID=America/New_York:20251011T100000
DTEND;TZID=America/New_York:20251011T113000
DTSTAMP:20260420T180409
CREATED:20250825T232659Z
LAST-MODIFIED:20250825T232659Z
UID:10023295-1760176800-1760182200@hartforduu.org
SUMMARY:SpiritChats with Nicholas Bartoli - Meditation Sanctuary
DESCRIPTION:
URL:https://hartforduu.org/event/spiritchats-with-nicholas-bartoli-meditation-sanctuary/2025-10-11/
END:VEVENT
BEGIN:VEVENT
DTSTART;TZID=America/New_York:20251012T090000
DTEND;TZID=America/New_York:20251012T101500
DTSTAMP:20260420T180409
CREATED:20250803T001609Z
LAST-MODIFIED:20260303T165127Z
UID:10025056-1760259600-1760264100@hartforduu.org
SUMMARY:Building and Grounds Mtg. - Servetus
DESCRIPTION:
URL:https://hartforduu.org/event/building-and-grounds-mtg-servetus/2025-10-12/
END:VEVENT
BEGIN:VEVENT
DTSTART;TZID=America/New_York:20251012T121500
DTEND;TZID=America/New_York:20251012T134500
DTSTAMP:20260420T180409
CREATED:20250803T002130Z
LAST-MODIFIED:20250907T044001Z
UID:10022326-1760271300-1760276700@hartforduu.org
SUMMARY:Caring Network - Murray
DESCRIPTION:
URL:https://hartforduu.org/event/caring-network-murray-2/2025-10-12/
END:VEVENT
BEGIN:VEVENT
DTSTART;TZID=America/New_York:20251012T140000
DTEND;TZID=America/New_York:20251012T180000
DTSTAMP:20260420T180409
CREATED:20250902T165912Z
LAST-MODIFIED:20250902T165912Z
UID:10023327-1760277600-1760292000@hartforduu.org
SUMMARY:Sathya Sai Center - Fellowship Hall (Rental)
DESCRIPTION:
URL:https://hartforduu.org/event/sathya-sai-center-fellowship-hall-rental/2025-10-12/
END:VEVENT
BEGIN:VEVENT
DTSTART;TZID=America/New_York:20251012T180000
DTEND;TZID=America/New_York:20251012T190000
DTSTAMP:20260420T180409
CREATED:20240703T180456Z
LAST-MODIFIED:20250325T145519Z
UID:10018261-1760292000-1760295600@hartforduu.org
SUMMARY:Recovery Dharma Group- Meditation Sanctuary
DESCRIPTION:
URL:https://hartforduu.org/event/recovery-dharma-group-meditation-sanctuary/2025-10-12/
END:VEVENT
BEGIN:VEVENT
DTSTART;TZID=America/New_York:20251013T100000
DTEND;TZID=America/New_York:20251013T110000
DTSTAMP:20260420T180409
CREATED:20250804T230148Z
LAST-MODIFIED:20260203T060141Z
UID:10022435-1760349600-1760353200@hartforduu.org
SUMMARY:Gentle Yoga - Meditation Sanctuary
DESCRIPTION:Gentle Yoga\, Monday Mornings at 10 \nGentle Yoga meets weekly on Monday mornings\, in the Meditation rooms. Led by experienced yoga practitioner and teacher LU Giammatteo\, these hour-long sessions incorporate gentle stretching and strengthening positions and movements in a supportive\, encouraging environment. Stand or sit\, according to your preference and ability… all levels are welcome. \nIf you’d like to learn more before showing up\, email LU with your questions. \nParticipants are asked to donate $5 per session (proceeds to USH) if their situation allows.
URL:https://hartforduu.org/event/gentle-yoga-meditation-sanctuary-2/2025-10-13/
END:VEVENT
BEGIN:VEVENT
DTSTART;TZID=America/New_York:20251013T190000
DTEND;TZID=America/New_York:20251013T213000
DTSTAMP:20260420T180409
CREATED:20250713T152626Z
LAST-MODIFIED:20250904T153212Z
UID:10022137-1760382000-1760391000@hartforduu.org
SUMMARY:Hartford Gay Men's Chorus (HGMC) Rehearsal - Chapel and Fellowship Hall
DESCRIPTION:
URL:https://hartforduu.org/event/hgmc-rehearsal-small-chapel-and-fellowship-hall-2/2025-10-13/
END:VEVENT
BEGIN:VEVENT
DTSTART;TZID=America/New_York:20251014T130000
DTEND;TZID=America/New_York:20251014T150000
DTSTAMP:20260420T180409
CREATED:20250930T153736Z
LAST-MODIFIED:20250930T154026Z
UID:10023848-1760446800-1760454000@hartforduu.org
SUMMARY:Connection Circles - David's Den
DESCRIPTION:
URL:https://hartforduu.org/event/connection-circles-davids-den-2/2025-10-14/
END:VEVENT
BEGIN:VEVENT
DTSTART;TZID=America/New_York:20251014T133000
DTEND;TZID=America/New_York:20251014T190000
DTSTAMP:20260420T180409
CREATED:20250820T161005Z
LAST-MODIFIED:20250820T161005Z
UID:10023283-1760448600-1760468400@hartforduu.org
SUMMARY:UHart Tennis Games - Parking lot
DESCRIPTION:
URL:https://hartforduu.org/event/uhart-tennis-games-parking-lot/2025-10-14/
END:VEVENT
BEGIN:VEVENT
DTSTART;TZID=America/New_York:20251014T170000
DTEND;TZID=America/New_York:20251014T183000
DTSTAMP:20260420T180409
CREATED:20250916T144122Z
LAST-MODIFIED:20251007T175222Z
UID:10023609-1760461200-1760466600@hartforduu.org
SUMMARY:Helping Parents Heal Book Club - Library
DESCRIPTION:
URL:https://hartforduu.org/event/helping-parents-heal-book-club-library/2025-10-14/
END:VEVENT
BEGIN:VEVENT
DTSTART;TZID=America/New_York:20251015T100000
DTEND;TZID=America/New_York:20251015T130000
DTSTAMP:20260420T180409
CREATED:20251007T144145Z
LAST-MODIFIED:20251007T144145Z
UID:10023028-1760522400-1760533200@hartforduu.org
SUMMARY:Hands & Hearts Group - Murray
DESCRIPTION:Welcome all Creative Spirits and Crafters to the new\, weekly group ‘Hands & Hearts’ on Friday afternoons from 3-5pm in Murray. Many of us already know the kind of meditative solace and cadent creativity that working with your hands can offer. This group is an opportunity to talk\, share\, relate\, and relax as we work on our projects together. Bring your knitting\, crochet work\, sewing\, quilting\, hooking\, (any kind of handwork you enjoy)\, as well as your news\, your thoughts\, your worries\, and whatever’s on your mind. There will always be available supplies in our ‘fiber library’ if you’d like to start a new project\, or try something new. If you are not a crafter but would love the camaraderie and the chance to meet new friends\, you are very welcome. \n  \nFor more information\, please contact Deana
URL:https://hartforduu.org/event/hands-hearts-group-murray-2-5-3/
END:VEVENT
BEGIN:VEVENT
DTSTART;TZID=America/New_York:20251015T133000
DTEND;TZID=America/New_York:20251015T153000
DTSTAMP:20260420T180409
CREATED:20251008T173223Z
LAST-MODIFIED:20251216T063538Z
UID:10023938-1760535000-1760542200@hartforduu.org
SUMMARY:Connection Circles - David's Den
DESCRIPTION:
URL:https://hartforduu.org/event/connection-circles-david-den/2025-10-15/
END:VEVENT
BEGIN:VEVENT
DTSTART;TZID=America/New_York:20251016T190000
DTEND;TZID=America/New_York:20251016T210000
DTSTAMP:20260420T180409
CREATED:20251014T034015Z
LAST-MODIFIED:20251014T034015Z
UID:10024007-1760641200-1760648400@hartforduu.org
SUMMARY:Hartford Gay Men's Chorus Acting Rehearsals - Fellowship Hall (Rental)
DESCRIPTION:
URL:https://hartforduu.org/event/hartford-gay-mens-chorus-acting-rehearsals-fellowship-hall-rental/2025-10-16/
END:VEVENT
BEGIN:VEVENT
DTSTART;TZID=America/New_York:20251016T190000
DTEND;TZID=America/New_York:20251016T213000
DTSTAMP:20260420T180409
CREATED:20251011T104023Z
LAST-MODIFIED:20251011T104023Z
UID:10024001-1760641200-1760650200@hartforduu.org
SUMMARY:Hartford Gay Men's Chorus Rehearsal - Fellowship Hall
DESCRIPTION:
URL:https://hartforduu.org/event/hartford-gay-mens-chorus-rehearsal-fellowship-hall/
END:VEVENT
BEGIN:VEVENT
DTSTART;TZID=America/New_York:20251017T160000
DTEND;TZID=America/New_York:20251017T220000
DTSTAMP:20260420T180409
CREATED:20240927T203932Z
LAST-MODIFIED:20240927T203932Z
UID:10015957-1760716800-1760738400@hartforduu.org
SUMMARY:Meeting House Presents Set Up and Clean Up
DESCRIPTION:
URL:https://hartforduu.org/event/meeting-house-presents-set/2025-10-17/
LOCATION:Upstairs Lobby/Sanctuary/Fellowship Hall/Kitchen/Meditation Room
END:VEVENT
BEGIN:VEVENT
DTSTART;TZID=America/New_York:20251017T190000
DTEND;TZID=America/New_York:20251017T220000
DTSTAMP:20260420T180409
CREATED:20250318T215711Z
LAST-MODIFIED:20250725T144221Z
UID:10021196-1760727600-1760738400@hartforduu.org
SUMMARY:Meeting House Presents
DESCRIPTION:Doors open at 6:30 for the 7:00 show. \nSet-up 5:00 p.m. \nAdditional information: https://hartforduu.org/meeting-house-presents/
URL:https://hartforduu.org/event/meeting-house-presents/2025-10-17/
END:VEVENT
BEGIN:VEVENT
DTSTART;TZID=America/New_York:20251018T090000
DTEND;TZID=America/New_York:20251018T130000
DTSTAMP:20260420T180409
CREATED:20250201T042757Z
LAST-MODIFIED:20250825T233559Z
UID:10020153-1760778000-1760792400@hartforduu.org
SUMMARY:Reiki Share - Meditation Sanctuary
DESCRIPTION:REIKI SHARE – This is a monthly gathering on the third Saturday morning\, 9:30 am-12:30 pm. Ready to Refresh\, Reconnect and Rejuvenate your Reiki?  This Reiki Share is a great opportunity to support Reiki practitioners at all levels.  Whether you are just starting out\, you haven’t practiced in awhile\, or you are more experienced you are most welcome.  This Share is open to the USH community as long as you have some level of Reiki training. It is dedicated to refreshing and reconnecting you with your Reiki energy and enjoying self and group healings. We open and close with discussion and sound meditation\, then we take turns on massage tables giving and receiving this Japanese style energy healing practice in small groups. Advanced registration is requested so we have sufficient tables available. Questions may be directed by phone or text to Lisa Burch\, 860-985-9719\, or email:  spiritmattersct@outlook.com. A donation is requested\, suggested $15/20.
URL:https://hartforduu.org/event/reiki-share-meditation-sanctuary-2/2025-10-18/
END:VEVENT
END:VCALENDAR