BEGIN:VCALENDAR
VERSION:2.0
PRODID:-//Unitarian Society of Hartford - ECPv6.15.18//NONSGML v1.0//EN
CALSCALE:GREGORIAN
METHOD:PUBLISH
X-ORIGINAL-URL:https://hartforduu.org
X-WR-CALDESC:Events for Unitarian Society of Hartford
REFRESH-INTERVAL;VALUE=DURATION:PT1H
X-Robots-Tag:noindex
X-PUBLISHED-TTL:PT1H
BEGIN:VTIMEZONE
TZID:America/New_York
BEGIN:DAYLIGHT
TZOFFSETFROM:-0500
TZOFFSETTO:-0400
TZNAME:EDT
DTSTART:20250309T070000
END:DAYLIGHT
BEGIN:STANDARD
TZOFFSETFROM:-0400
TZOFFSETTO:-0500
TZNAME:EST
DTSTART:20251102T060000
END:STANDARD
BEGIN:DAYLIGHT
TZOFFSETFROM:-0500
TZOFFSETTO:-0400
TZNAME:EDT
DTSTART:20260308T070000
END:DAYLIGHT
BEGIN:STANDARD
TZOFFSETFROM:-0400
TZOFFSETTO:-0500
TZNAME:EST
DTSTART:20261101T060000
END:STANDARD
BEGIN:DAYLIGHT
TZOFFSETFROM:-0500
TZOFFSETTO:-0400
TZNAME:EDT
DTSTART:20270314T070000
END:DAYLIGHT
BEGIN:STANDARD
TZOFFSETFROM:-0400
TZOFFSETTO:-0500
TZNAME:EST
DTSTART:20271107T060000
END:STANDARD
END:VTIMEZONE
BEGIN:VEVENT
DTSTART;TZID=America/New_York:20260820T130000
DTEND;TZID=America/New_York:20260820T140000
DTSTAMP:20260421T012257
CREATED:20260317T213650Z
LAST-MODIFIED:20260317T213650Z
UID:10026098-1787230800-1787234400@hartforduu.org
SUMMARY:Weekly Meditation - Meditation Room
DESCRIPTION:
URL:https://hartforduu.org/event/weekly-meditation-meditation-room/2026-08-20/
END:VEVENT
BEGIN:VEVENT
DTSTART;TZID=America/New_York:20260821T130000
DTEND;TZID=America/New_York:20260821T150000
DTSTAMP:20260421T012257
CREATED:20250820T160223Z
LAST-MODIFIED:20260203T062159Z
UID:10025126-1787317200-1787324400@hartforduu.org
SUMMARY:Hands & Hearts Group - ON HOLD
DESCRIPTION:Welcome all Creative Spirits and Crafters to the new\, weekly group ‘Hands & Hearts’ on Friday afternoons from 3-5pm in Murray. Many of us already know the kind of meditative solace and cadent creativity that working with your hands can offer. This group is an opportunity to talk\, share\, relate\, and relax as we work on our projects together. Bring your knitting\, crochet work\, sewing\, quilting\, hooking\, (any kind of handwork you enjoy)\, as well as your news\, your thoughts\, your worries\, and whatever’s on your mind. There will always be available supplies in our ‘fiber library’ if you’d like to start a new project\, or try something new. If you are not a crafter but would love the camaraderie and the chance to meet new friends\, you are very welcome. \n  \nFor more information\, please contact Deana
URL:https://hartforduu.org/event/hands-hearts-group-murray-2-5/2026-08-21/
END:VEVENT
BEGIN:VEVENT
DTSTART;TZID=America/New_York:20260822T100000
DTEND;TZID=America/New_York:20260822T113000
DTSTAMP:20260421T012257
CREATED:20260112T031726Z
LAST-MODIFIED:20260209T032059Z
UID:10025547-1787392800-1787398200@hartforduu.org
SUMMARY:SpiritChat - Meditation Sanctuary
DESCRIPTION:SpiritChat is offered at USH on the second and fourth Saturdays of the month from 10:00am to 11:30am and typically begin with twenty minutes of silent meditation. Nicholas then gives a brief reflection\, often accompanied by a handout. Meetings conclude with a question-and-answer period. Those curious to know more may contact Nicholas at: info@nicholasbartoli.com.
URL:https://hartforduu.org/event/spiritchat-meditation-sanctuary-2/2026-08-22/
END:VEVENT
BEGIN:VEVENT
DTSTART;TZID=America/New_York:20260823T103000
DTEND;TZID=America/New_York:20260823T123000
DTSTAMP:20260421T012257
CREATED:20251111T200608Z
LAST-MODIFIED:20251111T200608Z
UID:10024668-1787481000-1787488200@hartforduu.org
SUMMARY:Sunday Worship & Fellowship Time
DESCRIPTION:Services are livestreamed every Sunday on Zoom and Facebook \nZoom info: Meeting ID: 931 0388 7934 \nVirtual Coffee Hour to follow \n* Note: Zoom Coffee Hour ends at noon \nPast Services
URL:https://hartforduu.org/event/sunday-worship-fellowship-time/2026-08-23/
END:VEVENT
BEGIN:VEVENT
DTSTART;TZID=America/New_York:20260823T140000
DTEND;TZID=America/New_York:20260823T180000
DTSTAMP:20260421T012257
CREATED:20250902T165912Z
LAST-MODIFIED:20250902T165912Z
UID:10023372-1787493600-1787508000@hartforduu.org
SUMMARY:Sathya Sai Center - Fellowship Hall (Rental)
DESCRIPTION:
URL:https://hartforduu.org/event/sathya-sai-center-fellowship-hall-rental/2026-08-23/
END:VEVENT
BEGIN:VEVENT
DTSTART;TZID=America/New_York:20260823T150000
DTEND;TZID=America/New_York:20260823T180000
DTSTAMP:20260421T012257
CREATED:20251111T193650Z
LAST-MODIFIED:20251111T193650Z
UID:10024405-1787497200-1787508000@hartforduu.org
SUMMARY:Daniel’s House of Prayer – Chapel/Library (Rental)
DESCRIPTION:
URL:https://hartforduu.org/event/daniels-house-of-prayer-chapel-library-rental/2026-08-23/
END:VEVENT
BEGIN:VEVENT
DTSTART;TZID=America/New_York:20260823T180000
DTEND;TZID=America/New_York:20260823T190000
DTSTAMP:20260421T012257
CREATED:20240703T180456Z
LAST-MODIFIED:20250325T145519Z
UID:10018306-1787508000-1787511600@hartforduu.org
SUMMARY:Recovery Dharma Group- Meditation Sanctuary
DESCRIPTION:
URL:https://hartforduu.org/event/recovery-dharma-group-meditation-sanctuary/2026-08-23/
END:VEVENT
BEGIN:VEVENT
DTSTART;TZID=America/New_York:20260824T183000
DTEND;TZID=America/New_York:20260824T203000
DTSTAMP:20260421T012257
CREATED:20250814T223901Z
LAST-MODIFIED:20250814T224339Z
UID:10022947-1787596200-1787603400@hartforduu.org
SUMMARY:Board Meeting - Library
DESCRIPTION:USH Board Meeting\nFourth Monday of each month\, 6:30 – 8:30 p.m. (If a holiday\, the meeting will be held on the following Tuesday)\nIn-person in the Library and on Zoom\nBoard meetings are public and all are welcome to attend. \nJoin Zoom Meeting \nhttps://us02web.zoom.us/j/81272126940 \nMeeting ID: 812 721 26940
URL:https://hartforduu.org/event/board-meeting-library-3/2026-08-24/
LOCATION:David’s Den/Library
END:VEVENT
BEGIN:VEVENT
DTSTART;TZID=America/New_York:20260826T130000
DTEND;TZID=America/New_York:20260826T150000
DTSTAMP:20260421T012257
CREATED:20260223T170818Z
LAST-MODIFIED:20260223T170818Z
UID:10025951-1787749200-1787756400@hartforduu.org
SUMMARY:Connection Circles - David's Den/Library
DESCRIPTION:
URL:https://hartforduu.org/event/connection-circles-davids-den-library/2026-08-26/
END:VEVENT
BEGIN:VEVENT
DTSTART;TZID=America/New_York:20260827T090000
DTEND;TZID=America/New_York:20260827T220000
DTSTAMP:20260421T012257
CREATED:20251028T194028Z
LAST-MODIFIED:20251028T194028Z
UID:10024071-1787821200-1787868000@hartforduu.org
SUMMARY:Mtg - Socinus
DESCRIPTION:
URL:https://hartforduu.org/event/mtg-socinus/2026-08-27/
END:VEVENT
BEGIN:VEVENT
DTSTART;TZID=America/New_York:20260827T130000
DTEND;TZID=America/New_York:20260827T140000
DTSTAMP:20260421T012257
CREATED:20260317T213650Z
LAST-MODIFIED:20260317T213650Z
UID:10026099-1787835600-1787839200@hartforduu.org
SUMMARY:Weekly Meditation - Meditation Room
DESCRIPTION:
URL:https://hartforduu.org/event/weekly-meditation-meditation-room/2026-08-27/
END:VEVENT
BEGIN:VEVENT
DTSTART;TZID=America/New_York:20260828T130000
DTEND;TZID=America/New_York:20260828T150000
DTSTAMP:20260421T012257
CREATED:20250819T172955Z
LAST-MODIFIED:20250907T042436Z
UID:10021942-1787922000-1787929200@hartforduu.org
SUMMARY:ON HOLD\, No Mtgs - Genealogy Group
DESCRIPTION:Meetings are currently on hold. If you are interested in learning more\, contact Laura Cipriano \n  \nAre you interested in genealogy? You are welcome to join us wherever you are in your search\, expert or a beginner or anywhere in between. Bring a laptop or a tablet if you want to open the websites\, or just come to watch\, listen\, and help out. A notebook and a few names\, dates\, and locations is a great way to begin. Each month we will explore a different way to use free technology to learn more about your family history. Meet in the USH Library. \nContact Larry Lunden or Laura Cipriano for more information.
URL:https://hartforduu.org/event/genealogy-group-2-2/2026-08-28/
LOCATION:Libary/David’s Den
END:VEVENT
BEGIN:VEVENT
DTSTART;TZID=America/New_York:20260828T130000
DTEND;TZID=America/New_York:20260828T150000
DTSTAMP:20260421T012257
CREATED:20250820T160223Z
LAST-MODIFIED:20260203T062159Z
UID:10025127-1787922000-1787929200@hartforduu.org
SUMMARY:Hands & Hearts Group - ON HOLD
DESCRIPTION:Welcome all Creative Spirits and Crafters to the new\, weekly group ‘Hands & Hearts’ on Friday afternoons from 3-5pm in Murray. Many of us already know the kind of meditative solace and cadent creativity that working with your hands can offer. This group is an opportunity to talk\, share\, relate\, and relax as we work on our projects together. Bring your knitting\, crochet work\, sewing\, quilting\, hooking\, (any kind of handwork you enjoy)\, as well as your news\, your thoughts\, your worries\, and whatever’s on your mind. There will always be available supplies in our ‘fiber library’ if you’d like to start a new project\, or try something new. If you are not a crafter but would love the camaraderie and the chance to meet new friends\, you are very welcome. \n  \nFor more information\, please contact Deana
URL:https://hartforduu.org/event/hands-hearts-group-murray-2-5/2026-08-28/
END:VEVENT
BEGIN:VEVENT
DTSTART;TZID=America/New_York:20260830T103000
DTEND;TZID=America/New_York:20260830T123000
DTSTAMP:20260421T012257
CREATED:20251111T200608Z
LAST-MODIFIED:20251111T200608Z
UID:10024669-1788085800-1788093000@hartforduu.org
SUMMARY:Sunday Worship & Fellowship Time
DESCRIPTION:Services are livestreamed every Sunday on Zoom and Facebook \nZoom info: Meeting ID: 931 0388 7934 \nVirtual Coffee Hour to follow \n* Note: Zoom Coffee Hour ends at noon \nPast Services
URL:https://hartforduu.org/event/sunday-worship-fellowship-time/2026-08-30/
END:VEVENT
BEGIN:VEVENT
DTSTART;TZID=America/New_York:20260830T140000
DTEND;TZID=America/New_York:20260830T180000
DTSTAMP:20260421T012257
CREATED:20250902T165912Z
LAST-MODIFIED:20250902T165912Z
UID:10023373-1788098400-1788112800@hartforduu.org
SUMMARY:Sathya Sai Center - Fellowship Hall (Rental)
DESCRIPTION:
URL:https://hartforduu.org/event/sathya-sai-center-fellowship-hall-rental/2026-08-30/
END:VEVENT
BEGIN:VEVENT
DTSTART;TZID=America/New_York:20260830T150000
DTEND;TZID=America/New_York:20260830T180000
DTSTAMP:20260421T012257
CREATED:20251111T193650Z
LAST-MODIFIED:20251111T193650Z
UID:10024406-1788102000-1788112800@hartforduu.org
SUMMARY:Daniel’s House of Prayer – Chapel/Library (Rental)
DESCRIPTION:
URL:https://hartforduu.org/event/daniels-house-of-prayer-chapel-library-rental/2026-08-30/
END:VEVENT
BEGIN:VEVENT
DTSTART;TZID=America/New_York:20260830T180000
DTEND;TZID=America/New_York:20260830T190000
DTSTAMP:20260421T012257
CREATED:20240703T180456Z
LAST-MODIFIED:20250325T145519Z
UID:10018307-1788112800-1788116400@hartforduu.org
SUMMARY:Recovery Dharma Group- Meditation Sanctuary
DESCRIPTION:
URL:https://hartforduu.org/event/recovery-dharma-group-meditation-sanctuary/2026-08-30/
END:VEVENT
BEGIN:VEVENT
DTSTART;TZID=America/New_York:20260902T130000
DTEND;TZID=America/New_York:20260902T150000
DTSTAMP:20260421T012257
CREATED:20260223T170818Z
LAST-MODIFIED:20260223T170818Z
UID:10025952-1788354000-1788361200@hartforduu.org
SUMMARY:Connection Circles - David's Den/Library
DESCRIPTION:
URL:https://hartforduu.org/event/connection-circles-davids-den-library/2026-09-02/
END:VEVENT
BEGIN:VEVENT
DTSTART;TZID=America/New_York:20260902T133000
DTEND;TZID=America/New_York:20260902T153000
DTSTAMP:20260421T012257
CREATED:20251119T172621Z
LAST-MODIFIED:20251119T172841Z
UID:10024980-1788355800-1788363000@hartforduu.org
SUMMARY:Central Connecticut Quilters Connections - Classroom D
DESCRIPTION:
URL:https://hartforduu.org/event/central-connecticut-connections-classroom-d/2026-09-02/
END:VEVENT
BEGIN:VEVENT
DTSTART;TZID=America/New_York:20260903T090000
DTEND;TZID=America/New_York:20260903T220000
DTSTAMP:20260421T012257
CREATED:20251028T194028Z
LAST-MODIFIED:20251028T194028Z
UID:10024072-1788426000-1788472800@hartforduu.org
SUMMARY:Mtg - Socinus
DESCRIPTION:
URL:https://hartforduu.org/event/mtg-socinus/2026-09-03/
END:VEVENT
BEGIN:VEVENT
DTSTART;TZID=America/New_York:20260903T130000
DTEND;TZID=America/New_York:20260903T140000
DTSTAMP:20260421T012257
CREATED:20260317T213650Z
LAST-MODIFIED:20260317T213650Z
UID:10026100-1788440400-1788444000@hartforduu.org
SUMMARY:Weekly Meditation - Meditation Room
DESCRIPTION:
URL:https://hartforduu.org/event/weekly-meditation-meditation-room/2026-09-03/
END:VEVENT
BEGIN:VEVENT
DTSTART;TZID=America/New_York:20260903T190000
DTEND;TZID=America/New_York:20260903T203000
DTSTAMP:20260421T012257
CREATED:20250212T090113Z
LAST-MODIFIED:20250325T234024Z
UID:10019207-1788462000-1788467400@hartforduu.org
SUMMARY:Men's Group - David's Den
DESCRIPTION:The men’s group wants to open up the group to new members. We meet on the first Thursday of the month. Please contact Jim Landis at \njimlandis@aol.com for more information. All are welcome!
URL:https://hartforduu.org/event/mens-group-davids-den/2026-09-03/
END:VEVENT
BEGIN:VEVENT
DTSTART;TZID=America/New_York:20260904T130000
DTEND;TZID=America/New_York:20260904T150000
DTSTAMP:20260421T012257
CREATED:20250820T160223Z
LAST-MODIFIED:20260203T062159Z
UID:10025128-1788526800-1788534000@hartforduu.org
SUMMARY:Hands & Hearts Group - ON HOLD
DESCRIPTION:Welcome all Creative Spirits and Crafters to the new\, weekly group ‘Hands & Hearts’ on Friday afternoons from 3-5pm in Murray. Many of us already know the kind of meditative solace and cadent creativity that working with your hands can offer. This group is an opportunity to talk\, share\, relate\, and relax as we work on our projects together. Bring your knitting\, crochet work\, sewing\, quilting\, hooking\, (any kind of handwork you enjoy)\, as well as your news\, your thoughts\, your worries\, and whatever’s on your mind. There will always be available supplies in our ‘fiber library’ if you’d like to start a new project\, or try something new. If you are not a crafter but would love the camaraderie and the chance to meet new friends\, you are very welcome. \n  \nFor more information\, please contact Deana
URL:https://hartforduu.org/event/hands-hearts-group-murray-2-5/2026-09-04/
END:VEVENT
BEGIN:VEVENT
DTSTART;TZID=America/New_York:20260905T100000
DTEND;TZID=America/New_York:20260905T120000
DTSTAMP:20260421T012257
CREATED:20241112T030219Z
LAST-MODIFIED:20251125T162405Z
UID:10020033-1788602400-1788609600@hartforduu.org
SUMMARY:Helping Parents Heal - Library/David's Den
DESCRIPTION:Helping Parents Heal — Hartford is an affiliate chapter of Helping Parents Heal (https://www.helpingparentsheal.org)\, a non-profit organization dedicated to assisting parents whose children have passed. Our support group allows for an open discussion of spiritual experiences and afterlife evidence in a non-dogmatic way. We welcome everyone regardless of their religious or non-religious backgrounds. \nHelping Parents Heal recognizes several factors that contribute to the healing process: caring support from others\, interaction with people who have also experienced the loss of a child\, service to others\, personal transformation\, and discovering a reason for hope. This hope comes from acknowledging our spiritual/energetic natures and understanding that our loved ones continue on in another realm after physical death. \nParents\, grandparents\, and siblings of a child who has passed at any age are welcome to join us. Our group meets on the first Saturday of each month from 10:00 a.m. – noon. Please contact Pamela Hamad if you would like more information at hphhartford@gmail.com or (941) 544-1083.
URL:https://hartforduu.org/event/helping-parents-heal/2026-09-05/
END:VEVENT
BEGIN:VEVENT
DTSTART;TZID=America/New_York:20260905T103000
DTEND;TZID=America/New_York:20260905T120000
DTSTAMP:20260421T012257
CREATED:20231219T202559Z
LAST-MODIFIED:20250818T191400Z
UID:10021858-1788604200-1788609600@hartforduu.org
SUMMARY:Disability Support Group - Zoom
DESCRIPTION:This group meets online on the first Saturday of each month at 10:30 a.m. The zoom link is sent a few days prior to the meeting. In this group\, participants discuss the challenges of physical disability (chronic illness\, chronic pain\, impaired senses\, impaired mobility) and emotional pain (loss\, mental illness)\, and the stresses of caretaking a loved one. What is said in the group stays in the group. To confirm scheduling\, please Email Susan Hope or call 860 463 6407
URL:https://hartforduu.org/event/disability-support-group/2026-09-05/
END:VEVENT
BEGIN:VEVENT
DTSTART;TZID=America/New_York:20260906T103000
DTEND;TZID=America/New_York:20260906T123000
DTSTAMP:20260421T012257
CREATED:20251111T200608Z
LAST-MODIFIED:20251111T200608Z
UID:10024670-1788690600-1788697800@hartforduu.org
SUMMARY:Sunday Worship & Fellowship Time
DESCRIPTION:Services are livestreamed every Sunday on Zoom and Facebook \nZoom info: Meeting ID: 931 0388 7934 \nVirtual Coffee Hour to follow \n* Note: Zoom Coffee Hour ends at noon \nPast Services
URL:https://hartforduu.org/event/sunday-worship-fellowship-time/2026-09-06/
END:VEVENT
BEGIN:VEVENT
DTSTART;TZID=America/New_York:20260906T140000
DTEND;TZID=America/New_York:20260906T180000
DTSTAMP:20260421T012257
CREATED:20250902T165912Z
LAST-MODIFIED:20250902T165912Z
UID:10023374-1788703200-1788717600@hartforduu.org
SUMMARY:Sathya Sai Center - Fellowship Hall (Rental)
DESCRIPTION:
URL:https://hartforduu.org/event/sathya-sai-center-fellowship-hall-rental/2026-09-06/
END:VEVENT
BEGIN:VEVENT
DTSTART;TZID=America/New_York:20260906T150000
DTEND;TZID=America/New_York:20260906T180000
DTSTAMP:20260421T012257
CREATED:20251111T193650Z
LAST-MODIFIED:20251111T193650Z
UID:10024407-1788706800-1788717600@hartforduu.org
SUMMARY:Daniel’s House of Prayer – Chapel/Library (Rental)
DESCRIPTION:
URL:https://hartforduu.org/event/daniels-house-of-prayer-chapel-library-rental/2026-09-06/
END:VEVENT
BEGIN:VEVENT
DTSTART;TZID=America/New_York:20260906T180000
DTEND;TZID=America/New_York:20260906T190000
DTSTAMP:20260421T012257
CREATED:20240703T180456Z
LAST-MODIFIED:20250325T145519Z
UID:10018308-1788717600-1788721200@hartforduu.org
SUMMARY:Recovery Dharma Group- Meditation Sanctuary
DESCRIPTION:
URL:https://hartforduu.org/event/recovery-dharma-group-meditation-sanctuary/2026-09-06/
END:VEVENT
BEGIN:VEVENT
DTSTART;TZID=America/New_York:20260907T120000
DTEND;TZID=America/New_York:20260907T130000
DTSTAMP:20260421T012257
CREATED:20260217T160918Z
LAST-MODIFIED:20260225T040009Z
UID:10025996-1788782400-1788786000@hartforduu.org
SUMMARY:Rental Sub Council Meeting - Library
DESCRIPTION:
URL:https://hartforduu.org/event/rental-sub-council-meeting-library/2026-09-07/
END:VEVENT
END:VCALENDAR