BEGIN:VCALENDAR
VERSION:2.0
PRODID:-//Unitarian Society of Hartford - ECPv6.15.18//NONSGML v1.0//EN
CALSCALE:GREGORIAN
METHOD:PUBLISH
X-WR-CALNAME:Unitarian Society of Hartford
X-ORIGINAL-URL:https://hartforduu.org
X-WR-CALDESC:Events for Unitarian Society of Hartford
REFRESH-INTERVAL;VALUE=DURATION:PT1H
X-Robots-Tag:noindex
X-PUBLISHED-TTL:PT1H
BEGIN:VTIMEZONE
TZID:America/New_York
BEGIN:DAYLIGHT
TZOFFSETFROM:-0500
TZOFFSETTO:-0400
TZNAME:EDT
DTSTART:20250309T070000
END:DAYLIGHT
BEGIN:STANDARD
TZOFFSETFROM:-0400
TZOFFSETTO:-0500
TZNAME:EST
DTSTART:20251102T060000
END:STANDARD
BEGIN:DAYLIGHT
TZOFFSETFROM:-0500
TZOFFSETTO:-0400
TZNAME:EDT
DTSTART:20260308T070000
END:DAYLIGHT
BEGIN:STANDARD
TZOFFSETFROM:-0400
TZOFFSETTO:-0500
TZNAME:EST
DTSTART:20261101T060000
END:STANDARD
BEGIN:DAYLIGHT
TZOFFSETFROM:-0500
TZOFFSETTO:-0400
TZNAME:EDT
DTSTART:20270314T070000
END:DAYLIGHT
BEGIN:STANDARD
TZOFFSETFROM:-0400
TZOFFSETTO:-0500
TZNAME:EST
DTSTART:20271107T060000
END:STANDARD
END:VTIMEZONE
BEGIN:VEVENT
DTSTART;TZID=America/New_York:20261118T130000
DTEND;TZID=America/New_York:20261118T150000
DTSTAMP:20260421T011953
CREATED:20260223T170818Z
LAST-MODIFIED:20260223T170818Z
UID:10025963-1795006800-1795014000@hartforduu.org
SUMMARY:Connection Circles - David's Den/Library
DESCRIPTION:
URL:https://hartforduu.org/event/connection-circles-davids-den-library/2026-11-18/
END:VEVENT
BEGIN:VEVENT
DTSTART;TZID=America/New_York:20261119T090000
DTEND;TZID=America/New_York:20261119T220000
DTSTAMP:20260421T011953
CREATED:20251028T194028Z
LAST-MODIFIED:20251028T194028Z
UID:10024083-1795078800-1795125600@hartforduu.org
SUMMARY:Mtg - Socinus
DESCRIPTION:
URL:https://hartforduu.org/event/mtg-socinus/2026-11-19/
END:VEVENT
BEGIN:VEVENT
DTSTART;TZID=America/New_York:20261119T130000
DTEND;TZID=America/New_York:20261119T140000
DTSTAMP:20260421T011953
CREATED:20260317T213650Z
LAST-MODIFIED:20260317T213650Z
UID:10026111-1795093200-1795096800@hartforduu.org
SUMMARY:Weekly Meditation - Meditation Room
DESCRIPTION:
URL:https://hartforduu.org/event/weekly-meditation-meditation-room/2026-11-19/
END:VEVENT
BEGIN:VEVENT
DTSTART;TZID=America/New_York:20261120T130000
DTEND;TZID=America/New_York:20261120T150000
DTSTAMP:20260421T011953
CREATED:20250820T160223Z
LAST-MODIFIED:20260203T062159Z
UID:10025139-1795179600-1795186800@hartforduu.org
SUMMARY:Hands & Hearts Group - ON HOLD
DESCRIPTION:Welcome all Creative Spirits and Crafters to the new\, weekly group ‘Hands & Hearts’ on Friday afternoons from 3-5pm in Murray. Many of us already know the kind of meditative solace and cadent creativity that working with your hands can offer. This group is an opportunity to talk\, share\, relate\, and relax as we work on our projects together. Bring your knitting\, crochet work\, sewing\, quilting\, hooking\, (any kind of handwork you enjoy)\, as well as your news\, your thoughts\, your worries\, and whatever’s on your mind. There will always be available supplies in our ‘fiber library’ if you’d like to start a new project\, or try something new. If you are not a crafter but would love the camaraderie and the chance to meet new friends\, you are very welcome. \n  \nFor more information\, please contact Deana
URL:https://hartforduu.org/event/hands-hearts-group-murray-2-5/2026-11-20/
END:VEVENT
BEGIN:VEVENT
DTSTART;TZID=America/New_York:20261120T190000
DTEND;TZID=America/New_York:20261120T220000
DTSTAMP:20260421T011953
CREATED:20250318T215711Z
LAST-MODIFIED:20250725T144221Z
UID:10021209-1795201200-1795212000@hartforduu.org
SUMMARY:Meeting House Presents
DESCRIPTION:Doors open at 6:30 for the 7:00 show. \nSet-up 5:00 p.m. \nAdditional information: https://hartforduu.org/meeting-house-presents/
URL:https://hartforduu.org/event/meeting-house-presents/2026-11-20/
END:VEVENT
BEGIN:VEVENT
DTSTART;TZID=America/New_York:20261121T090000
DTEND;TZID=America/New_York:20261121T130000
DTSTAMP:20260421T011953
CREATED:20250201T042757Z
LAST-MODIFIED:20250825T233559Z
UID:10020166-1795251600-1795266000@hartforduu.org
SUMMARY:Reiki Share - Meditation Sanctuary
DESCRIPTION:REIKI SHARE – This is a monthly gathering on the third Saturday morning\, 9:30 am-12:30 pm. Ready to Refresh\, Reconnect and Rejuvenate your Reiki?  This Reiki Share is a great opportunity to support Reiki practitioners at all levels.  Whether you are just starting out\, you haven’t practiced in awhile\, or you are more experienced you are most welcome.  This Share is open to the USH community as long as you have some level of Reiki training. It is dedicated to refreshing and reconnecting you with your Reiki energy and enjoying self and group healings. We open and close with discussion and sound meditation\, then we take turns on massage tables giving and receiving this Japanese style energy healing practice in small groups. Advanced registration is requested so we have sufficient tables available. Questions may be directed by phone or text to Lisa Burch\, 860-985-9719\, or email:  spiritmattersct@outlook.com. A donation is requested\, suggested $15/20.
URL:https://hartforduu.org/event/reiki-share-meditation-sanctuary-2/2026-11-21/
END:VEVENT
BEGIN:VEVENT
DTSTART;TZID=America/New_York:20261121T140000
DTEND;TZID=America/New_York:20261121T170000
DTSTAMP:20260421T011953
CREATED:20240710T020049Z
LAST-MODIFIED:20250626T171905Z
UID:10021384-1795269600-1795280400@hartforduu.org
SUMMARY:Sing Along - Meditation Sanctuary
DESCRIPTION:Meeting House Sing-Along – Third Saturdays\nContact: Fred Louis FlLouis@yahoo.com or Ed Savage 860-966-8155 (cell) EdSavage03@yahoo.com\nJoin us at the next Meeting House Sing-Along. Fred Louis and Ed Savage are offering an opportunity to CT Singing families\, singers\, song-writers\, and audience members to join in song on the third Saturday of each month from 2 to 5 PM. We will have song-sheets and some loaner copies of Rise Up Singing available. Bring your own ‘Rise Up Singing’ if you have one\, as we have used it a lot in other months. We will also use the NEW “Rise Again” sequel – 1200 more songs to sample.\nVAX protocol: OK to sing\, socially spaced\, if you are vaccinated AND boosted; even so\, if anyone is uncomfortable about singing unmasked\, we should ALL wear masks. Please feel free to express your caution about COVID contagion by contacting Fred and Ed (see above).\nIf you have NOT completed your COVID vaccination cycle\, we ask that you skip the Sing-Alongs for now\, to protect you from US.
URL:https://hartforduu.org/event/sing-along-meditation-sanctuary/2026-11-21/
END:VEVENT
BEGIN:VEVENT
DTSTART;TZID=America/New_York:20261122T103000
DTEND;TZID=America/New_York:20261122T123000
DTSTAMP:20260421T011953
CREATED:20251111T200608Z
LAST-MODIFIED:20251111T200608Z
UID:10024681-1795343400-1795350600@hartforduu.org
SUMMARY:Sunday Worship & Fellowship Time
DESCRIPTION:Services are livestreamed every Sunday on Zoom and Facebook \nZoom info: Meeting ID: 931 0388 7934 \nVirtual Coffee Hour to follow \n* Note: Zoom Coffee Hour ends at noon \nPast Services
URL:https://hartforduu.org/event/sunday-worship-fellowship-time/2026-11-22/
END:VEVENT
BEGIN:VEVENT
DTSTART;TZID=America/New_York:20261122T140000
DTEND;TZID=America/New_York:20261122T180000
DTSTAMP:20260421T011953
CREATED:20250902T165912Z
LAST-MODIFIED:20250902T165912Z
UID:10023385-1795356000-1795370400@hartforduu.org
SUMMARY:Sathya Sai Center - Fellowship Hall (Rental)
DESCRIPTION:
URL:https://hartforduu.org/event/sathya-sai-center-fellowship-hall-rental/2026-11-22/
END:VEVENT
BEGIN:VEVENT
DTSTART;TZID=America/New_York:20261122T150000
DTEND;TZID=America/New_York:20261122T180000
DTSTAMP:20260421T011953
CREATED:20251111T193650Z
LAST-MODIFIED:20251111T193650Z
UID:10024418-1795359600-1795370400@hartforduu.org
SUMMARY:Daniel’s House of Prayer – Chapel/Library (Rental)
DESCRIPTION:
URL:https://hartforduu.org/event/daniels-house-of-prayer-chapel-library-rental/2026-11-22/
END:VEVENT
BEGIN:VEVENT
DTSTART;TZID=America/New_York:20261122T180000
DTEND;TZID=America/New_York:20261122T190000
DTSTAMP:20260421T011953
CREATED:20240703T180456Z
LAST-MODIFIED:20250325T145519Z
UID:10018319-1795370400-1795374000@hartforduu.org
SUMMARY:Recovery Dharma Group- Meditation Sanctuary
DESCRIPTION:
URL:https://hartforduu.org/event/recovery-dharma-group-meditation-sanctuary/2026-11-22/
END:VEVENT
BEGIN:VEVENT
DTSTART;TZID=America/New_York:20261123T183000
DTEND;TZID=America/New_York:20261123T203000
DTSTAMP:20260421T011953
CREATED:20250814T223901Z
LAST-MODIFIED:20250814T224339Z
UID:10022950-1795458600-1795465800@hartforduu.org
SUMMARY:Board Meeting - Library
DESCRIPTION:USH Board Meeting\nFourth Monday of each month\, 6:30 – 8:30 p.m. (If a holiday\, the meeting will be held on the following Tuesday)\nIn-person in the Library and on Zoom\nBoard meetings are public and all are welcome to attend. \nJoin Zoom Meeting \nhttps://us02web.zoom.us/j/81272126940 \nMeeting ID: 812 721 26940
URL:https://hartforduu.org/event/board-meeting-library-3/2026-11-23/
LOCATION:David’s Den/Library
END:VEVENT
BEGIN:VEVENT
DTSTART;TZID=America/New_York:20261125T130000
DTEND;TZID=America/New_York:20261125T150000
DTSTAMP:20260421T011953
CREATED:20260223T170818Z
LAST-MODIFIED:20260223T170818Z
UID:10025964-1795611600-1795618800@hartforduu.org
SUMMARY:Connection Circles - David's Den/Library
DESCRIPTION:
URL:https://hartforduu.org/event/connection-circles-davids-den-library/2026-11-25/
END:VEVENT
BEGIN:VEVENT
DTSTART;TZID=America/New_York:20261126T090000
DTEND;TZID=America/New_York:20261126T220000
DTSTAMP:20260421T011953
CREATED:20251028T194028Z
LAST-MODIFIED:20251028T194028Z
UID:10024084-1795683600-1795730400@hartforduu.org
SUMMARY:Mtg - Socinus
DESCRIPTION:
URL:https://hartforduu.org/event/mtg-socinus/2026-11-26/
END:VEVENT
BEGIN:VEVENT
DTSTART;TZID=America/New_York:20261126T130000
DTEND;TZID=America/New_York:20261126T140000
DTSTAMP:20260421T011953
CREATED:20260317T213650Z
LAST-MODIFIED:20260317T213650Z
UID:10026112-1795698000-1795701600@hartforduu.org
SUMMARY:Weekly Meditation - Meditation Room
DESCRIPTION:
URL:https://hartforduu.org/event/weekly-meditation-meditation-room/2026-11-26/
END:VEVENT
BEGIN:VEVENT
DTSTART;TZID=America/New_York:20261127T130000
DTEND;TZID=America/New_York:20261127T150000
DTSTAMP:20260421T011953
CREATED:20250819T172955Z
LAST-MODIFIED:20250907T042436Z
UID:10021945-1795784400-1795791600@hartforduu.org
SUMMARY:ON HOLD\, No Mtgs - Genealogy Group
DESCRIPTION:Meetings are currently on hold. If you are interested in learning more\, contact Laura Cipriano \n  \nAre you interested in genealogy? You are welcome to join us wherever you are in your search\, expert or a beginner or anywhere in between. Bring a laptop or a tablet if you want to open the websites\, or just come to watch\, listen\, and help out. A notebook and a few names\, dates\, and locations is a great way to begin. Each month we will explore a different way to use free technology to learn more about your family history. Meet in the USH Library. \nContact Larry Lunden or Laura Cipriano for more information.
URL:https://hartforduu.org/event/genealogy-group-2-2/2026-11-27/
LOCATION:Libary/David’s Den
END:VEVENT
BEGIN:VEVENT
DTSTART;TZID=America/New_York:20261127T130000
DTEND;TZID=America/New_York:20261127T150000
DTSTAMP:20260421T011953
CREATED:20250820T160223Z
LAST-MODIFIED:20260203T062159Z
UID:10025140-1795784400-1795791600@hartforduu.org
SUMMARY:Hands & Hearts Group - ON HOLD
DESCRIPTION:Welcome all Creative Spirits and Crafters to the new\, weekly group ‘Hands & Hearts’ on Friday afternoons from 3-5pm in Murray. Many of us already know the kind of meditative solace and cadent creativity that working with your hands can offer. This group is an opportunity to talk\, share\, relate\, and relax as we work on our projects together. Bring your knitting\, crochet work\, sewing\, quilting\, hooking\, (any kind of handwork you enjoy)\, as well as your news\, your thoughts\, your worries\, and whatever’s on your mind. There will always be available supplies in our ‘fiber library’ if you’d like to start a new project\, or try something new. If you are not a crafter but would love the camaraderie and the chance to meet new friends\, you are very welcome. \n  \nFor more information\, please contact Deana
URL:https://hartforduu.org/event/hands-hearts-group-murray-2-5/2026-11-27/
END:VEVENT
BEGIN:VEVENT
DTSTART;TZID=America/New_York:20261128T100000
DTEND;TZID=America/New_York:20261128T113000
DTSTAMP:20260421T011953
CREATED:20260112T031726Z
LAST-MODIFIED:20260209T032059Z
UID:10025550-1795860000-1795865400@hartforduu.org
SUMMARY:SpiritChat - Meditation Sanctuary
DESCRIPTION:SpiritChat is offered at USH on the second and fourth Saturdays of the month from 10:00am to 11:30am and typically begin with twenty minutes of silent meditation. Nicholas then gives a brief reflection\, often accompanied by a handout. Meetings conclude with a question-and-answer period. Those curious to know more may contact Nicholas at: info@nicholasbartoli.com.
URL:https://hartforduu.org/event/spiritchat-meditation-sanctuary-2/2026-11-28/
END:VEVENT
BEGIN:VEVENT
DTSTART;TZID=America/New_York:20261129T103000
DTEND;TZID=America/New_York:20261129T123000
DTSTAMP:20260421T011953
CREATED:20251111T200608Z
LAST-MODIFIED:20251111T200608Z
UID:10024682-1795948200-1795955400@hartforduu.org
SUMMARY:Sunday Worship & Fellowship Time
DESCRIPTION:Services are livestreamed every Sunday on Zoom and Facebook \nZoom info: Meeting ID: 931 0388 7934 \nVirtual Coffee Hour to follow \n* Note: Zoom Coffee Hour ends at noon \nPast Services
URL:https://hartforduu.org/event/sunday-worship-fellowship-time/2026-11-29/
END:VEVENT
BEGIN:VEVENT
DTSTART;TZID=America/New_York:20261129T140000
DTEND;TZID=America/New_York:20261129T180000
DTSTAMP:20260421T011953
CREATED:20250902T165912Z
LAST-MODIFIED:20250902T165912Z
UID:10023386-1795960800-1795975200@hartforduu.org
SUMMARY:Sathya Sai Center - Fellowship Hall (Rental)
DESCRIPTION:
URL:https://hartforduu.org/event/sathya-sai-center-fellowship-hall-rental/2026-11-29/
END:VEVENT
BEGIN:VEVENT
DTSTART;TZID=America/New_York:20261129T150000
DTEND;TZID=America/New_York:20261129T180000
DTSTAMP:20260421T011953
CREATED:20251111T193650Z
LAST-MODIFIED:20251111T193650Z
UID:10024419-1795964400-1795975200@hartforduu.org
SUMMARY:Daniel’s House of Prayer – Chapel/Library (Rental)
DESCRIPTION:
URL:https://hartforduu.org/event/daniels-house-of-prayer-chapel-library-rental/2026-11-29/
END:VEVENT
BEGIN:VEVENT
DTSTART;TZID=America/New_York:20261129T180000
DTEND;TZID=America/New_York:20261129T190000
DTSTAMP:20260421T011953
CREATED:20240703T180456Z
LAST-MODIFIED:20250325T145519Z
UID:10018320-1795975200-1795978800@hartforduu.org
SUMMARY:Recovery Dharma Group- Meditation Sanctuary
DESCRIPTION:
URL:https://hartforduu.org/event/recovery-dharma-group-meditation-sanctuary/2026-11-29/
END:VEVENT
BEGIN:VEVENT
DTSTART;TZID=America/New_York:20261202T130000
DTEND;TZID=America/New_York:20261202T150000
DTSTAMP:20260421T011953
CREATED:20260223T170818Z
LAST-MODIFIED:20260223T170818Z
UID:10025965-1796216400-1796223600@hartforduu.org
SUMMARY:Connection Circles - David's Den/Library
DESCRIPTION:
URL:https://hartforduu.org/event/connection-circles-davids-den-library/2026-12-02/
END:VEVENT
BEGIN:VEVENT
DTSTART;TZID=America/New_York:20261203T090000
DTEND;TZID=America/New_York:20261203T220000
DTSTAMP:20260421T011953
CREATED:20251028T194028Z
LAST-MODIFIED:20251028T194028Z
UID:10024085-1796288400-1796335200@hartforduu.org
SUMMARY:Mtg - Socinus
DESCRIPTION:
URL:https://hartforduu.org/event/mtg-socinus/2026-12-03/
END:VEVENT
BEGIN:VEVENT
DTSTART;TZID=America/New_York:20261203T130000
DTEND;TZID=America/New_York:20261203T140000
DTSTAMP:20260421T011953
CREATED:20260317T213650Z
LAST-MODIFIED:20260317T213650Z
UID:10026113-1796302800-1796306400@hartforduu.org
SUMMARY:Weekly Meditation - Meditation Room
DESCRIPTION:
URL:https://hartforduu.org/event/weekly-meditation-meditation-room/2026-12-03/
END:VEVENT
BEGIN:VEVENT
DTSTART;TZID=America/New_York:20261203T190000
DTEND;TZID=America/New_York:20261203T203000
DTSTAMP:20260421T011953
CREATED:20250212T090113Z
LAST-MODIFIED:20250325T234024Z
UID:10019210-1796324400-1796329800@hartforduu.org
SUMMARY:Men's Group - David's Den
DESCRIPTION:The men’s group wants to open up the group to new members. We meet on the first Thursday of the month. Please contact Jim Landis at \njimlandis@aol.com for more information. All are welcome!
URL:https://hartforduu.org/event/mens-group-davids-den/2026-12-03/
END:VEVENT
BEGIN:VEVENT
DTSTART;TZID=America/New_York:20261204T130000
DTEND;TZID=America/New_York:20261204T150000
DTSTAMP:20260421T011953
CREATED:20250820T160223Z
LAST-MODIFIED:20260203T062159Z
UID:10025141-1796389200-1796396400@hartforduu.org
SUMMARY:Hands & Hearts Group - ON HOLD
DESCRIPTION:Welcome all Creative Spirits and Crafters to the new\, weekly group ‘Hands & Hearts’ on Friday afternoons from 3-5pm in Murray. Many of us already know the kind of meditative solace and cadent creativity that working with your hands can offer. This group is an opportunity to talk\, share\, relate\, and relax as we work on our projects together. Bring your knitting\, crochet work\, sewing\, quilting\, hooking\, (any kind of handwork you enjoy)\, as well as your news\, your thoughts\, your worries\, and whatever’s on your mind. There will always be available supplies in our ‘fiber library’ if you’d like to start a new project\, or try something new. If you are not a crafter but would love the camaraderie and the chance to meet new friends\, you are very welcome. \n  \nFor more information\, please contact Deana
URL:https://hartforduu.org/event/hands-hearts-group-murray-2-5/2026-12-04/
END:VEVENT
BEGIN:VEVENT
DTSTART;TZID=America/New_York:20261205T100000
DTEND;TZID=America/New_York:20261205T120000
DTSTAMP:20260421T011953
CREATED:20241112T030219Z
LAST-MODIFIED:20251125T162405Z
UID:10020036-1796464800-1796472000@hartforduu.org
SUMMARY:Helping Parents Heal - Library/David's Den
DESCRIPTION:Helping Parents Heal — Hartford is an affiliate chapter of Helping Parents Heal (https://www.helpingparentsheal.org)\, a non-profit organization dedicated to assisting parents whose children have passed. Our support group allows for an open discussion of spiritual experiences and afterlife evidence in a non-dogmatic way. We welcome everyone regardless of their religious or non-religious backgrounds. \nHelping Parents Heal recognizes several factors that contribute to the healing process: caring support from others\, interaction with people who have also experienced the loss of a child\, service to others\, personal transformation\, and discovering a reason for hope. This hope comes from acknowledging our spiritual/energetic natures and understanding that our loved ones continue on in another realm after physical death. \nParents\, grandparents\, and siblings of a child who has passed at any age are welcome to join us. Our group meets on the first Saturday of each month from 10:00 a.m. – noon. Please contact Pamela Hamad if you would like more information at hphhartford@gmail.com or (941) 544-1083.
URL:https://hartforduu.org/event/helping-parents-heal/2026-12-05/
END:VEVENT
BEGIN:VEVENT
DTSTART;TZID=America/New_York:20261205T103000
DTEND;TZID=America/New_York:20261205T120000
DTSTAMP:20260421T011953
CREATED:20231219T202559Z
LAST-MODIFIED:20250818T191400Z
UID:10021861-1796466600-1796472000@hartforduu.org
SUMMARY:Disability Support Group - Zoom
DESCRIPTION:This group meets online on the first Saturday of each month at 10:30 a.m. The zoom link is sent a few days prior to the meeting. In this group\, participants discuss the challenges of physical disability (chronic illness\, chronic pain\, impaired senses\, impaired mobility) and emotional pain (loss\, mental illness)\, and the stresses of caretaking a loved one. What is said in the group stays in the group. To confirm scheduling\, please Email Susan Hope or call 860 463 6407
URL:https://hartforduu.org/event/disability-support-group/2026-12-05/
END:VEVENT
BEGIN:VEVENT
DTSTART;TZID=America/New_York:20261206T103000
DTEND;TZID=America/New_York:20261206T123000
DTSTAMP:20260421T011953
CREATED:20251111T200608Z
LAST-MODIFIED:20251111T200608Z
UID:10024683-1796553000-1796560200@hartforduu.org
SUMMARY:Sunday Worship & Fellowship Time
DESCRIPTION:Services are livestreamed every Sunday on Zoom and Facebook \nZoom info: Meeting ID: 931 0388 7934 \nVirtual Coffee Hour to follow \n* Note: Zoom Coffee Hour ends at noon \nPast Services
URL:https://hartforduu.org/event/sunday-worship-fellowship-time/2026-12-06/
END:VEVENT
END:VCALENDAR