BEGIN:VCALENDAR
VERSION:2.0
PRODID:-//Unitarian Society of Hartford - ECPv6.15.18//NONSGML v1.0//EN
CALSCALE:GREGORIAN
METHOD:PUBLISH
X-WR-CALNAME:Unitarian Society of Hartford
X-ORIGINAL-URL:https://hartforduu.org
X-WR-CALDESC:Events for Unitarian Society of Hartford
REFRESH-INTERVAL;VALUE=DURATION:PT1H
X-Robots-Tag:noindex
X-PUBLISHED-TTL:PT1H
BEGIN:VTIMEZONE
TZID:America/New_York
BEGIN:DAYLIGHT
TZOFFSETFROM:-0500
TZOFFSETTO:-0400
TZNAME:EDT
DTSTART:20240310T070000
END:DAYLIGHT
BEGIN:STANDARD
TZOFFSETFROM:-0400
TZOFFSETTO:-0500
TZNAME:EST
DTSTART:20241103T060000
END:STANDARD
BEGIN:DAYLIGHT
TZOFFSETFROM:-0500
TZOFFSETTO:-0400
TZNAME:EDT
DTSTART:20250309T070000
END:DAYLIGHT
BEGIN:STANDARD
TZOFFSETFROM:-0400
TZOFFSETTO:-0500
TZNAME:EST
DTSTART:20251102T060000
END:STANDARD
BEGIN:DAYLIGHT
TZOFFSETFROM:-0500
TZOFFSETTO:-0400
TZNAME:EDT
DTSTART:20260308T070000
END:DAYLIGHT
BEGIN:STANDARD
TZOFFSETFROM:-0400
TZOFFSETTO:-0500
TZNAME:EST
DTSTART:20261101T060000
END:STANDARD
END:VTIMEZONE
BEGIN:VEVENT
DTSTART;TZID=America/New_York:20251129T140000
DTEND;TZID=America/New_York:20251129T230000
DTSTAMP:20260419T215808
CREATED:20250617T231405Z
LAST-MODIFIED:20250617T231405Z
UID:10022111-1764424800-1764457200@hartforduu.org
SUMMARY:Candlelight Concerts - Sanctuary
DESCRIPTION:
URL:https://hartforduu.org/event/candlelight-concerts-sanctuary-3/
END:VEVENT
BEGIN:VEVENT
DTSTART;TZID=America/New_York:20251128T130000
DTEND;TZID=America/New_York:20251128T150000
DTSTAMP:20260419T215808
CREATED:20250820T160223Z
LAST-MODIFIED:20260203T062159Z
UID:10025088-1764334800-1764342000@hartforduu.org
SUMMARY:Hands & Hearts Group - ON HOLD
DESCRIPTION:Welcome all Creative Spirits and Crafters to the new\, weekly group ‘Hands & Hearts’ on Friday afternoons from 3-5pm in Murray. Many of us already know the kind of meditative solace and cadent creativity that working with your hands can offer. This group is an opportunity to talk\, share\, relate\, and relax as we work on our projects together. Bring your knitting\, crochet work\, sewing\, quilting\, hooking\, (any kind of handwork you enjoy)\, as well as your news\, your thoughts\, your worries\, and whatever’s on your mind. There will always be available supplies in our ‘fiber library’ if you’d like to start a new project\, or try something new. If you are not a crafter but would love the camaraderie and the chance to meet new friends\, you are very welcome. \n  \nFor more information\, please contact Deana
URL:https://hartforduu.org/event/hands-hearts-group-murray-2-5/2025-11-28/
END:VEVENT
BEGIN:VEVENT
DTSTART;TZID=America/New_York:20251128T130000
DTEND;TZID=America/New_York:20251128T150000
DTSTAMP:20260419T215808
CREATED:20250819T172955Z
LAST-MODIFIED:20250907T042436Z
UID:10021933-1764334800-1764342000@hartforduu.org
SUMMARY:ON HOLD\, No Mtgs - Genealogy Group
DESCRIPTION:Meetings are currently on hold. If you are interested in learning more\, contact Laura Cipriano \n  \nAre you interested in genealogy? You are welcome to join us wherever you are in your search\, expert or a beginner or anywhere in between. Bring a laptop or a tablet if you want to open the websites\, or just come to watch\, listen\, and help out. A notebook and a few names\, dates\, and locations is a great way to begin. Each month we will explore a different way to use free technology to learn more about your family history. Meet in the USH Library. \nContact Larry Lunden or Laura Cipriano for more information.
URL:https://hartforduu.org/event/genealogy-group-2-2/2025-11-28/
LOCATION:Libary/David’s Den
END:VEVENT
BEGIN:VEVENT
DTSTART;TZID=America/New_York:20251127T090000
DTEND;TZID=America/New_York:20251127T220000
DTSTAMP:20260419T215808
CREATED:20251028T194028Z
LAST-MODIFIED:20251028T194028Z
UID:10024032-1764234000-1764280800@hartforduu.org
SUMMARY:Mtg - Socinus
DESCRIPTION:
URL:https://hartforduu.org/event/mtg-socinus/2025-11-27/
END:VEVENT
BEGIN:VEVENT
DTSTART;TZID=America/New_York:20251126T133000
DTEND;TZID=America/New_York:20251126T153000
DTSTAMP:20260419T215808
CREATED:20251008T173223Z
LAST-MODIFIED:20251216T063538Z
UID:10023944-1764163800-1764171000@hartforduu.org
SUMMARY:Connection Circles - David's Den
DESCRIPTION:
URL:https://hartforduu.org/event/connection-circles-david-den/2025-11-26/
END:VEVENT
BEGIN:VEVENT
DTSTART;TZID=America/New_York:20251125T190000
DTEND;TZID=America/New_York:20251125T213000
DTSTAMP:20260419T215808
CREATED:20251117T182411Z
LAST-MODIFIED:20251117T182411Z
UID:10024957-1764097200-1764106200@hartforduu.org
SUMMARY:Schola Rehearsal - Sanctuary
DESCRIPTION:
URL:https://hartforduu.org/event/schola-rehearsal-sanctuary/
END:VEVENT
BEGIN:VEVENT
DTSTART;TZID=America/New_York:20251125T190000
DTEND;TZID=America/New_York:20251125T210000
DTSTAMP:20260419T215808
CREATED:20251014T034015Z
LAST-MODIFIED:20251014T034015Z
UID:10024015-1764097200-1764104400@hartforduu.org
SUMMARY:Hartford Gay Men's Chorus Acting Rehearsals - Fellowship Hall (Rental)
DESCRIPTION:
URL:https://hartforduu.org/event/hartford-gay-mens-chorus-acting-rehearsals-fellowship-hall-rental/2025-11-25/
END:VEVENT
BEGIN:VEVENT
DTSTART;TZID=America/New_York:20251125T130000
DTEND;TZID=America/New_York:20251125T150000
DTSTAMP:20260419T215808
CREATED:20250930T153736Z
LAST-MODIFIED:20250930T154026Z
UID:10023854-1764075600-1764082800@hartforduu.org
SUMMARY:Connection Circles - David's Den
DESCRIPTION:
URL:https://hartforduu.org/event/connection-circles-davids-den-2/2025-11-25/
END:VEVENT
BEGIN:VEVENT
DTSTART;TZID=America/New_York:20251124T190000
DTEND;TZID=America/New_York:20251124T213000
DTSTAMP:20260419T215808
CREATED:20250713T152626Z
LAST-MODIFIED:20250904T153212Z
UID:10022143-1764010800-1764019800@hartforduu.org
SUMMARY:Hartford Gay Men's Chorus (HGMC) Rehearsal - Chapel and Fellowship Hall
DESCRIPTION:
URL:https://hartforduu.org/event/hgmc-rehearsal-small-chapel-and-fellowship-hall-2/2025-11-24/
END:VEVENT
BEGIN:VEVENT
DTSTART;TZID=America/New_York:20251124T183000
DTEND;TZID=America/New_York:20251124T203000
DTSTAMP:20260419T215808
CREATED:20250814T223901Z
LAST-MODIFIED:20250814T224339Z
UID:10022938-1764009000-1764016200@hartforduu.org
SUMMARY:Board Meeting - Library
DESCRIPTION:USH Board Meeting\nFourth Monday of each month\, 6:30 – 8:30 p.m. (If a holiday\, the meeting will be held on the following Tuesday)\nIn-person in the Library and on Zoom\nBoard meetings are public and all are welcome to attend. \nJoin Zoom Meeting \nhttps://us02web.zoom.us/j/81272126940 \nMeeting ID: 812 721 26940
URL:https://hartforduu.org/event/board-meeting-library-3/2025-11-24/
LOCATION:David’s Den/Library
END:VEVENT
BEGIN:VEVENT
DTSTART;TZID=America/New_York:20251124T100000
DTEND;TZID=America/New_York:20251124T110000
DTSTAMP:20260419T215808
CREATED:20250804T230148Z
LAST-MODIFIED:20260203T060141Z
UID:10022441-1763978400-1763982000@hartforduu.org
SUMMARY:Gentle Yoga - Meditation Sanctuary
DESCRIPTION:Gentle Yoga\, Monday Mornings at 10 \nGentle Yoga meets weekly on Monday mornings\, in the Meditation rooms. Led by experienced yoga practitioner and teacher LU Giammatteo\, these hour-long sessions incorporate gentle stretching and strengthening positions and movements in a supportive\, encouraging environment. Stand or sit\, according to your preference and ability… all levels are welcome. \nIf you’d like to learn more before showing up\, email LU with your questions. \nParticipants are asked to donate $5 per session (proceeds to USH) if their situation allows.
URL:https://hartforduu.org/event/gentle-yoga-meditation-sanctuary-2/2025-11-24/
END:VEVENT
BEGIN:VEVENT
DTSTART;TZID=America/New_York:20251123T180000
DTEND;TZID=America/New_York:20251123T190000
DTSTAMP:20260419T215808
CREATED:20240703T180456Z
LAST-MODIFIED:20250325T145519Z
UID:10018267-1763920800-1763924400@hartforduu.org
SUMMARY:Recovery Dharma Group- Meditation Sanctuary
DESCRIPTION:
URL:https://hartforduu.org/event/recovery-dharma-group-meditation-sanctuary/2025-11-23/
END:VEVENT
BEGIN:VEVENT
DTSTART;TZID=America/New_York:20251123T150000
DTEND;TZID=America/New_York:20251123T180000
DTSTAMP:20260419T215808
CREATED:20251111T193650Z
LAST-MODIFIED:20251111T193650Z
UID:10024366-1763910000-1763920800@hartforduu.org
SUMMARY:Daniel’s House of Prayer – Chapel/Library (Rental)
DESCRIPTION:
URL:https://hartforduu.org/event/daniels-house-of-prayer-chapel-library-rental/2025-11-23/
END:VEVENT
BEGIN:VEVENT
DTSTART;TZID=America/New_York:20251123T140000
DTEND;TZID=America/New_York:20251123T180000
DTSTAMP:20260419T215808
CREATED:20250902T165912Z
LAST-MODIFIED:20250902T165912Z
UID:10023333-1763906400-1763920800@hartforduu.org
SUMMARY:Sathya Sai Center - Fellowship Hall (Rental)
DESCRIPTION:
URL:https://hartforduu.org/event/sathya-sai-center-fellowship-hall-rental/2025-11-23/
END:VEVENT
BEGIN:VEVENT
DTSTART;TZID=America/New_York:20251123T103000
DTEND;TZID=America/New_York:20251123T123000
DTSTAMP:20260419T215808
CREATED:20251111T200608Z
LAST-MODIFIED:20251111T200608Z
UID:10024629-1763893800-1763901000@hartforduu.org
SUMMARY:Sunday Worship & Fellowship Time
DESCRIPTION:Services are livestreamed every Sunday on Zoom and Facebook \nZoom info: Meeting ID: 931 0388 7934 \nVirtual Coffee Hour to follow \n* Note: Zoom Coffee Hour ends at noon \nPast Services
URL:https://hartforduu.org/event/sunday-worship-fellowship-time/2025-11-23/
END:VEVENT
BEGIN:VEVENT
DTSTART;TZID=America/New_York:20251123T103000
DTEND;TZID=America/New_York:20251123T110000
DTSTAMP:20260419T215808
CREATED:20240815T061340Z
LAST-MODIFIED:20251111T193135Z
UID:10024359-1763893800-1763895600@hartforduu.org
SUMMARY:Soup Sunday
DESCRIPTION:
URL:https://hartforduu.org/event/soup-sunday-3/2025-11-23/
END:VEVENT
BEGIN:VEVENT
DTSTART;TZID=America/New_York:20251122T150000
DTEND;TZID=America/New_York:20251122T170000
DTSTAMP:20260419T215808
CREATED:20251110T144843Z
LAST-MODIFIED:20251110T144843Z
UID:10024300-1763823600-1763830800@hartforduu.org
SUMMARY:Sathya Sai Event - Fellowship Hall
DESCRIPTION:
URL:https://hartforduu.org/event/sathya-sai-event-fellowship-hall/
END:VEVENT
BEGIN:VEVENT
DTSTART;TZID=America/New_York:20251122T100000
DTEND;TZID=America/New_York:20251122T113000
DTSTAMP:20260419T215808
CREATED:20250825T232659Z
LAST-MODIFIED:20250825T232659Z
UID:10023298-1763805600-1763811000@hartforduu.org
SUMMARY:SpiritChats with Nicholas Bartoli - Meditation Sanctuary
DESCRIPTION:
URL:https://hartforduu.org/event/spiritchats-with-nicholas-bartoli-meditation-sanctuary/2025-11-22/
END:VEVENT
BEGIN:VEVENT
DTSTART;TZID=America/New_York:20251121T190000
DTEND;TZID=America/New_York:20251121T220000
DTSTAMP:20260419T215808
CREATED:20250318T215711Z
LAST-MODIFIED:20250725T144221Z
UID:10021197-1763751600-1763762400@hartforduu.org
SUMMARY:Meeting House Presents
DESCRIPTION:Doors open at 6:30 for the 7:00 show. \nSet-up 5:00 p.m. \nAdditional information: https://hartforduu.org/meeting-house-presents/
URL:https://hartforduu.org/event/meeting-house-presents/2025-11-21/
END:VEVENT
BEGIN:VEVENT
DTSTART;TZID=America/New_York:20251121T190000
DTEND;TZID=America/New_York:20251121T213000
DTSTAMP:20260419T215808
CREATED:20251107T221545Z
LAST-MODIFIED:20251107T221904Z
UID:10024295-1763751600-1763760600@hartforduu.org
SUMMARY:Meeting House Presents
DESCRIPTION:Slambovian Circus of Dreams Trio Unplugged  
URL:https://hartforduu.org/event/meeting-house-presents-12/
LOCATION:Sanctuary/Fellowship Hall/Kitchen
END:VEVENT
BEGIN:VEVENT
DTSTART;TZID=America/New_York:20251121T130000
DTEND;TZID=America/New_York:20251121T150000
DTSTAMP:20260419T215808
CREATED:20250820T160223Z
LAST-MODIFIED:20260203T062159Z
UID:10025087-1763730000-1763737200@hartforduu.org
SUMMARY:Hands & Hearts Group - ON HOLD
DESCRIPTION:Welcome all Creative Spirits and Crafters to the new\, weekly group ‘Hands & Hearts’ on Friday afternoons from 3-5pm in Murray. Many of us already know the kind of meditative solace and cadent creativity that working with your hands can offer. This group is an opportunity to talk\, share\, relate\, and relax as we work on our projects together. Bring your knitting\, crochet work\, sewing\, quilting\, hooking\, (any kind of handwork you enjoy)\, as well as your news\, your thoughts\, your worries\, and whatever’s on your mind. There will always be available supplies in our ‘fiber library’ if you’d like to start a new project\, or try something new. If you are not a crafter but would love the camaraderie and the chance to meet new friends\, you are very welcome. \n  \nFor more information\, please contact Deana
URL:https://hartforduu.org/event/hands-hearts-group-murray-2-5/2025-11-21/
END:VEVENT
BEGIN:VEVENT
DTSTART;TZID=America/New_York:20251121T120000
DTEND;TZID=America/New_York:20251121T220000
DTSTAMP:20260419T215808
CREATED:20250403T015217Z
LAST-MODIFIED:20250403T015217Z
UID:10015958-1763726400-1763762400@hartforduu.org
SUMMARY:Meeting House Presents Set Up and Clean Up
DESCRIPTION:
URL:https://hartforduu.org/event/meeting-house-presents-set-2/
LOCATION:Upstairs Lobby/Sanctuary/Fellowship Hall/Kitchen/Meditation Room
END:VEVENT
BEGIN:VEVENT
DTSTART;TZID=America/New_York:20251120T183000
DTEND;TZID=America/New_York:20251120T210000
DTSTAMP:20260419T215808
CREATED:20251112T150755Z
LAST-MODIFIED:20251112T165352Z
UID:10024951-1763663400-1763672400@hartforduu.org
SUMMARY:Men's Group Mtg (Led by Peter Meny) - David's Den/Library
DESCRIPTION:
URL:https://hartforduu.org/event/mens-group-mtg-lead-by-peter-meny-davids-den-library/
END:VEVENT
BEGIN:VEVENT
DTSTART;TZID=America/New_York:20251120T170000
DTEND;TZID=America/New_York:20251120T210000
DTSTAMP:20260419T215808
CREATED:20251004T223436Z
LAST-MODIFIED:20251005T150718Z
UID:10023922-1763658000-1763672400@hartforduu.org
SUMMARY:Hartford Gay Men's Chorus Game Night - Fellowship Hall
DESCRIPTION:
URL:https://hartforduu.org/event/hartford-gay-mens-chorus-game-night-fellowship-hall/
END:VEVENT
BEGIN:VEVENT
DTSTART;TZID=America/New_York:20251120T090000
DTEND;TZID=America/New_York:20251120T220000
DTSTAMP:20260419T215808
CREATED:20251028T194028Z
LAST-MODIFIED:20251028T194028Z
UID:10024031-1763629200-1763676000@hartforduu.org
SUMMARY:Mtg - Socinus
DESCRIPTION:
URL:https://hartforduu.org/event/mtg-socinus/2025-11-20/
END:VEVENT
BEGIN:VEVENT
DTSTART;TZID=America/New_York:20251119T190000
DTEND;TZID=America/New_York:20251119T210000
DTSTAMP:20260419T215808
CREATED:20251014T034015Z
LAST-MODIFIED:20251014T034015Z
UID:10024014-1763578800-1763586000@hartforduu.org
SUMMARY:Hartford Gay Men's Chorus Acting Rehearsals - Fellowship Hall (Rental)
DESCRIPTION:
URL:https://hartforduu.org/event/hartford-gay-mens-chorus-acting-rehearsals-fellowship-hall-rental/2025-11-19/
END:VEVENT
BEGIN:VEVENT
DTSTART;TZID=America/New_York:20251119T133000
DTEND;TZID=America/New_York:20251119T153000
DTSTAMP:20260419T215808
CREATED:20251008T173223Z
LAST-MODIFIED:20251216T063538Z
UID:10023943-1763559000-1763566200@hartforduu.org
SUMMARY:Connection Circles - David's Den
DESCRIPTION:
URL:https://hartforduu.org/event/connection-circles-david-den/2025-11-19/
END:VEVENT
BEGIN:VEVENT
DTSTART;TZID=America/New_York:20251118T190000
DTEND;TZID=America/New_York:20251118T203000
DTSTAMP:20260419T215808
CREATED:20240904T204051Z
LAST-MODIFIED:20251013T144244Z
UID:10021286-1763492400-1763497800@hartforduu.org
SUMMARY:Social Justice Mtg - Zoom
DESCRIPTION:Social Justice Mtg. \nEvery month on the Third Tue\, until Jul 21\, 2026 \nInterested in justice work? Come meet with us to learn the latest about ongoing activities and discover new initiatives. Everyone’s invited! \nJoin Zoom Meeting \nhttps://us02web.zoom.us/j/83050365435 \nMeeting ID: 830 5036 5435 \n 
URL:https://hartforduu.org/event/social-justice-mtg-zoom/2025-11-18/
END:VEVENT
BEGIN:VEVENT
DTSTART;TZID=America/New_York:20251118T170000
DTEND;TZID=America/New_York:20251118T183000
DTSTAMP:20260419T215808
CREATED:20250916T144122Z
LAST-MODIFIED:20251007T175222Z
UID:10023613-1763485200-1763490600@hartforduu.org
SUMMARY:Helping Parents Heal Book Club - Library
DESCRIPTION:
URL:https://hartforduu.org/event/helping-parents-heal-book-club-library/2025-11-18/
END:VEVENT
BEGIN:VEVENT
DTSTART;TZID=America/New_York:20251118T130000
DTEND;TZID=America/New_York:20251118T150000
DTSTAMP:20260419T215808
CREATED:20250930T153736Z
LAST-MODIFIED:20250930T154026Z
UID:10023853-1763470800-1763478000@hartforduu.org
SUMMARY:Connection Circles - David's Den
DESCRIPTION:
URL:https://hartforduu.org/event/connection-circles-davids-den-2/2025-11-18/
END:VEVENT
END:VCALENDAR