BEGIN:VCALENDAR
VERSION:2.0
PRODID:-//Unitarian Society of Hartford - ECPv6.15.18//NONSGML v1.0//EN
CALSCALE:GREGORIAN
METHOD:PUBLISH
X-ORIGINAL-URL:https://hartforduu.org
X-WR-CALDESC:Events for Unitarian Society of Hartford
REFRESH-INTERVAL;VALUE=DURATION:PT1H
X-Robots-Tag:noindex
X-PUBLISHED-TTL:PT1H
BEGIN:VTIMEZONE
TZID:America/New_York
BEGIN:DAYLIGHT
TZOFFSETFROM:-0500
TZOFFSETTO:-0400
TZNAME:EDT
DTSTART:20250309T070000
END:DAYLIGHT
BEGIN:STANDARD
TZOFFSETFROM:-0400
TZOFFSETTO:-0500
TZNAME:EST
DTSTART:20251102T060000
END:STANDARD
BEGIN:DAYLIGHT
TZOFFSETFROM:-0500
TZOFFSETTO:-0400
TZNAME:EDT
DTSTART:20260308T070000
END:DAYLIGHT
BEGIN:STANDARD
TZOFFSETFROM:-0400
TZOFFSETTO:-0500
TZNAME:EST
DTSTART:20261101T060000
END:STANDARD
BEGIN:DAYLIGHT
TZOFFSETFROM:-0500
TZOFFSETTO:-0400
TZNAME:EDT
DTSTART:20270314T070000
END:DAYLIGHT
BEGIN:STANDARD
TZOFFSETFROM:-0400
TZOFFSETTO:-0500
TZNAME:EST
DTSTART:20271107T060000
END:STANDARD
END:VTIMEZONE
BEGIN:VEVENT
DTSTART;TZID=America/New_York:20260624T130000
DTEND;TZID=America/New_York:20260624T150000
DTSTAMP:20260419T154322
CREATED:20260223T170818Z
LAST-MODIFIED:20260223T170818Z
UID:10025942-1782306000-1782313200@hartforduu.org
SUMMARY:Connection Circles - David's Den/Library
DESCRIPTION:
URL:https://hartforduu.org/event/connection-circles-davids-den-library/2026-06-24/
END:VEVENT
BEGIN:VEVENT
DTSTART;TZID=America/New_York:20260625T090000
DTEND;TZID=America/New_York:20260625T220000
DTSTAMP:20260419T154322
CREATED:20251028T194028Z
LAST-MODIFIED:20251028T194028Z
UID:10024062-1782378000-1782424800@hartforduu.org
SUMMARY:Mtg - Socinus
DESCRIPTION:
URL:https://hartforduu.org/event/mtg-socinus/2026-06-25/
END:VEVENT
BEGIN:VEVENT
DTSTART;TZID=America/New_York:20260625T130000
DTEND;TZID=America/New_York:20260625T140000
DTSTAMP:20260419T154322
CREATED:20260317T213650Z
LAST-MODIFIED:20260317T213650Z
UID:10026090-1782392400-1782396000@hartforduu.org
SUMMARY:Weekly Meditation - Meditation Room
DESCRIPTION:
URL:https://hartforduu.org/event/weekly-meditation-meditation-room/2026-06-25/
END:VEVENT
BEGIN:VEVENT
DTSTART;TZID=America/New_York:20260626T130000
DTEND;TZID=America/New_York:20260626T150000
DTSTAMP:20260419T154322
CREATED:20250819T172955Z
LAST-MODIFIED:20250907T042436Z
UID:10021940-1782478800-1782486000@hartforduu.org
SUMMARY:ON HOLD\, No Mtgs - Genealogy Group
DESCRIPTION:Meetings are currently on hold. If you are interested in learning more\, contact Laura Cipriano \n  \nAre you interested in genealogy? You are welcome to join us wherever you are in your search\, expert or a beginner or anywhere in between. Bring a laptop or a tablet if you want to open the websites\, or just come to watch\, listen\, and help out. A notebook and a few names\, dates\, and locations is a great way to begin. Each month we will explore a different way to use free technology to learn more about your family history. Meet in the USH Library. \nContact Larry Lunden or Laura Cipriano for more information.
URL:https://hartforduu.org/event/genealogy-group-2-2/2026-06-26/
LOCATION:Libary/David’s Den
END:VEVENT
BEGIN:VEVENT
DTSTART;TZID=America/New_York:20260626T130000
DTEND;TZID=America/New_York:20260626T150000
DTSTAMP:20260419T154322
CREATED:20250820T160223Z
LAST-MODIFIED:20260203T062159Z
UID:10025118-1782478800-1782486000@hartforduu.org
SUMMARY:Hands & Hearts Group - ON HOLD
DESCRIPTION:Welcome all Creative Spirits and Crafters to the new\, weekly group ‘Hands & Hearts’ on Friday afternoons from 3-5pm in Murray. Many of us already know the kind of meditative solace and cadent creativity that working with your hands can offer. This group is an opportunity to talk\, share\, relate\, and relax as we work on our projects together. Bring your knitting\, crochet work\, sewing\, quilting\, hooking\, (any kind of handwork you enjoy)\, as well as your news\, your thoughts\, your worries\, and whatever’s on your mind. There will always be available supplies in our ‘fiber library’ if you’d like to start a new project\, or try something new. If you are not a crafter but would love the camaraderie and the chance to meet new friends\, you are very welcome. \n  \nFor more information\, please contact Deana
URL:https://hartforduu.org/event/hands-hearts-group-murray-2-5/2026-06-26/
END:VEVENT
BEGIN:VEVENT
DTSTART;TZID=America/New_York:20260627T100000
DTEND;TZID=America/New_York:20260627T113000
DTSTAMP:20260419T154322
CREATED:20260112T031726Z
LAST-MODIFIED:20260209T032059Z
UID:10025545-1782554400-1782559800@hartforduu.org
SUMMARY:SpiritChat - Meditation Sanctuary
DESCRIPTION:SpiritChat is offered at USH on the second and fourth Saturdays of the month from 10:00am to 11:30am and typically begin with twenty minutes of silent meditation. Nicholas then gives a brief reflection\, often accompanied by a handout. Meetings conclude with a question-and-answer period. Those curious to know more may contact Nicholas at: info@nicholasbartoli.com.
URL:https://hartforduu.org/event/spiritchat-meditation-sanctuary-2/2026-06-27/
END:VEVENT
BEGIN:VEVENT
DTSTART;TZID=America/New_York:20260627T120000
DTEND;TZID=America/New_York:20260627T150000
DTSTAMP:20260419T154322
CREATED:20260316T143957Z
LAST-MODIFIED:20260316T143957Z
UID:10026071-1782561600-1782572400@hartforduu.org
SUMMARY:Memorial Service - Betty Cornish - Memorial Garden
DESCRIPTION:
URL:https://hartforduu.org/event/memorial-service-betty-cornish-memorial-garden/
END:VEVENT
BEGIN:VEVENT
DTSTART;TZID=America/New_York:20260628T103000
DTEND;TZID=America/New_York:20260628T123000
DTSTAMP:20260419T154322
CREATED:20251111T200608Z
LAST-MODIFIED:20251111T200608Z
UID:10024660-1782642600-1782649800@hartforduu.org
SUMMARY:Sunday Worship & Fellowship Time
DESCRIPTION:Services are livestreamed every Sunday on Zoom and Facebook \nZoom info: Meeting ID: 931 0388 7934 \nVirtual Coffee Hour to follow \n* Note: Zoom Coffee Hour ends at noon \nPast Services
URL:https://hartforduu.org/event/sunday-worship-fellowship-time/2026-06-28/
END:VEVENT
BEGIN:VEVENT
DTSTART;TZID=America/New_York:20260628T140000
DTEND;TZID=America/New_York:20260628T180000
DTSTAMP:20260419T154322
CREATED:20250902T165912Z
LAST-MODIFIED:20250902T165912Z
UID:10023364-1782655200-1782669600@hartforduu.org
SUMMARY:Sathya Sai Center - Fellowship Hall (Rental)
DESCRIPTION:
URL:https://hartforduu.org/event/sathya-sai-center-fellowship-hall-rental/2026-06-28/
END:VEVENT
BEGIN:VEVENT
DTSTART;TZID=America/New_York:20260628T150000
DTEND;TZID=America/New_York:20260628T180000
DTSTAMP:20260419T154322
CREATED:20251111T193650Z
LAST-MODIFIED:20251111T193650Z
UID:10024397-1782658800-1782669600@hartforduu.org
SUMMARY:Daniel’s House of Prayer – Chapel/Library (Rental)
DESCRIPTION:
URL:https://hartforduu.org/event/daniels-house-of-prayer-chapel-library-rental/2026-06-28/
END:VEVENT
BEGIN:VEVENT
DTSTART;TZID=America/New_York:20260628T180000
DTEND;TZID=America/New_York:20260628T190000
DTSTAMP:20260419T154322
CREATED:20240703T180456Z
LAST-MODIFIED:20250325T145519Z
UID:10018298-1782669600-1782673200@hartforduu.org
SUMMARY:Recovery Dharma Group- Meditation Sanctuary
DESCRIPTION:
URL:https://hartforduu.org/event/recovery-dharma-group-meditation-sanctuary/2026-06-28/
END:VEVENT
BEGIN:VEVENT
DTSTART;TZID=America/New_York:20260629T100000
DTEND;TZID=America/New_York:20260629T110000
DTSTAMP:20260419T154322
CREATED:20250804T230148Z
LAST-MODIFIED:20260203T060141Z
UID:10022472-1782727200-1782730800@hartforduu.org
SUMMARY:Gentle Yoga - Meditation Sanctuary
DESCRIPTION:Gentle Yoga\, Monday Mornings at 10 \nGentle Yoga meets weekly on Monday mornings\, in the Meditation rooms. Led by experienced yoga practitioner and teacher LU Giammatteo\, these hour-long sessions incorporate gentle stretching and strengthening positions and movements in a supportive\, encouraging environment. Stand or sit\, according to your preference and ability… all levels are welcome. \nIf you’d like to learn more before showing up\, email LU with your questions. \nParticipants are asked to donate $5 per session (proceeds to USH) if their situation allows.
URL:https://hartforduu.org/event/gentle-yoga-meditation-sanctuary-2/2026-06-29/
END:VEVENT
BEGIN:VEVENT
DTSTART;TZID=America/New_York:20260701T130000
DTEND;TZID=America/New_York:20260701T150000
DTSTAMP:20260419T154322
CREATED:20260223T170818Z
LAST-MODIFIED:20260223T170818Z
UID:10025943-1782910800-1782918000@hartforduu.org
SUMMARY:Connection Circles - David's Den/Library
DESCRIPTION:
URL:https://hartforduu.org/event/connection-circles-davids-den-library/2026-07-01/
END:VEVENT
BEGIN:VEVENT
DTSTART;TZID=America/New_York:20260701T133000
DTEND;TZID=America/New_York:20260701T153000
DTSTAMP:20260419T154322
CREATED:20251119T172621Z
LAST-MODIFIED:20251119T172841Z
UID:10024978-1782912600-1782919800@hartforduu.org
SUMMARY:Central Connecticut Quilters Connections - Classroom D
DESCRIPTION:
URL:https://hartforduu.org/event/central-connecticut-connections-classroom-d/2026-07-01/
END:VEVENT
BEGIN:VEVENT
DTSTART;TZID=America/New_York:20260702T090000
DTEND;TZID=America/New_York:20260702T220000
DTSTAMP:20260419T154322
CREATED:20251028T194028Z
LAST-MODIFIED:20251028T194028Z
UID:10024063-1782982800-1783029600@hartforduu.org
SUMMARY:Mtg - Socinus
DESCRIPTION:
URL:https://hartforduu.org/event/mtg-socinus/2026-07-02/
END:VEVENT
BEGIN:VEVENT
DTSTART;TZID=America/New_York:20260702T130000
DTEND;TZID=America/New_York:20260702T140000
DTSTAMP:20260419T154322
CREATED:20260317T213650Z
LAST-MODIFIED:20260317T213650Z
UID:10026091-1782997200-1783000800@hartforduu.org
SUMMARY:Weekly Meditation - Meditation Room
DESCRIPTION:
URL:https://hartforduu.org/event/weekly-meditation-meditation-room/2026-07-02/
END:VEVENT
BEGIN:VEVENT
DTSTART;TZID=America/New_York:20260702T190000
DTEND;TZID=America/New_York:20260702T203000
DTSTAMP:20260419T154322
CREATED:20250212T090113Z
LAST-MODIFIED:20250325T234024Z
UID:10019205-1783018800-1783024200@hartforduu.org
SUMMARY:Men's Group - David's Den
DESCRIPTION:The men’s group wants to open up the group to new members. We meet on the first Thursday of the month. Please contact Jim Landis at \njimlandis@aol.com for more information. All are welcome!
URL:https://hartforduu.org/event/mens-group-davids-den/2026-07-02/
END:VEVENT
BEGIN:VEVENT
DTSTART;TZID=America/New_York:20260703T130000
DTEND;TZID=America/New_York:20260703T150000
DTSTAMP:20260419T154322
CREATED:20250820T160223Z
LAST-MODIFIED:20260203T062159Z
UID:10025119-1783083600-1783090800@hartforduu.org
SUMMARY:Hands & Hearts Group - ON HOLD
DESCRIPTION:Welcome all Creative Spirits and Crafters to the new\, weekly group ‘Hands & Hearts’ on Friday afternoons from 3-5pm in Murray. Many of us already know the kind of meditative solace and cadent creativity that working with your hands can offer. This group is an opportunity to talk\, share\, relate\, and relax as we work on our projects together. Bring your knitting\, crochet work\, sewing\, quilting\, hooking\, (any kind of handwork you enjoy)\, as well as your news\, your thoughts\, your worries\, and whatever’s on your mind. There will always be available supplies in our ‘fiber library’ if you’d like to start a new project\, or try something new. If you are not a crafter but would love the camaraderie and the chance to meet new friends\, you are very welcome. \n  \nFor more information\, please contact Deana
URL:https://hartforduu.org/event/hands-hearts-group-murray-2-5/2026-07-03/
END:VEVENT
BEGIN:VEVENT
DTSTART;TZID=America/New_York:20260704T100000
DTEND;TZID=America/New_York:20260704T120000
DTSTAMP:20260419T154322
CREATED:20241112T030219Z
LAST-MODIFIED:20251125T162405Z
UID:10020031-1783159200-1783166400@hartforduu.org
SUMMARY:Helping Parents Heal - Library/David's Den
DESCRIPTION:Helping Parents Heal — Hartford is an affiliate chapter of Helping Parents Heal (https://www.helpingparentsheal.org)\, a non-profit organization dedicated to assisting parents whose children have passed. Our support group allows for an open discussion of spiritual experiences and afterlife evidence in a non-dogmatic way. We welcome everyone regardless of their religious or non-religious backgrounds. \nHelping Parents Heal recognizes several factors that contribute to the healing process: caring support from others\, interaction with people who have also experienced the loss of a child\, service to others\, personal transformation\, and discovering a reason for hope. This hope comes from acknowledging our spiritual/energetic natures and understanding that our loved ones continue on in another realm after physical death. \nParents\, grandparents\, and siblings of a child who has passed at any age are welcome to join us. Our group meets on the first Saturday of each month from 10:00 a.m. – noon. Please contact Pamela Hamad if you would like more information at hphhartford@gmail.com or (941) 544-1083.
URL:https://hartforduu.org/event/helping-parents-heal/2026-07-04/
END:VEVENT
BEGIN:VEVENT
DTSTART;TZID=America/New_York:20260704T103000
DTEND;TZID=America/New_York:20260704T120000
DTSTAMP:20260419T154322
CREATED:20231219T202559Z
LAST-MODIFIED:20250818T191400Z
UID:10021856-1783161000-1783166400@hartforduu.org
SUMMARY:Disability Support Group - Zoom
DESCRIPTION:This group meets online on the first Saturday of each month at 10:30 a.m. The zoom link is sent a few days prior to the meeting. In this group\, participants discuss the challenges of physical disability (chronic illness\, chronic pain\, impaired senses\, impaired mobility) and emotional pain (loss\, mental illness)\, and the stresses of caretaking a loved one. What is said in the group stays in the group. To confirm scheduling\, please Email Susan Hope or call 860 463 6407
URL:https://hartforduu.org/event/disability-support-group/2026-07-04/
END:VEVENT
BEGIN:VEVENT
DTSTART;TZID=America/New_York:20260705T103000
DTEND;TZID=America/New_York:20260705T123000
DTSTAMP:20260419T154322
CREATED:20251111T200608Z
LAST-MODIFIED:20251111T200608Z
UID:10024661-1783247400-1783254600@hartforduu.org
SUMMARY:Sunday Worship & Fellowship Time
DESCRIPTION:Services are livestreamed every Sunday on Zoom and Facebook \nZoom info: Meeting ID: 931 0388 7934 \nVirtual Coffee Hour to follow \n* Note: Zoom Coffee Hour ends at noon \nPast Services
URL:https://hartforduu.org/event/sunday-worship-fellowship-time/2026-07-05/
END:VEVENT
BEGIN:VEVENT
DTSTART;TZID=America/New_York:20260705T140000
DTEND;TZID=America/New_York:20260705T180000
DTSTAMP:20260419T154322
CREATED:20250902T165912Z
LAST-MODIFIED:20250902T165912Z
UID:10023365-1783260000-1783274400@hartforduu.org
SUMMARY:Sathya Sai Center - Fellowship Hall (Rental)
DESCRIPTION:
URL:https://hartforduu.org/event/sathya-sai-center-fellowship-hall-rental/2026-07-05/
END:VEVENT
BEGIN:VEVENT
DTSTART;TZID=America/New_York:20260705T150000
DTEND;TZID=America/New_York:20260705T180000
DTSTAMP:20260419T154322
CREATED:20251111T193650Z
LAST-MODIFIED:20251111T193650Z
UID:10024398-1783263600-1783274400@hartforduu.org
SUMMARY:Daniel’s House of Prayer – Chapel/Library (Rental)
DESCRIPTION:
URL:https://hartforduu.org/event/daniels-house-of-prayer-chapel-library-rental/2026-07-05/
END:VEVENT
BEGIN:VEVENT
DTSTART;TZID=America/New_York:20260705T180000
DTEND;TZID=America/New_York:20260705T190000
DTSTAMP:20260419T154322
CREATED:20240703T180456Z
LAST-MODIFIED:20250325T145519Z
UID:10018299-1783274400-1783278000@hartforduu.org
SUMMARY:Recovery Dharma Group- Meditation Sanctuary
DESCRIPTION:
URL:https://hartforduu.org/event/recovery-dharma-group-meditation-sanctuary/2026-07-05/
END:VEVENT
BEGIN:VEVENT
DTSTART;TZID=America/New_York:20260706T120000
DTEND;TZID=America/New_York:20260706T130000
DTSTAMP:20260419T154322
CREATED:20260217T160918Z
LAST-MODIFIED:20260225T040009Z
UID:10025994-1783339200-1783342800@hartforduu.org
SUMMARY:Rental Sub Council Meeting - Library
DESCRIPTION:
URL:https://hartforduu.org/event/rental-sub-council-meeting-library/2026-07-06/
END:VEVENT
BEGIN:VEVENT
DTSTART;TZID=America/New_York:20260706T183000
DTEND;TZID=America/New_York:20260706T200000
DTSTAMP:20260419T154322
CREATED:20250916T231525Z
LAST-MODIFIED:20250916T231525Z
UID:10023682-1783362600-1783368000@hartforduu.org
SUMMARY:"Stories of Our Lives" Adult Religious Education Course - ZOOM
DESCRIPTION:Adult RE Offering from Rev. Bob:\n“The Stories of our Lives” \nThis Adult Religious Exploration course looks at the stories that impact our lives – sacred stories\, meaningful stories\, challenging stories. Class participants will be invited to read\, on their own time\, some of the world’s great texts (this class is not graded and offers no credits and no shaming\, so homework really is totally optional!). Stories we will explore together may include any of the following: \n\nStories of our beginnings: Genesis\, sacred stories from various traditions\nStories of morality: the Bhagavad Gita\, John Rawls\, Lord of the Rings & Harry Potter\nStories of our universe: relativistic physics\, chaos theory\nStories of the emergent self: The Color Purple\, Joseph Campbell\, Precious\, Hamlet\nStories of Love: Pride and Prejudice\, Upanishads\nStories of Mystery and Relationship: The Gospels\, Cloud of Unknowing\nNational Stories: A People’s History\, These Truths\n\nClearly\, there will be a lot of (entirely optional!) reading. But the classes themselves will not be merely a book review – principally\, we will use the texts as a lens at which to look at the sacred story of our own lives. What does it mean to be human? What are the possibilities of a human life? How do we make sense of it all? \nThis is not a lecture series. I hope to employ a variety of pedagogical methods\, to get folks to talk to one another and engage on a deep level. \nThe class meets on Monday evenings twice a month\, October through May. \nThe FIRST MONDAY of each month is ZOOM ONLY. 6:30 – 8 pm. \nThe THIRD MONDAY of each month is IN PERSON AT USH. 6:30 – 8:00 pm \nPlease note these are two DIFFERENT sessions\, on the same topic. The Zoom session is more introductory and conversational. In the second session\, we explore the topic in greater depth\, using different modes of participation. These sessions are not hybrid – meaning if you want to attend only in person or only on Zoom\, unfortunately you won’t be able to attend both sessions. But there’s no problem with only attending once a month. \nThe course is free\, but registration is required to help me communicate with the class better. Once you register\, you’ll receive a syllabus and a schedule with locations and Zoom links. \nWhen I was wondering what to offer in Adult RE this year\, I though about what I would most like to take\, as a participant. This is what I came up with\, and I’m trying it out for the first time. So needless to say\, I’m very excited about it! Any questions \, please feel free to ask me anything. Thanks! \nGratefully yours\, \nRev. Bob
URL:https://hartforduu.org/event/stories-of-our-lives-adult-religious-education-course-zoom/2026-07-06/
END:VEVENT
BEGIN:VEVENT
DTSTART;TZID=America/New_York:20260708T130000
DTEND;TZID=America/New_York:20260708T150000
DTSTAMP:20260419T154322
CREATED:20260223T170818Z
LAST-MODIFIED:20260223T170818Z
UID:10025944-1783515600-1783522800@hartforduu.org
SUMMARY:Connection Circles - David's Den/Library
DESCRIPTION:
URL:https://hartforduu.org/event/connection-circles-davids-den-library/2026-07-08/
END:VEVENT
BEGIN:VEVENT
DTSTART;TZID=America/New_York:20260709T090000
DTEND;TZID=America/New_York:20260709T220000
DTSTAMP:20260419T154322
CREATED:20251028T194028Z
LAST-MODIFIED:20251028T194028Z
UID:10024064-1783587600-1783634400@hartforduu.org
SUMMARY:Mtg - Socinus
DESCRIPTION:
URL:https://hartforduu.org/event/mtg-socinus/2026-07-09/
END:VEVENT
BEGIN:VEVENT
DTSTART;TZID=America/New_York:20260709T130000
DTEND;TZID=America/New_York:20260709T140000
DTSTAMP:20260419T154322
CREATED:20260317T213650Z
LAST-MODIFIED:20260317T213650Z
UID:10026092-1783602000-1783605600@hartforduu.org
SUMMARY:Weekly Meditation - Meditation Room
DESCRIPTION:
URL:https://hartforduu.org/event/weekly-meditation-meditation-room/2026-07-09/
END:VEVENT
BEGIN:VEVENT
DTSTART;TZID=America/New_York:20260710T130000
DTEND;TZID=America/New_York:20260710T150000
DTSTAMP:20260419T154322
CREATED:20250820T160223Z
LAST-MODIFIED:20260203T062159Z
UID:10025120-1783688400-1783695600@hartforduu.org
SUMMARY:Hands & Hearts Group - ON HOLD
DESCRIPTION:Welcome all Creative Spirits and Crafters to the new\, weekly group ‘Hands & Hearts’ on Friday afternoons from 3-5pm in Murray. Many of us already know the kind of meditative solace and cadent creativity that working with your hands can offer. This group is an opportunity to talk\, share\, relate\, and relax as we work on our projects together. Bring your knitting\, crochet work\, sewing\, quilting\, hooking\, (any kind of handwork you enjoy)\, as well as your news\, your thoughts\, your worries\, and whatever’s on your mind. There will always be available supplies in our ‘fiber library’ if you’d like to start a new project\, or try something new. If you are not a crafter but would love the camaraderie and the chance to meet new friends\, you are very welcome. \n  \nFor more information\, please contact Deana
URL:https://hartforduu.org/event/hands-hearts-group-murray-2-5/2026-07-10/
END:VEVENT
END:VCALENDAR