BEGIN:VCALENDAR
VERSION:2.0
PRODID:-//Unitarian Society of Hartford - ECPv6.15.18//NONSGML v1.0//EN
CALSCALE:GREGORIAN
METHOD:PUBLISH
X-WR-CALNAME:Unitarian Society of Hartford
X-ORIGINAL-URL:https://hartforduu.org
X-WR-CALDESC:Events for Unitarian Society of Hartford
REFRESH-INTERVAL;VALUE=DURATION:PT1H
X-Robots-Tag:noindex
X-PUBLISHED-TTL:PT1H
BEGIN:VTIMEZONE
TZID:America/New_York
BEGIN:DAYLIGHT
TZOFFSETFROM:-0500
TZOFFSETTO:-0400
TZNAME:EDT
DTSTART:20240310T070000
END:DAYLIGHT
BEGIN:STANDARD
TZOFFSETFROM:-0400
TZOFFSETTO:-0500
TZNAME:EST
DTSTART:20241103T060000
END:STANDARD
BEGIN:DAYLIGHT
TZOFFSETFROM:-0500
TZOFFSETTO:-0400
TZNAME:EDT
DTSTART:20250309T070000
END:DAYLIGHT
BEGIN:STANDARD
TZOFFSETFROM:-0400
TZOFFSETTO:-0500
TZNAME:EST
DTSTART:20251102T060000
END:STANDARD
BEGIN:DAYLIGHT
TZOFFSETFROM:-0500
TZOFFSETTO:-0400
TZNAME:EDT
DTSTART:20260308T070000
END:DAYLIGHT
BEGIN:STANDARD
TZOFFSETFROM:-0400
TZOFFSETTO:-0500
TZNAME:EST
DTSTART:20261101T060000
END:STANDARD
BEGIN:DAYLIGHT
TZOFFSETFROM:-0500
TZOFFSETTO:-0400
TZNAME:EDT
DTSTART:20270314T070000
END:DAYLIGHT
BEGIN:STANDARD
TZOFFSETFROM:-0400
TZOFFSETTO:-0500
TZNAME:EST
DTSTART:20271107T060000
END:STANDARD
END:VTIMEZONE
BEGIN:VEVENT
DTSTART;TZID=America/New_York:20260103T103000
DTEND;TZID=America/New_York:20260103T120000
DTSTAMP:20260419T203846
CREATED:20231219T202559Z
LAST-MODIFIED:20250818T191400Z
UID:10021850-1767436200-1767441600@hartforduu.org
SUMMARY:Disability Support Group - Zoom
DESCRIPTION:This group meets online on the first Saturday of each month at 10:30 a.m. The zoom link is sent a few days prior to the meeting. In this group\, participants discuss the challenges of physical disability (chronic illness\, chronic pain\, impaired senses\, impaired mobility) and emotional pain (loss\, mental illness)\, and the stresses of caretaking a loved one. What is said in the group stays in the group. To confirm scheduling\, please Email Susan Hope or call 860 463 6407
URL:https://hartforduu.org/event/disability-support-group/2026-01-03/
END:VEVENT
BEGIN:VEVENT
DTSTART;TZID=America/New_York:20260103T100000
DTEND;TZID=America/New_York:20260103T120000
DTSTAMP:20260419T203846
CREATED:20241112T030219Z
LAST-MODIFIED:20251125T162405Z
UID:10020025-1767434400-1767441600@hartforduu.org
SUMMARY:Helping Parents Heal - Library/David's Den
DESCRIPTION:Helping Parents Heal — Hartford is an affiliate chapter of Helping Parents Heal (https://www.helpingparentsheal.org)\, a non-profit organization dedicated to assisting parents whose children have passed. Our support group allows for an open discussion of spiritual experiences and afterlife evidence in a non-dogmatic way. We welcome everyone regardless of their religious or non-religious backgrounds. \nHelping Parents Heal recognizes several factors that contribute to the healing process: caring support from others\, interaction with people who have also experienced the loss of a child\, service to others\, personal transformation\, and discovering a reason for hope. This hope comes from acknowledging our spiritual/energetic natures and understanding that our loved ones continue on in another realm after physical death. \nParents\, grandparents\, and siblings of a child who has passed at any age are welcome to join us. Our group meets on the first Saturday of each month from 10:00 a.m. – noon. Please contact Pamela Hamad if you would like more information at hphhartford@gmail.com or (941) 544-1083.
URL:https://hartforduu.org/event/helping-parents-heal/2026-01-03/
END:VEVENT
BEGIN:VEVENT
DTSTART;TZID=America/New_York:20260102T130000
DTEND;TZID=America/New_York:20260102T150000
DTSTAMP:20260419T203846
CREATED:20250820T160223Z
LAST-MODIFIED:20260203T062159Z
UID:10025093-1767358800-1767366000@hartforduu.org
SUMMARY:Hands & Hearts Group - ON HOLD
DESCRIPTION:Welcome all Creative Spirits and Crafters to the new\, weekly group ‘Hands & Hearts’ on Friday afternoons from 3-5pm in Murray. Many of us already know the kind of meditative solace and cadent creativity that working with your hands can offer. This group is an opportunity to talk\, share\, relate\, and relax as we work on our projects together. Bring your knitting\, crochet work\, sewing\, quilting\, hooking\, (any kind of handwork you enjoy)\, as well as your news\, your thoughts\, your worries\, and whatever’s on your mind. There will always be available supplies in our ‘fiber library’ if you’d like to start a new project\, or try something new. If you are not a crafter but would love the camaraderie and the chance to meet new friends\, you are very welcome. \n  \nFor more information\, please contact Deana
URL:https://hartforduu.org/event/hands-hearts-group-murray-2-5/2026-01-02/
END:VEVENT
BEGIN:VEVENT
DTSTART;TZID=America/New_York:20260102T103000
DTEND;TZID=America/New_York:20260102T120000
DTSTAMP:20260419T203846
CREATED:20240819T225729Z
LAST-MODIFIED:20250903T204903Z
UID:10022832-1767349800-1767355200@hartforduu.org
SUMMARY:First Friday's Discussion Group - Library/Zoom
DESCRIPTION:  \n\nJoin Zoom Meeting\nhttps://us02web.zoom.us/j/81449257587 \nMeeting ID: 814 4925 7587
URL:https://hartforduu.org/event/first-fridays-discussion-group/2026-01-02/
END:VEVENT
BEGIN:VEVENT
DTSTART;TZID=America/New_York:20260101T190000
DTEND;TZID=America/New_York:20260101T203000
DTSTAMP:20260419T203846
CREATED:20250212T090113Z
LAST-MODIFIED:20250325T234024Z
UID:10019199-1767294000-1767299400@hartforduu.org
SUMMARY:Men's Group - David's Den
DESCRIPTION:The men’s group wants to open up the group to new members. We meet on the first Thursday of the month. Please contact Jim Landis at \njimlandis@aol.com for more information. All are welcome!
URL:https://hartforduu.org/event/mens-group-davids-den/2026-01-01/
END:VEVENT
BEGIN:VEVENT
DTSTART;TZID=America/New_York:20260101T160000
DTEND;TZID=America/New_York:20260101T170000
DTSTAMP:20260419T203846
CREATED:20251001T134541Z
LAST-MODIFIED:20251001T134541Z
UID:10023914-1767283200-1767286800@hartforduu.org
SUMMARY:Spiritual Leaders Group - Library/Servetus
DESCRIPTION:
URL:https://hartforduu.org/event/spiritual-leaders-group-library-servetus/2026-01-01/
END:VEVENT
BEGIN:VEVENT
DTSTART;TZID=America/New_York:20260101T090000
DTEND;TZID=America/New_York:20260101T220000
DTSTAMP:20260419T203846
CREATED:20251028T194028Z
LAST-MODIFIED:20251028T194028Z
UID:10024037-1767258000-1767304800@hartforduu.org
SUMMARY:Mtg - Socinus
DESCRIPTION:
URL:https://hartforduu.org/event/mtg-socinus/2026-01-01/
END:VEVENT
BEGIN:VEVENT
DTSTART;TZID=America/New_York:20251231T200000
DTEND;TZID=America/New_York:20251231T233000
DTSTAMP:20260419T203846
CREATED:20250916T165957Z
LAST-MODIFIED:20250916T165957Z
UID:10023614-1767211200-1767223800@hartforduu.org
SUMMARY:Dainelson House of Prayer New Years Eve Service - Chapel and Library
DESCRIPTION:Event ends at midnight.
URL:https://hartforduu.org/event/dainelson-house-of-prayer-new-years-eve-service-chapel-and-library/
END:VEVENT
BEGIN:VEVENT
DTSTART;TZID=America/New_York:20251229T100000
DTEND;TZID=America/New_York:20251229T110000
DTSTAMP:20260419T203846
CREATED:20250804T230148Z
LAST-MODIFIED:20260203T060141Z
UID:10022446-1767002400-1767006000@hartforduu.org
SUMMARY:Gentle Yoga - Meditation Sanctuary
DESCRIPTION:Gentle Yoga\, Monday Mornings at 10 \nGentle Yoga meets weekly on Monday mornings\, in the Meditation rooms. Led by experienced yoga practitioner and teacher LU Giammatteo\, these hour-long sessions incorporate gentle stretching and strengthening positions and movements in a supportive\, encouraging environment. Stand or sit\, according to your preference and ability… all levels are welcome. \nIf you’d like to learn more before showing up\, email LU with your questions. \nParticipants are asked to donate $5 per session (proceeds to USH) if their situation allows.
URL:https://hartforduu.org/event/gentle-yoga-meditation-sanctuary-2/2025-12-29/
END:VEVENT
BEGIN:VEVENT
DTSTART;TZID=America/New_York:20251228T180000
DTEND;TZID=America/New_York:20251228T190000
DTSTAMP:20260419T203846
CREATED:20240703T180456Z
LAST-MODIFIED:20250325T145519Z
UID:10018272-1766944800-1766948400@hartforduu.org
SUMMARY:Recovery Dharma Group- Meditation Sanctuary
DESCRIPTION:
URL:https://hartforduu.org/event/recovery-dharma-group-meditation-sanctuary/2025-12-28/
END:VEVENT
BEGIN:VEVENT
DTSTART;TZID=America/New_York:20251228T150000
DTEND;TZID=America/New_York:20251228T180000
DTSTAMP:20260419T203846
CREATED:20251111T193650Z
LAST-MODIFIED:20251111T193650Z
UID:10024371-1766934000-1766944800@hartforduu.org
SUMMARY:Daniel’s House of Prayer – Chapel/Library (Rental)
DESCRIPTION:
URL:https://hartforduu.org/event/daniels-house-of-prayer-chapel-library-rental/2025-12-28/
END:VEVENT
BEGIN:VEVENT
DTSTART;TZID=America/New_York:20251228T140000
DTEND;TZID=America/New_York:20251228T180000
DTSTAMP:20260419T203846
CREATED:20250902T165912Z
LAST-MODIFIED:20250902T165912Z
UID:10023338-1766930400-1766944800@hartforduu.org
SUMMARY:Sathya Sai Center - Fellowship Hall (Rental)
DESCRIPTION:
URL:https://hartforduu.org/event/sathya-sai-center-fellowship-hall-rental/2025-12-28/
END:VEVENT
BEGIN:VEVENT
DTSTART;TZID=America/New_York:20251228T103000
DTEND;TZID=America/New_York:20251228T123000
DTSTAMP:20260419T203846
CREATED:20251111T200608Z
LAST-MODIFIED:20251111T200608Z
UID:10024634-1766917800-1766925000@hartforduu.org
SUMMARY:Sunday Worship & Fellowship Time
DESCRIPTION:Services are livestreamed every Sunday on Zoom and Facebook \nZoom info: Meeting ID: 931 0388 7934 \nVirtual Coffee Hour to follow \n* Note: Zoom Coffee Hour ends at noon \nPast Services
URL:https://hartforduu.org/event/sunday-worship-fellowship-time/2025-12-28/
END:VEVENT
BEGIN:VEVENT
DTSTART;TZID=America/New_York:20251227T100000
DTEND;TZID=America/New_York:20251227T113000
DTSTAMP:20260419T203846
CREATED:20250825T232659Z
LAST-MODIFIED:20250825T232659Z
UID:10023300-1766829600-1766835000@hartforduu.org
SUMMARY:SpiritChats with Nicholas Bartoli - Meditation Sanctuary
DESCRIPTION:
URL:https://hartforduu.org/event/spiritchats-with-nicholas-bartoli-meditation-sanctuary/2025-12-27/
END:VEVENT
BEGIN:VEVENT
DTSTART;TZID=America/New_York:20251226T130000
DTEND;TZID=America/New_York:20251226T150000
DTSTAMP:20260419T203846
CREATED:20250820T160223Z
LAST-MODIFIED:20260203T062159Z
UID:10025092-1766754000-1766761200@hartforduu.org
SUMMARY:Hands & Hearts Group - ON HOLD
DESCRIPTION:Welcome all Creative Spirits and Crafters to the new\, weekly group ‘Hands & Hearts’ on Friday afternoons from 3-5pm in Murray. Many of us already know the kind of meditative solace and cadent creativity that working with your hands can offer. This group is an opportunity to talk\, share\, relate\, and relax as we work on our projects together. Bring your knitting\, crochet work\, sewing\, quilting\, hooking\, (any kind of handwork you enjoy)\, as well as your news\, your thoughts\, your worries\, and whatever’s on your mind. There will always be available supplies in our ‘fiber library’ if you’d like to start a new project\, or try something new. If you are not a crafter but would love the camaraderie and the chance to meet new friends\, you are very welcome. \n  \nFor more information\, please contact Deana
URL:https://hartforduu.org/event/hands-hearts-group-murray-2-5/2025-12-26/
END:VEVENT
BEGIN:VEVENT
DTSTART;TZID=America/New_York:20251226T130000
DTEND;TZID=America/New_York:20251226T150000
DTSTAMP:20260419T203846
CREATED:20250819T172955Z
LAST-MODIFIED:20250907T042436Z
UID:10021934-1766754000-1766761200@hartforduu.org
SUMMARY:ON HOLD\, No Mtgs - Genealogy Group
DESCRIPTION:Meetings are currently on hold. If you are interested in learning more\, contact Laura Cipriano \n  \nAre you interested in genealogy? You are welcome to join us wherever you are in your search\, expert or a beginner or anywhere in between. Bring a laptop or a tablet if you want to open the websites\, or just come to watch\, listen\, and help out. A notebook and a few names\, dates\, and locations is a great way to begin. Each month we will explore a different way to use free technology to learn more about your family history. Meet in the USH Library. \nContact Larry Lunden or Laura Cipriano for more information.
URL:https://hartforduu.org/event/genealogy-group-2-2/2025-12-26/
LOCATION:Libary/David’s Den
END:VEVENT
BEGIN:VEVENT
DTSTART;TZID=America/New_York:20251225T090000
DTEND;TZID=America/New_York:20251225T220000
DTSTAMP:20260419T203846
CREATED:20251028T194028Z
LAST-MODIFIED:20251028T194028Z
UID:10024036-1766653200-1766700000@hartforduu.org
SUMMARY:Mtg - Socinus
DESCRIPTION:
URL:https://hartforduu.org/event/mtg-socinus/2025-12-25/
END:VEVENT
BEGIN:VEVENT
DTSTART;TZID=America/New_York:20251224T163000
DTEND;TZID=America/New_York:20251224T180000
DTSTAMP:20260419T203846
CREATED:20251111T224023Z
LAST-MODIFIED:20251111T224023Z
UID:10024950-1766593800-1766599200@hartforduu.org
SUMMARY:Christmas Eve Service - Sanctuary
DESCRIPTION:
URL:https://hartforduu.org/event/christmas-eve-service-sanctuary/
END:VEVENT
BEGIN:VEVENT
DTSTART;TZID=America/New_York:20251223T123000
DTEND;TZID=America/New_York:20251223T150000
DTSTAMP:20260419T203846
CREATED:20251223T060546Z
LAST-MODIFIED:20251223T060546Z
UID:10025051-1766493000-1766502000@hartforduu.org
SUMMARY:Connection Circles - Library/David's Den
DESCRIPTION:
URL:https://hartforduu.org/event/connection-circles-library-davids-den/
END:VEVENT
BEGIN:VEVENT
DTSTART;TZID=America/New_York:20251222T183000
DTEND;TZID=America/New_York:20251222T203000
DTSTAMP:20260419T203846
CREATED:20250814T223901Z
LAST-MODIFIED:20250814T224339Z
UID:10022939-1766428200-1766435400@hartforduu.org
SUMMARY:Board Meeting - Library
DESCRIPTION:USH Board Meeting\nFourth Monday of each month\, 6:30 – 8:30 p.m. (If a holiday\, the meeting will be held on the following Tuesday)\nIn-person in the Library and on Zoom\nBoard meetings are public and all are welcome to attend. \nJoin Zoom Meeting \nhttps://us02web.zoom.us/j/81272126940 \nMeeting ID: 812 721 26940
URL:https://hartforduu.org/event/board-meeting-library-3/2025-12-22/
LOCATION:David’s Den/Library
END:VEVENT
BEGIN:VEVENT
DTSTART;TZID=America/New_York:20251222T100000
DTEND;TZID=America/New_York:20251222T110000
DTSTAMP:20260419T203846
CREATED:20250804T230148Z
LAST-MODIFIED:20260203T060141Z
UID:10022445-1766397600-1766401200@hartforduu.org
SUMMARY:Gentle Yoga - Meditation Sanctuary
DESCRIPTION:Gentle Yoga\, Monday Mornings at 10 \nGentle Yoga meets weekly on Monday mornings\, in the Meditation rooms. Led by experienced yoga practitioner and teacher LU Giammatteo\, these hour-long sessions incorporate gentle stretching and strengthening positions and movements in a supportive\, encouraging environment. Stand or sit\, according to your preference and ability… all levels are welcome. \nIf you’d like to learn more before showing up\, email LU with your questions. \nParticipants are asked to donate $5 per session (proceeds to USH) if their situation allows.
URL:https://hartforduu.org/event/gentle-yoga-meditation-sanctuary-2/2025-12-22/
END:VEVENT
BEGIN:VEVENT
DTSTART;TZID=America/New_York:20251221T190000
DTEND;TZID=America/New_York:20251221T220000
DTSTAMP:20260419T203846
CREATED:20251009T014650Z
LAST-MODIFIED:20251009T014650Z
UID:10024000-1766343600-1766354400@hartforduu.org
SUMMARY:Concert - Sanctuary (Rental)
DESCRIPTION:
URL:https://hartforduu.org/event/concert-sanctuary-rental/
END:VEVENT
BEGIN:VEVENT
DTSTART;TZID=America/New_York:20251221T180000
DTEND;TZID=America/New_York:20251221T190000
DTSTAMP:20260419T203846
CREATED:20240703T180456Z
LAST-MODIFIED:20250325T145519Z
UID:10018271-1766340000-1766343600@hartforduu.org
SUMMARY:Recovery Dharma Group- Meditation Sanctuary
DESCRIPTION:
URL:https://hartforduu.org/event/recovery-dharma-group-meditation-sanctuary/2025-12-21/
END:VEVENT
BEGIN:VEVENT
DTSTART;TZID=America/New_York:20251221T150000
DTEND;TZID=America/New_York:20251221T180000
DTSTAMP:20260419T203846
CREATED:20251111T193650Z
LAST-MODIFIED:20251111T193650Z
UID:10024370-1766329200-1766340000@hartforduu.org
SUMMARY:Daniel’s House of Prayer – Chapel/Library (Rental)
DESCRIPTION:
URL:https://hartforduu.org/event/daniels-house-of-prayer-chapel-library-rental/2025-12-21/
END:VEVENT
BEGIN:VEVENT
DTSTART;TZID=America/New_York:20251221T140000
DTEND;TZID=America/New_York:20251221T180000
DTSTAMP:20260419T203846
CREATED:20250902T165912Z
LAST-MODIFIED:20250902T165912Z
UID:10023337-1766325600-1766340000@hartforduu.org
SUMMARY:Sathya Sai Center - Fellowship Hall (Rental)
DESCRIPTION:
URL:https://hartforduu.org/event/sathya-sai-center-fellowship-hall-rental/2025-12-21/
END:VEVENT
BEGIN:VEVENT
DTSTART;TZID=America/New_York:20251221T103000
DTEND;TZID=America/New_York:20251221T123000
DTSTAMP:20260419T203846
CREATED:20251111T200608Z
LAST-MODIFIED:20251111T200608Z
UID:10024633-1766313000-1766320200@hartforduu.org
SUMMARY:Sunday Worship & Fellowship Time
DESCRIPTION:Services are livestreamed every Sunday on Zoom and Facebook \nZoom info: Meeting ID: 931 0388 7934 \nVirtual Coffee Hour to follow \n* Note: Zoom Coffee Hour ends at noon \nPast Services
URL:https://hartforduu.org/event/sunday-worship-fellowship-time/2025-12-21/
END:VEVENT
BEGIN:VEVENT
DTSTART;TZID=America/New_York:20251221T100000
DTEND;TZID=America/New_York:20251221T120000
DTSTAMP:20260419T203846
CREATED:20250804T230834Z
LAST-MODIFIED:20260215T211914Z
UID:10022734-1766311200-1766318400@hartforduu.org
SUMMARY:Youth Soup Sunday
DESCRIPTION:
URL:https://hartforduu.org/event/youth-soup-sunday/2025-12-21/
END:VEVENT
BEGIN:VEVENT
DTSTART;TZID=America/New_York:20251220T150000
DTEND;TZID=America/New_York:20251220T190000
DTSTAMP:20260419T203846
CREATED:20250806T163253Z
LAST-MODIFIED:20250806T163253Z
UID:10022863-1766242800-1766257200@hartforduu.org
SUMMARY:Twilight Fire Circle Yule Celebration - Library
DESCRIPTION:
URL:https://hartforduu.org/event/twilight-fire-circle-yule-celebration-library/
END:VEVENT
BEGIN:VEVENT
DTSTART;TZID=America/New_York:20251220T140000
DTEND;TZID=America/New_York:20251220T170000
DTSTAMP:20260419T203846
CREATED:20240710T020049Z
LAST-MODIFIED:20250626T171905Z
UID:10021373-1766239200-1766250000@hartforduu.org
SUMMARY:Sing Along - Meditation Sanctuary
DESCRIPTION:Meeting House Sing-Along – Third Saturdays\nContact: Fred Louis FlLouis@yahoo.com or Ed Savage 860-966-8155 (cell) EdSavage03@yahoo.com\nJoin us at the next Meeting House Sing-Along. Fred Louis and Ed Savage are offering an opportunity to CT Singing families\, singers\, song-writers\, and audience members to join in song on the third Saturday of each month from 2 to 5 PM. We will have song-sheets and some loaner copies of Rise Up Singing available. Bring your own ‘Rise Up Singing’ if you have one\, as we have used it a lot in other months. We will also use the NEW “Rise Again” sequel – 1200 more songs to sample.\nVAX protocol: OK to sing\, socially spaced\, if you are vaccinated AND boosted; even so\, if anyone is uncomfortable about singing unmasked\, we should ALL wear masks. Please feel free to express your caution about COVID contagion by contacting Fred and Ed (see above).\nIf you have NOT completed your COVID vaccination cycle\, we ask that you skip the Sing-Alongs for now\, to protect you from US.
URL:https://hartforduu.org/event/sing-along-meditation-sanctuary/2025-12-20/
END:VEVENT
BEGIN:VEVENT
DTSTART;TZID=America/New_York:20251220T090000
DTEND;TZID=America/New_York:20251220T130000
DTSTAMP:20260419T203846
CREATED:20250201T042757Z
LAST-MODIFIED:20250825T233559Z
UID:10020155-1766221200-1766235600@hartforduu.org
SUMMARY:Reiki Share - Meditation Sanctuary
DESCRIPTION:REIKI SHARE – This is a monthly gathering on the third Saturday morning\, 9:30 am-12:30 pm. Ready to Refresh\, Reconnect and Rejuvenate your Reiki?  This Reiki Share is a great opportunity to support Reiki practitioners at all levels.  Whether you are just starting out\, you haven’t practiced in awhile\, or you are more experienced you are most welcome.  This Share is open to the USH community as long as you have some level of Reiki training. It is dedicated to refreshing and reconnecting you with your Reiki energy and enjoying self and group healings. We open and close with discussion and sound meditation\, then we take turns on massage tables giving and receiving this Japanese style energy healing practice in small groups. Advanced registration is requested so we have sufficient tables available. Questions may be directed by phone or text to Lisa Burch\, 860-985-9719\, or email:  spiritmattersct@outlook.com. A donation is requested\, suggested $15/20.
URL:https://hartforduu.org/event/reiki-share-meditation-sanctuary-2/2025-12-20/
END:VEVENT
END:VCALENDAR