BEGIN:VCALENDAR
VERSION:2.0
PRODID:-//Unitarian Society of Hartford - ECPv6.15.18//NONSGML v1.0//EN
CALSCALE:GREGORIAN
METHOD:PUBLISH
X-WR-CALNAME:Unitarian Society of Hartford
X-ORIGINAL-URL:https://hartforduu.org
X-WR-CALDESC:Events for Unitarian Society of Hartford
REFRESH-INTERVAL;VALUE=DURATION:PT1H
X-Robots-Tag:noindex
X-PUBLISHED-TTL:PT1H
BEGIN:VTIMEZONE
TZID:America/New_York
BEGIN:DAYLIGHT
TZOFFSETFROM:-0500
TZOFFSETTO:-0400
TZNAME:EDT
DTSTART:20250309T070000
END:DAYLIGHT
BEGIN:STANDARD
TZOFFSETFROM:-0400
TZOFFSETTO:-0500
TZNAME:EST
DTSTART:20251102T060000
END:STANDARD
BEGIN:DAYLIGHT
TZOFFSETFROM:-0500
TZOFFSETTO:-0400
TZNAME:EDT
DTSTART:20260308T070000
END:DAYLIGHT
BEGIN:STANDARD
TZOFFSETFROM:-0400
TZOFFSETTO:-0500
TZNAME:EST
DTSTART:20261101T060000
END:STANDARD
BEGIN:DAYLIGHT
TZOFFSETFROM:-0500
TZOFFSETTO:-0400
TZNAME:EDT
DTSTART:20270314T070000
END:DAYLIGHT
BEGIN:STANDARD
TZOFFSETFROM:-0400
TZOFFSETTO:-0500
TZNAME:EST
DTSTART:20271107T060000
END:STANDARD
END:VTIMEZONE
BEGIN:VEVENT
DTSTART;TZID=America/New_York:20260903T090000
DTEND;TZID=America/New_York:20260903T220000
DTSTAMP:20260423T153615
CREATED:20251028T194028Z
LAST-MODIFIED:20251028T194028Z
UID:10024072-1788426000-1788472800@hartforduu.org
SUMMARY:Mtg - Socinus
DESCRIPTION:
URL:https://hartforduu.org/event/mtg-socinus/2026-09-03/
END:VEVENT
BEGIN:VEVENT
DTSTART;TZID=America/New_York:20260903T130000
DTEND;TZID=America/New_York:20260903T140000
DTSTAMP:20260423T153615
CREATED:20260317T213650Z
LAST-MODIFIED:20260317T213650Z
UID:10026100-1788440400-1788444000@hartforduu.org
SUMMARY:Weekly Meditation - Meditation Room
DESCRIPTION:
URL:https://hartforduu.org/event/weekly-meditation-meditation-room/2026-09-03/
END:VEVENT
BEGIN:VEVENT
DTSTART;TZID=America/New_York:20260903T190000
DTEND;TZID=America/New_York:20260903T203000
DTSTAMP:20260423T153615
CREATED:20250212T090113Z
LAST-MODIFIED:20250325T234024Z
UID:10019207-1788462000-1788467400@hartforduu.org
SUMMARY:Men's Group - David's Den
DESCRIPTION:The men’s group wants to open up the group to new members. We meet on the first Thursday of the month. Please contact Jim Landis at \njimlandis@aol.com for more information. All are welcome!
URL:https://hartforduu.org/event/mens-group-davids-den/2026-09-03/
END:VEVENT
END:VCALENDAR