BEGIN:VCALENDAR
VERSION:2.0
PRODID:-//Unitarian Society of Hartford - ECPv6.15.18//NONSGML v1.0//EN
CALSCALE:GREGORIAN
METHOD:PUBLISH
X-WR-CALNAME:Unitarian Society of Hartford
X-ORIGINAL-URL:https://hartforduu.org
X-WR-CALDESC:Events for Unitarian Society of Hartford
REFRESH-INTERVAL;VALUE=DURATION:PT1H
X-Robots-Tag:noindex
X-PUBLISHED-TTL:PT1H
BEGIN:VTIMEZONE
TZID:America/New_York
BEGIN:DAYLIGHT
TZOFFSETFROM:-0500
TZOFFSETTO:-0400
TZNAME:EDT
DTSTART:20250309T070000
END:DAYLIGHT
BEGIN:STANDARD
TZOFFSETFROM:-0400
TZOFFSETTO:-0500
TZNAME:EST
DTSTART:20251102T060000
END:STANDARD
BEGIN:DAYLIGHT
TZOFFSETFROM:-0500
TZOFFSETTO:-0400
TZNAME:EDT
DTSTART:20260308T070000
END:DAYLIGHT
BEGIN:STANDARD
TZOFFSETFROM:-0400
TZOFFSETTO:-0500
TZNAME:EST
DTSTART:20261101T060000
END:STANDARD
BEGIN:DAYLIGHT
TZOFFSETFROM:-0500
TZOFFSETTO:-0400
TZNAME:EDT
DTSTART:20270314T070000
END:DAYLIGHT
BEGIN:STANDARD
TZOFFSETFROM:-0400
TZOFFSETTO:-0500
TZNAME:EST
DTSTART:20271107T060000
END:STANDARD
END:VTIMEZONE
BEGIN:VEVENT
DTSTART;TZID=America/New_York:20260725T100000
DTEND;TZID=America/New_York:20260725T113000
DTSTAMP:20260423T134829
CREATED:20260112T031726Z
LAST-MODIFIED:20260209T032059Z
UID:10025546-1784973600-1784979000@hartforduu.org
SUMMARY:SpiritChat - Meditation Sanctuary
DESCRIPTION:SpiritChat is offered at USH on the second and fourth Saturdays of the month from 10:00am to 11:30am and typically begin with twenty minutes of silent meditation. Nicholas then gives a brief reflection\, often accompanied by a handout. Meetings conclude with a question-and-answer period. Those curious to know more may contact Nicholas at: info@nicholasbartoli.com.
URL:https://hartforduu.org/event/spiritchat-meditation-sanctuary-2/2026-07-25/
END:VEVENT
BEGIN:VEVENT
DTSTART;TZID=America/New_York:20260725T140000
DTEND;TZID=America/New_York:20260725T170000
DTSTAMP:20260423T134829
CREATED:20260421T141304Z
LAST-MODIFIED:20260421T141304Z
UID:10026675-1784988000-1784998800@hartforduu.org
SUMMARY:Turning Inward into Spirit - Meditation Sanc.\, Library\, Servetus\, David's Den\, and Classroom D
DESCRIPTION:
URL:https://hartforduu.org/event/turning-inward-into-spirit-meditation-sanc-library-servetus-davids-den-and-classroom-d/2026-07-25/
END:VEVENT
END:VCALENDAR