BEGIN:VCALENDAR
VERSION:2.0
PRODID:-//Unitarian Society of Hartford - ECPv6.15.18//NONSGML v1.0//EN
CALSCALE:GREGORIAN
METHOD:PUBLISH
X-WR-CALNAME:Unitarian Society of Hartford
X-ORIGINAL-URL:https://hartforduu.org
X-WR-CALDESC:Events for Unitarian Society of Hartford
REFRESH-INTERVAL;VALUE=DURATION:PT1H
X-Robots-Tag:noindex
X-PUBLISHED-TTL:PT1H
BEGIN:VTIMEZONE
TZID:America/New_York
BEGIN:DAYLIGHT
TZOFFSETFROM:-0500
TZOFFSETTO:-0400
TZNAME:EDT
DTSTART:20250309T070000
END:DAYLIGHT
BEGIN:STANDARD
TZOFFSETFROM:-0400
TZOFFSETTO:-0500
TZNAME:EST
DTSTART:20251102T060000
END:STANDARD
BEGIN:DAYLIGHT
TZOFFSETFROM:-0500
TZOFFSETTO:-0400
TZNAME:EDT
DTSTART:20260308T070000
END:DAYLIGHT
BEGIN:STANDARD
TZOFFSETFROM:-0400
TZOFFSETTO:-0500
TZNAME:EST
DTSTART:20261101T060000
END:STANDARD
BEGIN:DAYLIGHT
TZOFFSETFROM:-0500
TZOFFSETTO:-0400
TZNAME:EDT
DTSTART:20270314T070000
END:DAYLIGHT
BEGIN:STANDARD
TZOFFSETFROM:-0400
TZOFFSETTO:-0500
TZNAME:EST
DTSTART:20271107T060000
END:STANDARD
END:VTIMEZONE
BEGIN:VEVENT
DTSTART;TZID=America/New_York:20260621T100000
DTEND;TZID=America/New_York:20260621T120000
DTSTAMP:20260423T124825
CREATED:20250804T230834Z
LAST-MODIFIED:20260215T211914Z
UID:10022740-1782036000-1782043200@hartforduu.org
SUMMARY:Youth Soup Sunday
DESCRIPTION:
URL:https://hartforduu.org/event/youth-soup-sunday/2026-06-21/
END:VEVENT
BEGIN:VEVENT
DTSTART;TZID=America/New_York:20260621T103000
DTEND;TZID=America/New_York:20260621T123000
DTSTAMP:20260423T124825
CREATED:20251111T200608Z
LAST-MODIFIED:20251111T200608Z
UID:10024659-1782037800-1782045000@hartforduu.org
SUMMARY:Sunday Worship & Fellowship Time
DESCRIPTION:Services are livestreamed every Sunday on Zoom and Facebook \nZoom info: Meeting ID: 931 0388 7934 \nVirtual Coffee Hour to follow \n* Note: Zoom Coffee Hour ends at noon \nPast Services
URL:https://hartforduu.org/event/sunday-worship-fellowship-time/2026-06-21/
END:VEVENT
BEGIN:VEVENT
DTSTART;TZID=America/New_York:20260621T121500
DTEND;TZID=America/New_York:20260621T134500
DTSTAMP:20260423T124825
CREATED:20251216T180200Z
LAST-MODIFIED:20251216T180211Z
UID:10025046-1782044100-1782049500@hartforduu.org
SUMMARY:Caring Network - Library
DESCRIPTION:
URL:https://hartforduu.org/event/caring-network-murray-2-3/2026-06-21/
END:VEVENT
BEGIN:VEVENT
DTSTART;TZID=America/New_York:20260621T140000
DTEND;TZID=America/New_York:20260621T180000
DTSTAMP:20260423T124825
CREATED:20250902T165912Z
LAST-MODIFIED:20260421T190948Z
UID:10023363-1782050400-1782064800@hartforduu.org
SUMMARY:Sathya Sai Center - Fellowship Hall (Rental)
DESCRIPTION:
URL:https://hartforduu.org/event/sathya-sai-center-fellowship-hall-rental/2026-06-21/
END:VEVENT
BEGIN:VEVENT
DTSTART;TZID=America/New_York:20260621T150000
DTEND;TZID=America/New_York:20260621T180000
DTSTAMP:20260423T124825
CREATED:20251111T193650Z
LAST-MODIFIED:20260421T191024Z
UID:10024396-1782054000-1782064800@hartforduu.org
SUMMARY:Daniel’s House of Prayer – Chapel/Library (Rental)
DESCRIPTION:
URL:https://hartforduu.org/event/daniels-house-of-prayer-chapel-library-rental/2026-06-21/
END:VEVENT
BEGIN:VEVENT
DTSTART;TZID=America/New_York:20260621T180000
DTEND;TZID=America/New_York:20260621T190000
DTSTAMP:20260423T124825
CREATED:20240703T180456Z
LAST-MODIFIED:20250325T145519Z
UID:10018297-1782064800-1782068400@hartforduu.org
SUMMARY:Recovery Dharma Group- Meditation Sanctuary
DESCRIPTION:
URL:https://hartforduu.org/event/recovery-dharma-group-meditation-sanctuary/2026-06-21/
END:VEVENT
END:VCALENDAR