BEGIN:VCALENDAR
VERSION:2.0
PRODID:-//Unitarian Society of Hartford - ECPv6.15.18//NONSGML v1.0//EN
CALSCALE:GREGORIAN
METHOD:PUBLISH
X-WR-CALNAME:Unitarian Society of Hartford
X-ORIGINAL-URL:https://hartforduu.org
X-WR-CALDESC:Events for Unitarian Society of Hartford
REFRESH-INTERVAL;VALUE=DURATION:PT1H
X-Robots-Tag:noindex
X-PUBLISHED-TTL:PT1H
BEGIN:VTIMEZONE
TZID:America/New_York
BEGIN:DAYLIGHT
TZOFFSETFROM:-0500
TZOFFSETTO:-0400
TZNAME:EDT
DTSTART:20250309T070000
END:DAYLIGHT
BEGIN:STANDARD
TZOFFSETFROM:-0400
TZOFFSETTO:-0500
TZNAME:EST
DTSTART:20251102T060000
END:STANDARD
BEGIN:DAYLIGHT
TZOFFSETFROM:-0500
TZOFFSETTO:-0400
TZNAME:EDT
DTSTART:20260308T070000
END:DAYLIGHT
BEGIN:STANDARD
TZOFFSETFROM:-0400
TZOFFSETTO:-0500
TZNAME:EST
DTSTART:20261101T060000
END:STANDARD
BEGIN:DAYLIGHT
TZOFFSETFROM:-0500
TZOFFSETTO:-0400
TZNAME:EDT
DTSTART:20270314T070000
END:DAYLIGHT
BEGIN:STANDARD
TZOFFSETFROM:-0400
TZOFFSETTO:-0500
TZNAME:EST
DTSTART:20271107T060000
END:STANDARD
END:VTIMEZONE
BEGIN:VEVENT
DTSTART;TZID=America/New_York:20260512T120000
DTEND;TZID=America/New_York:20260512T140000
DTSTAMP:20260423T110037
CREATED:20250803T001936Z
LAST-MODIFIED:20260421T190758Z
UID:10026676-1778587200-1778594400@hartforduu.org
SUMMARY:Lunch Bunch - Fellowship Hall
DESCRIPTION:
URL:https://hartforduu.org/event/lunch-bunch-fellowship-hall/2026-05-12/
END:VEVENT
END:VCALENDAR