BEGIN:VCALENDAR
VERSION:2.0
PRODID:-//Unitarian Society of Hartford - ECPv6.15.18//NONSGML v1.0//EN
CALSCALE:GREGORIAN
METHOD:PUBLISH
X-ORIGINAL-URL:https://hartforduu.org
X-WR-CALDESC:Events for Unitarian Society of Hartford
REFRESH-INTERVAL;VALUE=DURATION:PT1H
X-Robots-Tag:noindex
X-PUBLISHED-TTL:PT1H
BEGIN:VTIMEZONE
TZID:America/New_York
BEGIN:DAYLIGHT
TZOFFSETFROM:-0500
TZOFFSETTO:-0400
TZNAME:EDT
DTSTART:20240310T070000
END:DAYLIGHT
BEGIN:STANDARD
TZOFFSETFROM:-0400
TZOFFSETTO:-0500
TZNAME:EST
DTSTART:20241103T060000
END:STANDARD
BEGIN:DAYLIGHT
TZOFFSETFROM:-0500
TZOFFSETTO:-0400
TZNAME:EDT
DTSTART:20250309T070000
END:DAYLIGHT
BEGIN:STANDARD
TZOFFSETFROM:-0400
TZOFFSETTO:-0500
TZNAME:EST
DTSTART:20251102T060000
END:STANDARD
BEGIN:DAYLIGHT
TZOFFSETFROM:-0500
TZOFFSETTO:-0400
TZNAME:EDT
DTSTART:20260308T070000
END:DAYLIGHT
BEGIN:STANDARD
TZOFFSETFROM:-0400
TZOFFSETTO:-0500
TZNAME:EST
DTSTART:20261101T060000
END:STANDARD
END:VTIMEZONE
BEGIN:VEVENT
DTSTART;TZID=America/New_York:20251029T133000
DTEND;TZID=America/New_York:20251029T153000
DTSTAMP:20260420T044124
CREATED:20251008T173223Z
LAST-MODIFIED:20251216T063538Z
UID:10023940-1761744600-1761751800@hartforduu.org
SUMMARY:Connection Circles - David's Den
DESCRIPTION:
URL:https://hartforduu.org/event/connection-circles-david-den/2025-10-29/
END:VEVENT
BEGIN:VEVENT
DTSTART;TZID=America/New_York:20251029T190000
DTEND;TZID=America/New_York:20251029T210000
DTSTAMP:20260420T044124
CREATED:20251008T165635Z
LAST-MODIFIED:20251014T003214Z
UID:10023937-1761764400-1761771600@hartforduu.org
SUMMARY:Halloween Howl - Pumpkin Decorating and Poetry - Fellowship Hall
DESCRIPTION:Bring your pumpkins & your poems to Fellowship Hall on Wednesday night\, October 29 from 7-9 pm for an evening of spirited Halloween fun! Spooky potluck dishes are welcome and costumes are optional as we carve jack-o-lanterns and have a good old-fashioned poetry slam! Bring original poems or your old favorites. We’ll have Mad Libs-style poetry prompts for kids and adults with acrostics challenges and festive games. It’ll be a boo-tiful night for pumpkins and a real monster mash-up of poetry!
URL:https://hartforduu.org/event/halloween-howl-pumpkin-decorating-and-poetry-fellowship-hall/
ATTACH;FMTTYPE=image/png:https://hartforduu.org/wp-content/uploads/2025/02/for-website-images-on-home-page-10.png
END:VEVENT
END:VCALENDAR