BEGIN:VCALENDAR
VERSION:2.0
PRODID:-//Unitarian Society of Hartford - ECPv6.15.18//NONSGML v1.0//EN
CALSCALE:GREGORIAN
METHOD:PUBLISH
X-ORIGINAL-URL:https://hartforduu.org
X-WR-CALDESC:Events for Unitarian Society of Hartford
REFRESH-INTERVAL;VALUE=DURATION:PT1H
X-Robots-Tag:noindex
X-PUBLISHED-TTL:PT1H
BEGIN:VTIMEZONE
TZID:America/New_York
BEGIN:DAYLIGHT
TZOFFSETFROM:-0500
TZOFFSETTO:-0400
TZNAME:EDT
DTSTART:20240310T070000
END:DAYLIGHT
BEGIN:STANDARD
TZOFFSETFROM:-0400
TZOFFSETTO:-0500
TZNAME:EST
DTSTART:20241103T060000
END:STANDARD
BEGIN:DAYLIGHT
TZOFFSETFROM:-0500
TZOFFSETTO:-0400
TZNAME:EDT
DTSTART:20250309T070000
END:DAYLIGHT
BEGIN:STANDARD
TZOFFSETFROM:-0400
TZOFFSETTO:-0500
TZNAME:EST
DTSTART:20251102T060000
END:STANDARD
BEGIN:DAYLIGHT
TZOFFSETFROM:-0500
TZOFFSETTO:-0400
TZNAME:EDT
DTSTART:20260308T070000
END:DAYLIGHT
BEGIN:STANDARD
TZOFFSETFROM:-0400
TZOFFSETTO:-0500
TZNAME:EST
DTSTART:20261101T060000
END:STANDARD
END:VTIMEZONE
BEGIN:VEVENT
DTSTART;TZID=America/New_York:20251024T130000
DTEND;TZID=America/New_York:20251024T150000
DTSTAMP:20260420T095508
CREATED:20250819T172955Z
LAST-MODIFIED:20250907T042436Z
UID:10021932-1761310800-1761318000@hartforduu.org
SUMMARY:ON HOLD\, No Mtgs - Genealogy Group
DESCRIPTION:Meetings are currently on hold. If you are interested in learning more\, contact Laura Cipriano \n  \nAre you interested in genealogy? You are welcome to join us wherever you are in your search\, expert or a beginner or anywhere in between. Bring a laptop or a tablet if you want to open the websites\, or just come to watch\, listen\, and help out. A notebook and a few names\, dates\, and locations is a great way to begin. Each month we will explore a different way to use free technology to learn more about your family history. Meet in the USH Library. \nContact Larry Lunden or Laura Cipriano for more information.
URL:https://hartforduu.org/event/genealogy-group-2-2/2025-10-24/
LOCATION:Libary/David’s Den
END:VEVENT
BEGIN:VEVENT
DTSTART;TZID=America/New_York:20251024T130000
DTEND;TZID=America/New_York:20251024T150000
DTSTAMP:20260420T095508
CREATED:20250820T160223Z
LAST-MODIFIED:20260203T062159Z
UID:10025083-1761310800-1761318000@hartforduu.org
SUMMARY:Hands & Hearts Group - ON HOLD
DESCRIPTION:Welcome all Creative Spirits and Crafters to the new\, weekly group ‘Hands & Hearts’ on Friday afternoons from 3-5pm in Murray. Many of us already know the kind of meditative solace and cadent creativity that working with your hands can offer. This group is an opportunity to talk\, share\, relate\, and relax as we work on our projects together. Bring your knitting\, crochet work\, sewing\, quilting\, hooking\, (any kind of handwork you enjoy)\, as well as your news\, your thoughts\, your worries\, and whatever’s on your mind. There will always be available supplies in our ‘fiber library’ if you’d like to start a new project\, or try something new. If you are not a crafter but would love the camaraderie and the chance to meet new friends\, you are very welcome. \n  \nFor more information\, please contact Deana
URL:https://hartforduu.org/event/hands-hearts-group-murray-2-5/2025-10-24/
END:VEVENT
BEGIN:VEVENT
DTSTART;TZID=America/New_York:20251024T190000
DTEND;TZID=America/New_York:20251024T213000
DTSTAMP:20260420T095508
CREATED:20250819T182046Z
LAST-MODIFIED:20250826T224930Z
UID:10023021-1761332400-1761341400@hartforduu.org
SUMMARY:Grains of Sand - Special preview screening followed by Q&A with the director\, Sarah Gross\, in person.
DESCRIPTION:Suggested $10 donation requested. \nFilmed over eight years\, Grains of Sand accompanies the filmmakers mother and mother-in-law\, artists and close friends\, as they enter their ninth decade. Through conversation\, memories and artwork\, along with reflections by the filmmaker herself\, they create together this positive\, different kind of coming-of-age story. \nMargot and Barbara\, close friends and artists\, and the directors mother & mother-in-law\, meet for a work retreat in a stone farmhouse in the German countryside. They are both on the cusp of their ninth decade. As they begin to work on the large stones they have brought to sculpt\, they embark on a conversation about creativity and aging\, exploring what it means for them to arrive at this stage of their lives. Their wrinkled hands become dusty as they scrape and chisel the stones. \nMargot was born in England and now lives in San Francisco with her husband of over 60 years. In her studio she reflects on the struggle it took for her to maintain her painting practice as she navigated expectations as a wife and mother. She visits the gravesite she and her husband have chosen outside the city. On green sloping hills of the burial grounds\, Margot imagines how it will be to live alone if Peter dies first. \nIn her studio in Hamburg\, mother-in-law Barbara explains how after her divorce she didnt have much money. She found a way to support herself with a part time job so that she would have time to paint every day. She hopes she can continue painting until her very last gasp. Barbara shares an apartment with her second husband\, and observes how their relationship is changing now that they are approaching 80.
URL:https://hartforduu.org/event/movie/
LOCATION:Fellowship Hall\, kitchen and lower level classrooms.
END:VEVENT
END:VCALENDAR