BEGIN:VCALENDAR
VERSION:2.0
PRODID:-//Unitarian Society of Hartford - ECPv6.15.18//NONSGML v1.0//EN
CALSCALE:GREGORIAN
METHOD:PUBLISH
X-WR-CALNAME:Unitarian Society of Hartford
X-ORIGINAL-URL:https://hartforduu.org
X-WR-CALDESC:Events for Unitarian Society of Hartford
REFRESH-INTERVAL;VALUE=DURATION:PT1H
X-Robots-Tag:noindex
X-PUBLISHED-TTL:PT1H
BEGIN:VTIMEZONE
TZID:America/New_York
BEGIN:DAYLIGHT
TZOFFSETFROM:-0500
TZOFFSETTO:-0400
TZNAME:EDT
DTSTART:20240310T070000
END:DAYLIGHT
BEGIN:STANDARD
TZOFFSETFROM:-0400
TZOFFSETTO:-0500
TZNAME:EST
DTSTART:20241103T060000
END:STANDARD
BEGIN:DAYLIGHT
TZOFFSETFROM:-0500
TZOFFSETTO:-0400
TZNAME:EDT
DTSTART:20250309T070000
END:DAYLIGHT
BEGIN:STANDARD
TZOFFSETFROM:-0400
TZOFFSETTO:-0500
TZNAME:EST
DTSTART:20251102T060000
END:STANDARD
BEGIN:DAYLIGHT
TZOFFSETFROM:-0500
TZOFFSETTO:-0400
TZNAME:EDT
DTSTART:20260308T070000
END:DAYLIGHT
BEGIN:STANDARD
TZOFFSETFROM:-0400
TZOFFSETTO:-0500
TZNAME:EST
DTSTART:20261101T060000
END:STANDARD
END:VTIMEZONE
BEGIN:VEVENT
DTSTART;TZID=America/New_York:20251002T160000
DTEND;TZID=America/New_York:20251002T170000
DTSTAMP:20260420T053843
CREATED:20251001T134541Z
LAST-MODIFIED:20251001T134541Z
UID:10023911-1759420800-1759424400@hartforduu.org
SUMMARY:Spiritual Leaders Group - Library/Servetus
DESCRIPTION:
URL:https://hartforduu.org/event/spiritual-leaders-group-library-servetus/2025-10-02/
END:VEVENT
BEGIN:VEVENT
DTSTART;TZID=America/New_York:20251002T180000
DTEND;TZID=America/New_York:20251002T190000
DTSTAMP:20260420T053843
CREATED:20250803T004638Z
LAST-MODIFIED:20251208T162505Z
UID:10022413-1759428000-1759431600@hartforduu.org
SUMMARY:Chapel Evening Vespers - Chapel
DESCRIPTION:
URL:https://hartforduu.org/event/chapel-evening-vespers-chapel-4/2025-10-02/
END:VEVENT
BEGIN:VEVENT
DTSTART;TZID=America/New_York:20251002T190000
DTEND;TZID=America/New_York:20251002T203000
DTSTAMP:20260420T053843
CREATED:20250212T090113Z
LAST-MODIFIED:20250325T234024Z
UID:10019196-1759431600-1759437000@hartforduu.org
SUMMARY:Men's Group - David's Den
DESCRIPTION:The men’s group wants to open up the group to new members. We meet on the first Thursday of the month. Please contact Jim Landis at \njimlandis@aol.com for more information. All are welcome!
URL:https://hartforduu.org/event/mens-group-davids-den/2025-10-02/
END:VEVENT
BEGIN:VEVENT
DTSTART;TZID=America/New_York:20251002T190000
DTEND;TZID=America/New_York:20251002T203000
DTSTAMP:20260420T053843
CREATED:20250713T153142Z
LAST-MODIFIED:20250713T153142Z
UID:10022201-1759431600-1759437000@hartforduu.org
SUMMARY:HGMC Pick up Rehearsal - Fellowship Hall/Chapel
DESCRIPTION:
URL:https://hartforduu.org/event/hgmc-pick-up-rehearsal-fellowship-hall-chapel/2025-10-02/
END:VEVENT
END:VCALENDAR