BEGIN:VCALENDAR
VERSION:2.0
PRODID:-//Unitarian Society of Hartford - ECPv6.15.18//NONSGML v1.0//EN
CALSCALE:GREGORIAN
METHOD:PUBLISH
X-ORIGINAL-URL:https://hartforduu.org
X-WR-CALDESC:Events for Unitarian Society of Hartford
REFRESH-INTERVAL;VALUE=DURATION:PT1H
X-Robots-Tag:noindex
X-PUBLISHED-TTL:PT1H
BEGIN:VTIMEZONE
TZID:America/New_York
BEGIN:DAYLIGHT
TZOFFSETFROM:-0500
TZOFFSETTO:-0400
TZNAME:EDT
DTSTART:20240310T070000
END:DAYLIGHT
BEGIN:STANDARD
TZOFFSETFROM:-0400
TZOFFSETTO:-0500
TZNAME:EST
DTSTART:20241103T060000
END:STANDARD
BEGIN:DAYLIGHT
TZOFFSETFROM:-0500
TZOFFSETTO:-0400
TZNAME:EDT
DTSTART:20250309T070000
END:DAYLIGHT
BEGIN:STANDARD
TZOFFSETFROM:-0400
TZOFFSETTO:-0500
TZNAME:EST
DTSTART:20251102T060000
END:STANDARD
BEGIN:DAYLIGHT
TZOFFSETFROM:-0500
TZOFFSETTO:-0400
TZNAME:EDT
DTSTART:20260308T070000
END:DAYLIGHT
BEGIN:STANDARD
TZOFFSETFROM:-0400
TZOFFSETTO:-0500
TZNAME:EST
DTSTART:20261101T060000
END:STANDARD
END:VTIMEZONE
BEGIN:VEVENT
DTSTART;TZID=America/New_York:20250922T100000
DTEND;TZID=America/New_York:20250922T110000
DTSTAMP:20260420T070252
CREATED:20250804T230148Z
LAST-MODIFIED:20260203T060141Z
UID:10022432-1758535200-1758538800@hartforduu.org
SUMMARY:Gentle Yoga - Meditation Sanctuary
DESCRIPTION:Gentle Yoga\, Monday Mornings at 10 \nGentle Yoga meets weekly on Monday mornings\, in the Meditation rooms. Led by experienced yoga practitioner and teacher LU Giammatteo\, these hour-long sessions incorporate gentle stretching and strengthening positions and movements in a supportive\, encouraging environment. Stand or sit\, according to your preference and ability… all levels are welcome. \nIf you’d like to learn more before showing up\, email LU with your questions. \nParticipants are asked to donate $5 per session (proceeds to USH) if their situation allows.
URL:https://hartforduu.org/event/gentle-yoga-meditation-sanctuary-2/2025-09-22/
END:VEVENT
BEGIN:VEVENT
DTSTART;TZID=America/New_York:20250922T183000
DTEND;TZID=America/New_York:20250922T203000
DTSTAMP:20260420T070252
CREATED:20250814T223901Z
LAST-MODIFIED:20250814T224339Z
UID:10022260-1758565800-1758573000@hartforduu.org
SUMMARY:Board Meeting - Library
DESCRIPTION:USH Board Meeting\nFourth Monday of each month\, 6:30 – 8:30 p.m. (If a holiday\, the meeting will be held on the following Tuesday)\nIn-person in the Library and on Zoom\nBoard meetings are public and all are welcome to attend. \nJoin Zoom Meeting \nhttps://us02web.zoom.us/j/81272126940 \nMeeting ID: 812 721 26940
URL:https://hartforduu.org/event/board-meeting-library-3/2025-09-22/
LOCATION:David’s Den/Library
END:VEVENT
BEGIN:VEVENT
DTSTART;TZID=America/New_York:20250922T190000
DTEND;TZID=America/New_York:20250922T213000
DTSTAMP:20260420T070252
CREATED:20250713T152626Z
LAST-MODIFIED:20250904T153212Z
UID:10022134-1758567600-1758576600@hartforduu.org
SUMMARY:Hartford Gay Men's Chorus (HGMC) Rehearsal - Chapel and Fellowship Hall
DESCRIPTION:
URL:https://hartforduu.org/event/hgmc-rehearsal-small-chapel-and-fellowship-hall-2/2025-09-22/
END:VEVENT
END:VCALENDAR