BEGIN:VCALENDAR
VERSION:2.0
PRODID:-//Unitarian Society of Hartford - ECPv6.15.18//NONSGML v1.0//EN
CALSCALE:GREGORIAN
METHOD:PUBLISH
X-WR-CALNAME:Unitarian Society of Hartford
X-ORIGINAL-URL:https://hartforduu.org
X-WR-CALDESC:Events for Unitarian Society of Hartford
REFRESH-INTERVAL;VALUE=DURATION:PT1H
X-Robots-Tag:noindex
X-PUBLISHED-TTL:PT1H
BEGIN:VTIMEZONE
TZID:America/New_York
BEGIN:DAYLIGHT
TZOFFSETFROM:-0500
TZOFFSETTO:-0400
TZNAME:EDT
DTSTART:20240310T070000
END:DAYLIGHT
BEGIN:STANDARD
TZOFFSETFROM:-0400
TZOFFSETTO:-0500
TZNAME:EST
DTSTART:20241103T060000
END:STANDARD
BEGIN:DAYLIGHT
TZOFFSETFROM:-0500
TZOFFSETTO:-0400
TZNAME:EDT
DTSTART:20250309T070000
END:DAYLIGHT
BEGIN:STANDARD
TZOFFSETFROM:-0400
TZOFFSETTO:-0500
TZNAME:EST
DTSTART:20251102T060000
END:STANDARD
BEGIN:DAYLIGHT
TZOFFSETFROM:-0500
TZOFFSETTO:-0400
TZNAME:EDT
DTSTART:20260308T070000
END:DAYLIGHT
BEGIN:STANDARD
TZOFFSETFROM:-0400
TZOFFSETTO:-0500
TZNAME:EST
DTSTART:20261101T060000
END:STANDARD
END:VTIMEZONE
BEGIN:VEVENT
DTSTART;TZID=America/New_York:20250921T080000
DTEND;TZID=America/New_York:20250921T170000
DTSTAMP:20260420T070132
CREATED:20250804T231043Z
LAST-MODIFIED:20250804T231043Z
UID:10022792-1758441600-1758474000@hartforduu.org
SUMMARY:RE Retreat- Offsite
DESCRIPTION:
URL:https://hartforduu.org/event/re-retreat-offsite/2025-09-21/
END:VEVENT
BEGIN:VEVENT
DTSTART;TZID=America/New_York:20250921T100000
DTEND;TZID=America/New_York:20250921T120000
DTSTAMP:20260420T070132
CREATED:20250804T230834Z
LAST-MODIFIED:20260215T211914Z
UID:10022731-1758448800-1758456000@hartforduu.org
SUMMARY:Youth Soup Sunday
DESCRIPTION:
URL:https://hartforduu.org/event/youth-soup-sunday/2025-09-21/
END:VEVENT
BEGIN:VEVENT
DTSTART;TZID=America/New_York:20250921T113000
DTEND;TZID=America/New_York:20250921T123000
DTSTAMP:20260420T070132
CREATED:20250909T145408Z
LAST-MODIFIED:20250917T151644Z
UID:10023600-1758454200-1758457800@hartforduu.org
SUMMARY:Sun Day Session - Under the Stairs
DESCRIPTION:
URL:https://hartforduu.org/event/sun-day-session-under-the-stairs/
END:VEVENT
BEGIN:VEVENT
DTSTART;TZID=America/New_York:20250921T121500
DTEND;TZID=America/New_York:20250921T134500
DTSTAMP:20260420T070132
CREATED:20250803T002130Z
LAST-MODIFIED:20250907T044001Z
UID:10023586-1758456900-1758462300@hartforduu.org
SUMMARY:Caring Network - Murray
DESCRIPTION:
URL:https://hartforduu.org/event/caring-network-murray-2/2025-09-21/
END:VEVENT
BEGIN:VEVENT
DTSTART;TZID=America/New_York:20250921T140000
DTEND;TZID=America/New_York:20250921T180000
DTSTAMP:20260420T070132
CREATED:20250902T165912Z
LAST-MODIFIED:20250902T165912Z
UID:10023324-1758463200-1758477600@hartforduu.org
SUMMARY:Sathya Sai Center - Fellowship Hall (Rental)
DESCRIPTION:
URL:https://hartforduu.org/event/sathya-sai-center-fellowship-hall-rental/2025-09-21/
END:VEVENT
BEGIN:VEVENT
DTSTART;TZID=America/New_York:20250921T180000
DTEND;TZID=America/New_York:20250921T190000
DTSTAMP:20260420T070132
CREATED:20240703T180456Z
LAST-MODIFIED:20250325T145519Z
UID:10018258-1758477600-1758481200@hartforduu.org
SUMMARY:Recovery Dharma Group- Meditation Sanctuary
DESCRIPTION:
URL:https://hartforduu.org/event/recovery-dharma-group-meditation-sanctuary/2025-09-21/
END:VEVENT
END:VCALENDAR