BEGIN:VCALENDAR
VERSION:2.0
PRODID:-//Unitarian Society of Hartford - ECPv6.15.18//NONSGML v1.0//EN
CALSCALE:GREGORIAN
METHOD:PUBLISH
X-WR-CALNAME:Unitarian Society of Hartford
X-ORIGINAL-URL:https://hartforduu.org
X-WR-CALDESC:Events for Unitarian Society of Hartford
REFRESH-INTERVAL;VALUE=DURATION:PT1H
X-Robots-Tag:noindex
X-PUBLISHED-TTL:PT1H
BEGIN:VTIMEZONE
TZID:America/New_York
BEGIN:DAYLIGHT
TZOFFSETFROM:-0500
TZOFFSETTO:-0400
TZNAME:EDT
DTSTART:20240310T070000
END:DAYLIGHT
BEGIN:STANDARD
TZOFFSETFROM:-0400
TZOFFSETTO:-0500
TZNAME:EST
DTSTART:20241103T060000
END:STANDARD
BEGIN:DAYLIGHT
TZOFFSETFROM:-0500
TZOFFSETTO:-0400
TZNAME:EDT
DTSTART:20250309T070000
END:DAYLIGHT
BEGIN:STANDARD
TZOFFSETFROM:-0400
TZOFFSETTO:-0500
TZNAME:EST
DTSTART:20251102T060000
END:STANDARD
BEGIN:DAYLIGHT
TZOFFSETFROM:-0500
TZOFFSETTO:-0400
TZNAME:EDT
DTSTART:20260308T070000
END:DAYLIGHT
BEGIN:STANDARD
TZOFFSETFROM:-0400
TZOFFSETTO:-0500
TZNAME:EST
DTSTART:20261101T060000
END:STANDARD
END:VTIMEZONE
BEGIN:VEVENT
DTSTART;TZID=America/New_York:20250914T090000
DTEND;TZID=America/New_York:20250914T101500
DTSTAMP:20260420T070108
CREATED:20250907T043816Z
LAST-MODIFIED:20250907T043816Z
UID:10022285-1757840400-1757844900@hartforduu.org
SUMMARY:Building and Grounds Mtg. - Servetus
DESCRIPTION:
URL:https://hartforduu.org/event/building-and-grounds-mtg-servetus-2/
END:VEVENT
BEGIN:VEVENT
DTSTART;TZID=America/New_York:20250914T121500
DTEND;TZID=America/New_York:20250914T134500
DTSTAMP:20260420T070108
CREATED:20250907T044210Z
LAST-MODIFIED:20250907T044210Z
UID:10022325-1757852100-1757857500@hartforduu.org
SUMMARY:NO MEETING * Caring Network
DESCRIPTION:The meeting has moved to September 21.
URL:https://hartforduu.org/event/caring-network-murray-2-2/
END:VEVENT
BEGIN:VEVENT
DTSTART;TZID=America/New_York:20250914T140000
DTEND;TZID=America/New_York:20250914T180000
DTSTAMP:20260420T070108
CREATED:20250902T165912Z
LAST-MODIFIED:20250902T165912Z
UID:10023323-1757858400-1757872800@hartforduu.org
SUMMARY:Sathya Sai Center - Fellowship Hall (Rental)
DESCRIPTION:
URL:https://hartforduu.org/event/sathya-sai-center-fellowship-hall-rental/2025-09-14/
END:VEVENT
BEGIN:VEVENT
DTSTART;TZID=America/New_York:20250914T180000
DTEND;TZID=America/New_York:20250914T190000
DTSTAMP:20260420T070108
CREATED:20240703T180456Z
LAST-MODIFIED:20250325T145519Z
UID:10018257-1757872800-1757876400@hartforduu.org
SUMMARY:Recovery Dharma Group- Meditation Sanctuary
DESCRIPTION:
URL:https://hartforduu.org/event/recovery-dharma-group-meditation-sanctuary/2025-09-14/
END:VEVENT
END:VCALENDAR